- using R version 4.4.3 (2025-02-28 ucrt)
 
- using platform: x86_64-w64-mingw32
 
- R was compiled by
    gcc.exe (GCC) 13.3.0
    GNU Fortran (GCC) 13.3.0
 
- running under: Windows Server 2022 x64 (build 20348)
 
- using session charset: UTF-8
 
- checking for file 'ISwR/DESCRIPTION' ... OK
 
- this is package 'ISwR' version '2.0-11'
 
- checking package namespace information ... OK
 
- checking package dependencies ... OK
 
- checking if this is a source package ... OK
 
- checking if there is a namespace ... OK
 
- checking for hidden files and directories ... OK
 
- checking for portable file names ... OK
 
- checking whether package 'ISwR' can be installed ... OK
See the install log for details.
 
- checking installed package size ... OK
 
- checking package directory ... OK
 
- checking DESCRIPTION meta-information ... OK
 
- checking top-level files ... OK
 
- checking for left-over files ... OK
 
- checking index information ... OK
 
- checking package subdirectories ... OK
 
- checking code files for non-ASCII characters ... OK
 
- checking R files for syntax errors ... OK
 
- checking whether the package can be loaded ... [0s] OK
 
- checking whether the package can be loaded with stated dependencies ... [0s] OK
 
- checking whether the package can be unloaded cleanly ... [0s] OK
 
- checking whether the namespace can be loaded with stated dependencies ... [0s] OK
 
- checking whether the namespace can be unloaded cleanly ... [1s] OK
 
- checking loading without being on the library search path ... [0s] OK
 
- checking use of S3 registration ... OK
 
- checking dependencies in R code ... OK
 
- checking S3 generic/method consistency ... OK
 
- checking replacement functions ... OK
 
- checking foreign function calls ... OK
 
- checking R code for possible problems ... [2s] OK
 
- checking Rd files ... [1s] OK
 
- checking Rd metadata ... OK
 
- checking Rd cross-references ... OK
 
- checking for missing documentation entries ... OK
 
- checking for code/documentation mismatches ... OK
 
- checking Rd \usage sections ... OK
 
- checking Rd contents ... OK
 
- checking for unstated dependencies in examples ... OK
 
- checking contents of 'data' directory ... OK
 
- checking data for non-ASCII characters ... [1s] OK
 
- checking LazyData ... OK
 
- checking data for ASCII and uncompressed saves ... OK
 
- checking examples ... [4s] OK
 
- checking for unstated dependencies in 'tests' ... OK
 
- checking tests ... [12s] OK
  Running 'allexercises.R' [6s]
  Comparing 'allexercises.Rout' to 'allexercises.Rout.save' ... OK
  Running 'allscripts.R' [5s]
  Comparing 'allscripts.Rout' to 'allscripts.Rout.save' ...1806,1807c1806,1807
<   Length    Class     Mode 
<      829 difftime  numeric 
---
>    Min. 1st Qu.  Median    Mean 3rd Qu.    Max.    NA's 
>     0.0     8.0    28.0   225.7   268.5  1836.0     338 
2829c2829
<  Mean   :1.373   Mean   :164326   Mean   :23.00  
---
>  Mean   :1.373   Mean   :164325   Mean   :23.00  
2838c2838
<           Mean   :164326   Mean   :23.00  
---
>           Mean   :164325   Mean   :23.00  
 
- checking PDF version of manual ... [17s] OK
 
- checking HTML version of manual ... [8s] OK
 
- DONE
 
Status: OK