- using R version 4.4.3 (2025-02-28 ucrt)
 
- using platform: x86_64-w64-mingw32
 
- R was compiled by
    gcc.exe (GCC) 13.3.0
    GNU Fortran (GCC) 13.3.0
 
- running under: Windows Server 2022 x64 (build 20348)
 
- using session charset: UTF-8
 
- checking for file 'AOboot/DESCRIPTION' ... OK
 
- checking extension type ... Package
 
- this is package 'AOboot' version '0.1.2'
 
- package encoding: UTF-8
 
- checking package namespace information ... OK
 
- checking package dependencies ... OK
 
- checking if this is a source package ... OK
 
- checking if there is a namespace ... OK
 
- checking for hidden files and directories ... OK
 
- checking for portable file names ... OK
 
- checking whether package 'AOboot' can be installed ... OK
See the install log for details.
 
- checking installed package size ... OK
 
- checking package directory ... OK
 
- checking DESCRIPTION meta-information ... OK
 
- checking top-level files ... OK
 
- checking for left-over files ... OK
 
- checking index information ... OK
 
- checking package subdirectories ... OK
 
- checking code files for non-ASCII characters ... OK
 
- checking R files for syntax errors ... OK
 
- checking whether the package can be loaded ... [4s] OK
 
- checking whether the package can be loaded with stated dependencies ... [5s] OK
 
- checking whether the package can be unloaded cleanly ... [5s] OK
 
- checking whether the namespace can be loaded with stated dependencies ... [4s] OK
 
- checking whether the namespace can be unloaded cleanly ... [5s] OK
 
- checking loading without being on the library search path ... [5s] OK
 
- checking use of S3 registration ... OK
 
- checking dependencies in R code ... OK
 
- checking S3 generic/method consistency ... OK
 
- checking replacement functions ... OK
 
- checking foreign function calls ... OK
 
- checking R code for possible problems ... [19s] OK
 
- checking Rd files ... [1s] OK
 
- checking Rd metadata ... OK
 
- checking Rd cross-references ... OK
 
- checking for missing documentation entries ... OK
 
- checking for code/documentation mismatches ... OK
 
- checking Rd \usage sections ... OK
 
- checking Rd contents ... OK
 
- checking for unstated dependencies in examples ... OK
 
- checking examples ... [6s] OK
 
- checking PDF version of manual ... [17s] OK
 
- checking HTML version of manual ... [2s] OK
 
- DONE
 
Status: OK