- using R version 4.1.3 (2022-03-10)
- using platform: x86_64-w64-mingw32 (64-bit)
- using session charset: ISO8859-1
- using option '--no-vignettes'
- checking for file 'tergm/DESCRIPTION' ... OK
- this is package 'tergm' version '4.0.2'
- package encoding: UTF-8
- checking package namespace information ... OK
- checking package dependencies ... OK
- checking if this is a source package ... OK
- checking if there is a namespace ... OK
- checking for hidden files and directories ... OK
- checking for portable file names ... OK
- checking whether package 'tergm' can be installed ... OK
- checking installed package size ... OK
- checking package directory ... OK
- checking 'build' directory ... OK
- checking DESCRIPTION meta-information ... OK
- checking top-level files ... OK
- checking for left-over files ... OK
- checking index information ... OK
- checking package subdirectories ... OK
- checking R files for non-ASCII characters ... OK
- checking R files for syntax errors ... OK
- loading checks for arch 'i386'
** checking whether the package can be loaded ... OK
** checking whether the package can be loaded with stated dependencies ... OK
** checking whether the package can be unloaded cleanly ... OK
** checking whether the namespace can be loaded with stated dependencies ... OK
** checking whether the namespace can be unloaded cleanly ... OK
** checking loading without being on the library search path ... OK
** checking use of S3 registration ... OK
- loading checks for arch 'x64'
** checking whether the package can be loaded ... OK
** checking whether the package can be loaded with stated dependencies ... OK
** checking whether the package can be unloaded cleanly ... OK
** checking whether the namespace can be loaded with stated dependencies ... OK
** checking whether the namespace can be unloaded cleanly ... OK
** checking loading without being on the library search path ... OK
** checking use of S3 registration ... OK
- checking dependencies in R code ... OK
- checking S3 generic/method consistency ... OK
- checking replacement functions ... OK
- checking foreign function calls ... OK
- checking R code for possible problems ... [23s] OK
- checking Rd files ... [1s] OK
- checking Rd metadata ... OK
- checking Rd cross-references ... OK
- checking for missing documentation entries ... OK
- checking for code/documentation mismatches ... OK
- checking Rd \usage sections ... OK
- checking Rd contents ... OK
- checking for unstated dependencies in examples ... OK
- checking line endings in C/C++/Fortran sources/headers ... OK
- checking pragmas in C/C++ headers and code ... OK
- checking compiled code ... OK
- checking installed files from 'inst/doc' ... OK
- checking files in 'vignettes' ... OK
- checking examples ...
** running examples for arch 'i386' ... [7s] OK
** running examples for arch 'x64' ... [8s] OK
- checking for unstated dependencies in 'tests' ... OK
- checking tests ...
** running tests for arch 'i386' ... [307s] OK
Running 'basic_tests.R' [7s]
Running 'burnin.R' [6s]
Running 'degree.mean.age.R' [13s]
Running 'dynamic_EGMME.R' [0s]
Running 'dynamic_EGMME.simple.R' [70s]
Running 'dynamic_MLE.R' [42s]
Running 'dynamic_MLE_2.R' [38s]
Running 'dynamic_MLE_blockdiag.R' [15s]
Running 'dynamic_MLE_blockdiag.bipartite.R' [9s]
Running 'sim_gf_sum.R' [6s]
Running 'simulate_networkDynamic.R' [7s]
Running 'tergm_offset_tests.R' [0s]
Running 'tergm_parallel.R' [0s]
Running 'testthat.R' [92s]
** running tests for arch 'x64' ... [234s] OK
Running 'basic_tests.R' [5s]
Running 'burnin.R' [3s]
Running 'degree.mean.age.R' [7s]
Running 'dynamic_EGMME.R' [0s]
Running 'dynamic_EGMME.simple.R' [44s]
Running 'dynamic_MLE.R' [29s]
Running 'dynamic_MLE_2.R' [34s]
Running 'dynamic_MLE_blockdiag.R' [12s]
Running 'dynamic_MLE_blockdiag.bipartite.R' [8s]
Running 'sim_gf_sum.R' [6s]
Running 'simulate_networkDynamic.R' [5s]
Running 'tergm_offset_tests.R' [0s]
Running 'tergm_parallel.R' [0s]
Running 'testthat.R' [80s]
- checking for unstated dependencies in vignettes ... OK
- checking package vignettes in 'inst/doc' ... OK
- checking running R code from vignettes ... SKIPPED
- checking re-building of vignette outputs ... SKIPPED
- checking PDF version of manual ... OK
- DONE
Status: OK