- using R version 4.1.3 (2022-03-10)
- using platform: x86_64-w64-mingw32 (64-bit)
- using session charset: ISO8859-1
- checking for file 'spam/DESCRIPTION' ... OK
- checking extension type ... Package
- this is package 'spam' version '2.9-1'
- checking package namespace information ... OK
- checking package dependencies ... OK
- checking if this is a source package ... OK
- checking if there is a namespace ... OK
- checking for hidden files and directories ... OK
- checking for portable file names ... OK
- checking whether package 'spam' can be installed ... OK
- checking installed package size ... OK
- checking package directory ... OK
- checking 'build' directory ... OK
- checking DESCRIPTION meta-information ... OK
- checking top-level files ... OK
- checking for left-over files ... OK
- checking index information ... OK
- checking package subdirectories ... OK
- checking R files for non-ASCII characters ... OK
- checking R files for syntax errors ... OK
- loading checks for arch 'i386'
** checking whether the package can be loaded ... OK
** checking whether the package can be loaded with stated dependencies ... OK
** checking whether the package can be unloaded cleanly ... OK
** checking whether the namespace can be loaded with stated dependencies ... OK
** checking whether the namespace can be unloaded cleanly ... OK
** checking loading without being on the library search path ... OK
** checking use of S3 registration ... OK
- loading checks for arch 'x64'
** checking whether the package can be loaded ... OK
** checking whether the package can be loaded with stated dependencies ... OK
** checking whether the package can be unloaded cleanly ... OK
** checking whether the namespace can be loaded with stated dependencies ... OK
** checking whether the namespace can be unloaded cleanly ... OK
** checking loading without being on the library search path ... OK
** checking use of S3 registration ... OK
- checking dependencies in R code ... OK
- checking S3 generic/method consistency ... OK
- checking replacement functions ... OK
- checking foreign function calls ... OK
- checking R code for possible problems ... [35s] OK
- checking Rd files ... [2s] OK
- checking Rd metadata ... OK
- checking Rd cross-references ... OK
- checking for missing documentation entries ... OK
- checking for code/documentation mismatches ... OK
- checking Rd \usage sections ... OK
- checking Rd contents ... OK
- checking for unstated dependencies in examples ... OK
- checking contents of 'data' directory ... OK
- checking data for non-ASCII characters ... OK
- checking LazyData ... OK
- checking data for ASCII and uncompressed saves ... OK
- checking line endings in C/C++/Fortran sources/headers ... OK
- checking line endings in Makefiles ... OK
- checking compilation flags in Makevars ... OK
- checking for GNU extensions in Makefiles ... OK
- checking for portable use of $(BLAS_LIBS) and $(LAPACK_LIBS) ... OK
- checking use of PKG_*FLAGS in Makefiles ... OK
- checking pragmas in C/C++ headers and code ... OK
- checking compiled code ... OK
- checking sizes of PDF files under 'inst/doc' ... OK
- checking installed files from 'inst/doc' ... OK
- checking files in 'vignettes' ... OK
- checking examples ...
** running examples for arch 'i386' ... [16s] OK
** checking differences from 'spam-Ex_i386.Rout' to 'spam-Ex.Rout.save' ... OK
2426,2428c2426,2427
< Reinhard Furrer, Florian Gerber and Roman Flury (2022). spam: SPArse
< Matrix. R package version 2.9-1.
< https://CRAN.R-project.org/package=spam
---
> Furrer R, Gerber F, Flury R (2022). _spam: SPArse Matrix_. R package
> version 2.9-1, <https://www.math.uzh.ch/pages/spam/>.
2437c2436
< url = {https://CRAN.R-project.org/package=spam},
---
> url = {https://www.math.uzh.ch/pages/spam/},
2439a2439,2440
>
>
2583c2584
< 1.55 Kb).
---
> 2.42 Kb).
** running examples for arch 'x64' ... [18s] OK
** checking differences from 'spam-Ex_x64.Rout' to 'spam-Ex.Rout.save' ... OK
2426,2428c2426,2427
< Reinhard Furrer, Florian Gerber and Roman Flury (2022). spam: SPArse
< Matrix. R package version 2.9-1.
< https://CRAN.R-project.org/package=spam
---
> Furrer R, Gerber F, Flury R (2022). _spam: SPArse Matrix_. R package
> version 2.9-1, <https://www.math.uzh.ch/pages/spam/>.
2437c2436
< url = {https://CRAN.R-project.org/package=spam},
---
> url = {https://www.math.uzh.ch/pages/spam/},
2438a2438,2439
>
>
- checking for unstated dependencies in 'tests' ... OK
- checking tests ...
** running tests for arch 'i386' ... [39s] OK
Running 'demo_cholesky.R' [2s]
Comparing 'demo_cholesky.Rout' to 'demo_cholesky.Rout.save' ... OK
Running 'demo_jss10-example1.R' [3s]
Comparing 'demo_jss10-example1.Rout' to 'demo_jss10-example1.Rout.save' ... OK
Running 'demo_jss10-figures-table.R' [9s]
Comparing 'demo_jss10-figures-table.Rout' to 'demo_jss10-figures-table.Rout.save' ... OK
Running 'demo_jss15-BYM.R' [3s]
Comparing 'demo_jss15-BYM.Rout' to 'demo_jss15-BYM.Rout.save' ... OK
Running 'demo_jss15-Leroux.R' [4s]
Comparing 'demo_jss15-Leroux.Rout' to 'demo_jss15-Leroux.Rout.save' ... OK
Running 'demo_spam.R' [2s]
Comparing 'demo_spam.Rout' to 'demo_spam.Rout.save' ... OK
Running 'demo_timing.R' [3s]
Comparing 'demo_timing.Rout' to 'demo_timing.Rout.save' ... OK
Running 'jss_areal_counts.R' [3s]
Comparing 'jss_areal_counts.Rout' to 'jss_areal_counts.Rout.save' ... OK
Running 'testthat.R' [11s]
Comparing 'testthat.Rout' to 'testthat.Rout.save' ...32,33c32,33
< == Skipped tests ===============================================================
< * empty test (1)
---
> â â Skipped tests â â â â â â â â â â â â â â â â â â â â â â â â â â â â â â â â â â â â â â â â â â â â â â â â â â â â â â â â â â â â â â â
> â ¢ empty test (1)
** running tests for arch 'x64' ... [41s] OK
Running 'demo_cholesky.R' [2s]
Comparing 'demo_cholesky.Rout' to 'demo_cholesky.Rout.save' ... OK
Running 'demo_jss10-example1.R' [3s]
Comparing 'demo_jss10-example1.Rout' to 'demo_jss10-example1.Rout.save' ... OK
Running 'demo_jss10-figures-table.R' [9s]
Comparing 'demo_jss10-figures-table.Rout' to 'demo_jss10-figures-table.Rout.save' ... OK
Running 'demo_jss15-BYM.R' [3s]
Comparing 'demo_jss15-BYM.Rout' to 'demo_jss15-BYM.Rout.save' ... OK
Running 'demo_jss15-Leroux.R' [4s]
Comparing 'demo_jss15-Leroux.Rout' to 'demo_jss15-Leroux.Rout.save' ... OK
Running 'demo_spam.R' [2s]
Comparing 'demo_spam.Rout' to 'demo_spam.Rout.save' ... OK
Running 'demo_timing.R' [3s]
Comparing 'demo_timing.Rout' to 'demo_timing.Rout.save' ... OK
Running 'jss_areal_counts.R' [3s]
Comparing 'jss_areal_counts.Rout' to 'jss_areal_counts.Rout.save' ... OK
Running 'testthat.R' [12s]
Comparing 'testthat.Rout' to 'testthat.Rout.save' ...32,33c32,33
< == Skipped tests ===============================================================
< * empty test (1)
---
> â â Skipped tests â â â â â â â â â â â â â â â â â â â â â â â â â â â â â â â â â â â â â â â â â â â â â â â â â â â â â â â â â â â â â â â
> â ¢ empty test (1)
- checking for unstated dependencies in vignettes ... OK
- checking package vignettes in 'inst/doc' ... OK
- checking re-building of vignette outputs ... [20s] OK
- checking PDF version of manual ... OK
- DONE
Status: OK