- using R version 3.6.3 (2020-02-29)
- using platform: x86_64-w64-mingw32 (64-bit)
- using session charset: ISO8859-1
- checking for file 'rrlda/DESCRIPTION' ... OK
- checking extension type ... Package
- this is package 'rrlda' version '1.1'
- checking package namespace information ... OK
- checking package dependencies ... OK
- checking if this is a source package ... OK
- checking if there is a namespace ... OK
- checking for hidden files and directories ... OK
- checking for portable file names ... OK
- checking whether package 'rrlda' can be installed ... OK
- checking installed package size ... OK
- checking package directory ... OK
- checking DESCRIPTION meta-information ... OK
- checking top-level files ... OK
- checking for left-over files ... OK
- checking index information ... OK
- checking package subdirectories ... OK
- checking R files for non-ASCII characters ... OK
- checking R files for syntax errors ... OK
- checking whether the package can be loaded ... OK
- checking whether the package can be loaded with stated dependencies ... OK
- checking whether the package can be unloaded cleanly ... OK
- checking whether the namespace can be loaded with stated dependencies ... OK
- checking whether the namespace can be unloaded cleanly ... OK
- checking loading without being on the library search path ... OK
- checking use of S3 registration ... OK
- checking dependencies in R code ... NOTE
Packages in Depends field not imported from:
'glasso' 'matrixcalc' 'mvoutlier' 'pcaPP'
These packages need to be imported from (in the NAMESPACE file)
for when this namespace is loaded but not attached.
- checking S3 generic/method consistency ... OK
- checking replacement functions ... OK
- checking foreign function calls ... OK
- checking R code for possible problems ... [9s] NOTE
rrest: no visible binding for global variable 'glasso'
rrest: no visible global function definition for 'pcout'
rrest: no visible global function definition for 'var'
rrest: no visible global function definition for 'mahalanobis'
rrlda : centerObservations: no visible global function definition for
'l1median_NLM'
rrlda : df.L2glasso: no visible global function definition for
'duplication.matrix'
rrlda : alt.df.L2glasso: no visible global function definition for
'lower.triangle'
Undefined global functions or variables:
duplication.matrix glasso l1median_NLM lower.triangle mahalanobis
pcout var
Consider adding
importFrom("stats", "mahalanobis", "var")
to your NAMESPACE file.
- checking Rd files ... OK
- checking Rd metadata ... OK
- checking Rd cross-references ... OK
- checking for missing documentation entries ... OK
- checking for code/documentation mismatches ... OK
- checking Rd \usage sections ... OK
- checking Rd contents ... OK
- checking for unstated dependencies in examples ... OK
- checking examples ... [7s] OK
- checking PDF version of manual ... OK
- DONE
Status: 2 NOTEs