- using R version 3.5.3 (2019-03-11)
- using platform: x86_64-w64-mingw32 (64-bit)
- using session charset: ISO8859-1
- checking for file 'rgdal/DESCRIPTION' ... OK
- this is package 'rgdal' version '1.4-8'
- checking package namespace information ... OK
- checking package dependencies ... OK
- checking if this is a source package ... OK
- checking if there is a namespace ... OK
- checking for hidden files and directories ... OK
- checking for portable file names ... OK
- checking whether package 'rgdal' can be installed ... OK
- checking installed package size ... NOTE
installed size is 80.3Mb
sub-directories of 1Mb or more:
gdal 3.9Mb
libs 68.7Mb
pictures 1.3Mb
proj 5.0Mb
- checking package directory ... OK
- checking 'build' directory ... OK
- checking DESCRIPTION meta-information ... OK
- checking top-level files ... OK
- checking for left-over files ... OK
- checking index information ... OK
- checking package subdirectories ... OK
- checking R files for non-ASCII characters ... OK
- checking R files for syntax errors ... OK
- loading checks for arch 'i386'
- checking whether the package can be loaded ... OK
- checking whether the package can be loaded with stated dependencies ... OK
- checking whether the package can be unloaded cleanly ... OK
- checking whether the namespace can be loaded with stated dependencies ... OK
- checking whether the namespace can be unloaded cleanly ... OK
- checking loading without being on the library search path ... OK
- checking use of S3 registration ... OK
- loading checks for arch 'x64'
- checking whether the package can be loaded ... OK
- checking whether the package can be loaded with stated dependencies ... OK
- checking whether the package can be unloaded cleanly ... OK
- checking whether the namespace can be loaded with stated dependencies ... OK
- checking whether the namespace can be unloaded cleanly ... OK
- checking loading without being on the library search path ... OK
- checking use of S3 registration ... OK
- checking dependencies in R code ... OK
- checking S3 generic/method consistency ... OK
- checking replacement functions ... OK
- checking foreign function calls ... OK
- checking R code for possible problems ... [14s] OK
- checking Rd files ... OK
- checking Rd metadata ... OK
- checking Rd cross-references ... OK
- checking for missing documentation entries ... OK
- checking for code/documentation mismatches ... OK
- checking Rd \usage sections ... OK
- checking Rd contents ... OK
- checking for unstated dependencies in examples ... OK
- checking contents of 'data' directory ... OK
- checking data for non-ASCII characters ... OK
- checking data for ASCII and uncompressed saves ... OK
- checking line endings in shell scripts ... OK
- checking line endings in C/C++/Fortran sources/headers ... OK
- checking line endings in Makefiles ... OK
- checking compilation flags in Makevars ... OK
- checking for GNU extensions in Makefiles ... OK
- checking for portable use of $(BLAS_LIBS) and $(LAPACK_LIBS) ... OK
- checking pragmas in C/C++ headers and code ... OK
- checking compiled code ... OK
- checking sizes of PDF files under 'inst/doc' ... OK
- checking installed files from 'inst/doc' ... OK
- checking files in 'vignettes' ... OK
- checking examples ...
- running examples for arch 'i386' ... [22s] OK
- running examples for arch 'x64' ... [22s] OK
- checking for unstated dependencies in 'tests' ... OK
- checking tests ...
- running tests for arch 'i386' ... [14s] OK
Running 'srs_rendering.R' [1s]
Comparing 'srs_rendering.Rout' to 'srs_rendering.Rout.save' ...5c5
< [1] "Rel. 4.9.3, 15 August 2016, [PJ_VERSION: 493]"
---
> [1] "Rel. 6.0.0, March 1st, 2019, [PJ_VERSION: 600]"
7c7
< [1] "GDAL 2.2.3, released 2017/11/20"
---
> [1] "GDAL 2.4.0, released 2018/12/14"
11,12c11,12
< cities
< "+proj=longlat +datum=WGS84 +no_defs "
---
> trin_inca_pl03
> NA
14a15,16
> cities
> "+proj=longlat +datum=WGS84 +no_defs "
16,18c18
< "+proj=tmerc +lat_0=49 +lon_0=-2 +k=0.9996012717 +x_0=400000 +y_0=-100000 +datum=OSGB36 +units=m +no_defs "
< trin_inca_pl03
< NA
---
> "+proj=tmerc +lat_0=49 +lon_0=-2 +k=0.9996012717 +x_0=400000 +y_0=-100000 +ellps=airy +towgs84=446.448,-125.157,542.06,0.15,0.247,0.842,-20.489 +units=m +no_defs "
28c28
< [1] "+proj=lcc +lat_1=45.898918964419 +lat_2=47.696014502038 +lat_0=46.8 +lon_0=0 +x_0=600000 +y_0=2200000 +a=6378249.2 +b=6356515.000000472 +towgs84=-168,-60,320,0,0,0,0 +pm=paris +units=m +no_defs "
---
> [1] "+proj=lcc +lat_1=46.8 +lat_0=46.8 +lon_0=0 +k_0=0.9998774200000193 +x_0=600000 +y_0=2200000.000000325 +a=6378249.2 +b=6356515.000000472 +towgs84=-168,-60,320,0,0,0,0 +pm=paris +units=m +no_defs "
Running 'test_proj.R' [2s]
Comparing 'test_proj.Rout' to 'test_proj.Rout.save' ... OK
Running 'tests.R' [2s]
Comparing 'tests.Rout' to 'tests.Rout.save' ... OK
Running 'tripup.R' [8s]
Comparing 'tripup.Rout' to 'tripup.Rout.save' ...266,267c266,267
< coords FALSE
< holes FALSE
---
> coords TRUE
> holes TRUE
273,274c273,274
< coords FALSE
< holes FALSE
---
> coords TRUE
> holes TRUE
- running tests for arch 'x64' ... [14s] OK
Running 'srs_rendering.R' [1s]
Comparing 'srs_rendering.Rout' to 'srs_rendering.Rout.save' ...5c5
< [1] "Rel. 4.9.3, 15 August 2016, [PJ_VERSION: 493]"
---
> [1] "Rel. 6.0.0, March 1st, 2019, [PJ_VERSION: 600]"
7c7
< [1] "GDAL 2.2.3, released 2017/11/20"
---
> [1] "GDAL 2.4.0, released 2018/12/14"
11,12c11,12
< cities
< "+proj=longlat +datum=WGS84 +no_defs "
---
> trin_inca_pl03
> NA
14a15,16
> cities
> "+proj=longlat +datum=WGS84 +no_defs "
16,18c18
< "+proj=tmerc +lat_0=49 +lon_0=-2 +k=0.9996012717 +x_0=400000 +y_0=-100000 +datum=OSGB36 +units=m +no_defs "
< trin_inca_pl03
< NA
---
> "+proj=tmerc +lat_0=49 +lon_0=-2 +k=0.9996012717 +x_0=400000 +y_0=-100000 +ellps=airy +towgs84=446.448,-125.157,542.06,0.15,0.247,0.842,-20.489 +units=m +no_defs "
28c28
< [1] "+proj=lcc +lat_1=45.898918964419 +lat_2=47.696014502038 +lat_0=46.8 +lon_0=0 +x_0=600000 +y_0=2200000 +a=6378249.2 +b=6356515.000000472 +towgs84=-168,-60,320,0,0,0,0 +pm=paris +units=m +no_defs "
---
> [1] "+proj=lcc +lat_1=46.8 +lat_0=46.8 +lon_0=0 +k_0=0.9998774200000193 +x_0=600000 +y_0=2200000.000000325 +a=6378249.2 +b=6356515.000000472 +towgs84=-168,-60,320,0,0,0,0 +pm=paris +units=m +no_defs "
Running 'test_proj.R' [1s]
Comparing 'test_proj.Rout' to 'test_proj.Rout.save' ... OK
Running 'tests.R' [2s]
Comparing 'tests.Rout' to 'tests.Rout.save' ... OK
Running 'tripup.R' [9s]
Comparing 'tripup.Rout' to 'tripup.Rout.save' ...266,267c266,267
< coords FALSE
< holes FALSE
---
> coords TRUE
> holes TRUE
273,274c273,274
< coords FALSE
< holes FALSE
---
> coords TRUE
> holes TRUE
- checking for unstated dependencies in vignettes ... OK
- checking package vignettes in 'inst/doc' ... OK
- checking re-building of vignette outputs ... [11s] OK
- checking PDF version of manual ... OK
- DONE
Status: 1 NOTE