- using R version 3.6.3 (2020-02-29)
- using platform: x86_64-w64-mingw32 (64-bit)
- using session charset: ISO8859-1
- checking for file 'plm/DESCRIPTION' ... OK
- this is package 'plm' version '2.4-0'
- package encoding: UTF-8
- checking package namespace information ... OK
- checking package dependencies ... OK
- checking if this is a source package ... OK
- checking if there is a namespace ... OK
- checking for hidden files and directories ... OK
- checking for portable file names ... OK
- checking whether package 'plm' can be installed ... OK
- checking installed package size ... OK
- checking package directory ... OK
- checking 'build' directory ... OK
- checking DESCRIPTION meta-information ... OK
- checking top-level files ... OK
- checking for left-over files ... OK
- checking index information ... OK
- checking package subdirectories ... OK
- checking R files for non-ASCII characters ... OK
- checking R files for syntax errors ... OK
- checking whether the package can be loaded ... OK
- checking whether the package can be loaded with stated dependencies ... OK
- checking whether the package can be unloaded cleanly ... OK
- checking whether the namespace can be loaded with stated dependencies ... OK
- checking whether the namespace can be unloaded cleanly ... OK
- checking loading without being on the library search path ... OK
- checking use of S3 registration ... OK
- checking dependencies in R code ... OK
- checking S3 generic/method consistency ... OK
- checking replacement functions ... OK
- checking foreign function calls ... OK
- checking R code for possible problems ... [34s] OK
- checking Rd files ... OK
- checking Rd metadata ... OK
- checking Rd cross-references ... OK
- checking for missing documentation entries ... OK
- checking for code/documentation mismatches ... OK
- checking Rd \usage sections ... OK
- checking Rd contents ... OK
- checking for unstated dependencies in examples ... OK
- checking contents of 'data' directory ... OK
- checking data for non-ASCII characters ... OK
- checking data for ASCII and uncompressed saves ... OK
- checking installed files from 'inst/doc' ... OK
- checking files in 'vignettes' ... OK
- checking examples ... [26s] OK
- checking differences from 'plm-Ex.Rout' to 'plm-Ex.Rout.save' ... OK
- checking for unstated dependencies in 'tests' ... OK
- checking tests ... [125s] OK
Running 'test_Chow.R' [2s]
Comparing 'test_Chow.Rout' to 'test_Chow.Rout.save' ... OK
Running 'test_Errors.R' [1s]
Comparing 'test_Errors.Rout' to 'test_Errors.Rout.save' ... OK
Running 'test_Estimators.R' [6s]
Comparing 'test_Estimators.Rout' to 'test_Estimators.Rout.save' ... OK
Running 'test_Evaluation.R' [1s]
Comparing 'test_Evaluation.Rout' to 'test_Evaluation.Rout.save' ... OK
Running 'test_FD_models.R' [1s]
Comparing 'test_FD_models.Rout' to 'test_FD_models.Rout.save' ... OK
Running 'test_IV.R' [5s]
Comparing 'test_IV.Rout' to 'test_IV.Rout.save' ... OK
Running 'test_R2_adj_R2.R' [1s]
Running 'test_as.data.frame_as.matrix.R' [1s]
Running 'test_as.list.pdata.frame.R' [1s]
Running 'test_cipstest.R' [5s]
Comparing 'test_cipstest.Rout' to 'test_cipstest.Rout.save' ... OK
Running 'test_clubSandwich_interoperability.R' [0s]
Running 'test_detect_lin_dep_alias.R' [2s]
Running 'test_fitted.plm.R' [1s]
Running 'test_fixef.R' [1s]
Comparing 'test_fixef.Rout' to 'test_fixef.Rout.save' ... OK
Running 'test_fixef2.R' [1s]
Comparing 'test_fixef2.Rout' to 'test_fixef2.Rout.save' ... OK
Running 'test_fixef_comp_lm_plm.R' [1s]
Comparing 'test_fixef_comp_lm_plm.Rout' to 'test_fixef_comp_lm_plm.Rout.save' ... OK
Running 'test_groupGenerics_pseries.R' [1s]
Comparing 'test_groupGenerics_pseries.Rout' to 'test_groupGenerics_pseries.Rout.save' ... OK
Running 'test_is.pconsecutive.R' [1s]
Running 'test_lag_lead.R' [1s]
Comparing 'test_lag_lead.Rout' to 'test_lag_lead.Rout.save' ... OK
Running 'test_lagt_leadt.R' [1s]
Comparing 'test_lagt_leadt.Rout' to 'test_lagt_leadt.Rout.save' ... OK
Running 'test_make.pconsecutive_pbalanced.R' [2s]
Running 'test_misc.R' [2s]
Running 'test_model.frame.R' [2s]
Running 'test_model.matrix_effects.R' [1s]
Running 'test_model.matrix_pmodel.response.R' [1s]
Running 'test_nested.R' [2s]
Comparing 'test_nested.Rout' to 'test_nested.Rout.save' ... OK
Running 'test_pFtest.R' [1s]
Comparing 'test_pFtest.Rout' to 'test_pFtest.Rout.save' ... OK
Running 'test_pbgtest.R' [2s]
Running 'test_pbnftest.R' [1s]
Comparing 'test_pbnftest.Rout' to 'test_pbnftest.Rout.save' ... OK
Running 'test_pbsytest_unbalanced.R' [1s]
Comparing 'test_pbsytest_unbalanced.Rout' to 'test_pbsytest_unbalanced.Rout.save' ... OK
Running 'test_pcdtest.R' [1s]
Running 'test_pdata.frame_const_allNA_nonfinite.R' [1s]
Running 'test_pdata.frame_extract_class_est_mod.R' [1s]
Running 'test_pdata.frame_id_index_more.R' [1s]
Comparing 'test_pdata.frame_id_index_more.Rout' to 'test_pdata.frame_id_index_more.Rout.save' ... OK
Running 'test_pdata.frame_print_duplicated_rownames.R' [1s]
Running 'test_pdata.frame_subsetting.R' [1s]
Comparing 'test_pdata.frame_subsetting.Rout' to 'test_pdata.frame_subsetting.Rout.save' ... OK
Running 'test_pdata.frame_unused_levels.R' [1s]
Running 'test_pdiff_fd.R' [1s]
Running 'test_pdwtest.R' [2s]
Running 'test_pggls.R' [0s]
Running 'test_pgmm.R' [5s]
Comparing 'test_pgmm.Rout' to 'test_pgmm.Rout.save' ... OK
Running 'test_pgrangertest.R' [2s]
Comparing 'test_pgrangertest.Rout' to 'test_pgrangertest.Rout.save' ... OK
Running 'test_pht.R' [9s]
Comparing 'test_pht.Rout' to 'test_pht.Rout.save' ... OK
Running 'test_phtest_Hausman_regression.R' [2s]
Comparing 'test_phtest_Hausman_regression.Rout' to 'test_phtest_Hausman_regression.Rout.save' ... OK
Running 'test_plm.data.R' [1s]
Running 'test_plm_na.action.R' [2s]
Running 'test_plmtest_unbalanced.R' [1s]
Comparing 'test_plmtest_unbalanced.Rout' to 'test_plmtest_unbalanced.Rout.save' ... OK
Running 'test_preserve_rownames.R' [1s]
Running 'test_pseries_subsetting.R' [1s]
Running 'test_punbalancedness.R' [2s]
Running 'test_purtest.R' [2s]
Comparing 'test_purtest.Rout' to 'test_purtest.Rout.save' ... OK
Running 'test_pvar.R' [2s]
Comparing 'test_pvar.Rout' to 'test_pvar.Rout.save' ... OK
Running 'test_pvcm.R' [2s]
Comparing 'test_pvcm.Rout' to 'test_pvcm.Rout.save' ... OK
Running 'test_pwaldtest.R' [1s]
Comparing 'test_pwaldtest.Rout' to 'test_pwaldtest.Rout.save' ... OK
Running 'test_pwaldtest_vcovG_attr_cluster.R' [2s]
Comparing 'test_pwaldtest_vcovG_attr_cluster.Rout' to 'test_pwaldtest_vcovG_attr_cluster.Rout.save' ... OK
Running 'test_pwfdtest_pwartest.R' [1s]
Running 'test_pwtest.R' [1s]
Running 'test_ranef.R' [2s]
Comparing 'test_ranef.Rout' to 'test_ranef.Rout.save' ... OK
Running 'test_residuals_overall_fitted_exp.R' [2s]
Running 'test_summary.plm_vcov.R' [1s]
Running 'test_summary.pseries_character_logical_factor.R' [1s]
Running 'test_transformations.R' [3s]
Running 'test_transformations_collapse.R' [10s]
Running 'test_vcovG_lin_dep.R' [2s]
Running 'test_within_intercept.R' [2s]
Comparing 'test_within_intercept.Rout' to 'test_within_intercept.Rout.save' ... OK
- checking for unstated dependencies in vignettes ... OK
- checking package vignettes in 'inst/doc' ... OK
- checking re-building of vignette outputs ... [24s] OK
- checking PDF version of manual ... OK
- DONE
Status: OK