- using R version 4.1.1 (2021-08-10)
- using platform: x86_64-w64-mingw32 (64-bit)
- using session charset: ISO8859-1
- checking for file 'dgof/DESCRIPTION' ... OK
- this is package 'dgof' version '1.2'
- checking package namespace information ... OK
- checking package dependencies ... OK
- checking if this is a source package ... OK
- checking if there is a namespace ... OK
- checking for hidden files and directories ... OK
- checking for portable file names ... OK
- checking whether package 'dgof' can be installed ... OK
- checking installed package size ... OK
- checking package directory ... OK
- checking DESCRIPTION meta-information ... OK
- checking top-level files ... OK
- checking for left-over files ... OK
- checking index information ... OK
- checking package subdirectories ... OK
- checking R files for non-ASCII characters ... OK
- checking R files for syntax errors ... OK
- loading checks for arch 'i386'
** checking whether the package can be loaded ... OK
** checking whether the package can be loaded with stated dependencies ... OK
** checking whether the package can be unloaded cleanly ... OK
** checking whether the namespace can be loaded with stated dependencies ... OK
** checking whether the namespace can be unloaded cleanly ... OK
** checking loading without being on the library search path ... OK
** checking use of S3 registration ... OK
- loading checks for arch 'x64'
** checking whether the package can be loaded ... OK
** checking whether the package can be loaded with stated dependencies ... OK
** checking whether the package can be unloaded cleanly ... OK
** checking whether the namespace can be loaded with stated dependencies ... OK
** checking whether the namespace can be unloaded cleanly ... OK
** checking loading without being on the library search path ... OK
** checking use of S3 registration ... OK
- checking dependencies in R code ... OK
- checking S3 generic/method consistency ... OK
- checking replacement functions ... OK
- checking foreign function calls ... OK
- checking R code for possible problems ... [4s] NOTE
cvm.test : cvm.pval.disc: no visible global function definition for
'integrate'
cvm.test : cvm.pval.disc: no visible global function definition for
'dchisq'
cvm.test : cvm.pval.disc: no visible global function definition for
'nlm'
cvm.test : cvm.stat.disc: no visible global function definition for
'knots'
cvm.test : cvm.pval.disc.sim: no visible global function definition for
'knots'
cvm.test : cvm.pval.disc.sim: no visible global function definition for
'runif'
cvm.test: no visible global function definition for 'is.stepfun'
cvm.test: no visible global function definition for 'knots'
ks.test : exact.pval : ts.pval: no visible global function definition
for 'ecdf'
ks.test : sim.pval: no visible global function definition for 'runif'
ks.test : sim.pval : getks: no visible global function definition for
'ecdf'
ks.test: no visible global function definition for 'is.stepfun'
ks.test: no visible global function definition for 'knots'
ks.test: no visible global function definition for 'ecdf'
Undefined global functions or variables:
dchisq ecdf integrate is.stepfun knots nlm runif
Consider adding
importFrom("stats", "dchisq", "ecdf", "integrate", "is.stepfun",
"knots", "nlm", "runif")
to your NAMESPACE file.
- checking Rd files ... [0s] OK
- checking Rd metadata ... OK
- checking Rd cross-references ... OK
- checking for missing documentation entries ... OK
- checking for code/documentation mismatches ... OK
- checking Rd \usage sections ... OK
- checking Rd contents ... OK
- checking for unstated dependencies in examples ... OK
- checking line endings in C/C++/Fortran sources/headers ... OK
- checking pragmas in C/C++ headers and code ... OK
- checking compiled code ... OK
- checking examples ...
** running examples for arch 'i386' ... [2s] OK
** running examples for arch 'x64' ... [4s] OK
- checking PDF version of manual ... OK
- DONE
Status: 1 NOTE