- using R version 3.6.3 (2020-02-29)
- using platform: x86_64-w64-mingw32 (64-bit)
- using session charset: ISO8859-1
- checking for file 'coin/DESCRIPTION' ... OK
- this is package 'coin' version '1.4-1'
- checking package namespace information ... OK
- checking package dependencies ... OK
- checking if this is a source package ... OK
- checking if there is a namespace ... OK
- checking for hidden files and directories ... OK
- checking for portable file names ... OK
- checking whether package 'coin' can be installed ... OK
- checking installed package size ... OK
- checking package directory ... OK
- checking 'build' directory ... OK
- checking DESCRIPTION meta-information ... OK
- checking top-level files ... OK
- checking for left-over files ... OK
- checking index information ... OK
- checking package subdirectories ... OK
- checking R files for non-ASCII characters ... OK
- checking R files for syntax errors ... OK
- loading checks for arch 'i386'
- checking whether the package can be loaded ... OK
- checking whether the package can be loaded with stated dependencies ... OK
- checking whether the package can be unloaded cleanly ... OK
- checking whether the namespace can be loaded with stated dependencies ... OK
- checking whether the namespace can be unloaded cleanly ... OK
- checking loading without being on the library search path ... OK
- checking use of S3 registration ... OK
- loading checks for arch 'x64'
- checking whether the package can be loaded ... OK
- checking whether the package can be loaded with stated dependencies ... OK
- checking whether the package can be unloaded cleanly ... OK
- checking whether the namespace can be loaded with stated dependencies ... OK
- checking whether the namespace can be unloaded cleanly ... OK
- checking loading without being on the library search path ... OK
- checking use of S3 registration ... OK
- checking dependencies in R code ... OK
- checking S3 generic/method consistency ... OK
- checking replacement functions ... OK
- checking foreign function calls ... OK
- checking R code for possible problems ... [20s] OK
- checking Rd files ... OK
- checking Rd metadata ... OK
- checking Rd cross-references ... OK
- checking for missing documentation entries ... OK
- checking for code/documentation mismatches ... OK
- checking Rd \usage sections ... OK
- checking Rd contents ... OK
- checking for unstated dependencies in examples ... OK
- checking contents of 'data' directory ... OK
- checking data for non-ASCII characters ... OK
- checking data for ASCII and uncompressed saves ... OK
- checking line endings in shell scripts ... OK
- checking line endings in C/C++/Fortran sources/headers ... OK
- checking line endings in Makefiles ... OK
- checking compilation flags in Makevars ... OK
- checking for GNU extensions in Makefiles ... OK
- checking for portable use of $(BLAS_LIBS) and $(LAPACK_LIBS) ... OK
- checking pragmas in C/C++ headers and code ... OK
- checking compiled code ... OK
- checking sizes of PDF files under 'inst/doc' ... OK
- checking installed files from 'inst/doc' ... OK
- checking files in 'vignettes' ... OK
- checking examples ...
- running examples for arch 'i386' ... [51s] OK
- checking differences from 'coin-Ex_i386.Rout' to 'coin-Ex.Rout.save' ... OK
1096c1096
< maxT = 4.3139, p-value = 0.0001256
---
> maxT = 4.3139, p-value = 0.0001796
1120c1120
< maxT = 3.5691, p-value = 0.004602
---
> maxT = 3.5691, p-value = 0.004286
1154c1154
< maxT = 2.3349, p-value = 0.2994
---
> maxT = 2.3349, p-value = 0.2993
1676c1676
< Wilcoxon signed rank test
---
> Wilcoxon signed rank exact test
2689c2689
< [1] 0.007050271
---
> [1] 0.007140628
2691c2691
< 0.006381220 0.007719323
---
> 0.006371664 0.007909593
2697c2697
< control 0.00719172 0.01726738 0.03836982
---
> control 0.007991569 0.01726738 0.03830126
2702c2702
< control 0.006651091 0.0111254 0.0152947
---
> control 0.007187993 0.0111254 0.0152947
3141c3141
< maxT = 4.3139, p-value = 0.0006695
---
> maxT = 4.3139, p-value = 0.0006596
3187c3187
< maxT = 3.4484, p-value = 0.003295
---
> maxT = 3.4484, p-value = 0.003294
- running examples for arch 'x64' ... [37s] OK
- checking differences from 'coin-Ex_x64.Rout' to 'coin-Ex.Rout.save' ... OK
1676c1676
< Wilcoxon signed rank test
---
> Wilcoxon signed rank exact test
- checking for unstated dependencies in 'tests' ... OK
- checking tests ...
- running tests for arch 'i386' ... [79s] OK
Running 'bugfixes.R' [7s]
Comparing 'bugfixes.Rout' to 'bugfixes.Rout.save' ... OK
Running 'comparisons.R' [6s]
Comparing 'comparisons.Rout' to 'comparisons.Rout.save' ... OK
Running 'regtest_2sample.R' [7s]
Comparing 'regtest_2sample.Rout' to 'regtest_2sample.Rout.save' ...766c766
< 1.166667
---
> 1.275862
Running 'regtest_Ksample.R' [4s]
Comparing 'regtest_Ksample.Rout' to 'regtest_Ksample.Rout.save' ... OK
Running 'regtest_MTP.R' [9s]
Comparing 'regtest_MTP.Rout' to 'regtest_MTP.Rout.save' ... OK
Running 'regtest_contingency.R' [5s]
Comparing 'regtest_contingency.Rout' to 'regtest_contingency.Rout.save' ...118c118
< maxT = 2.3738, p-value = 0.1836
---
> maxT = 2.3738, p-value = 0.184
Running 'regtest_correlation.R' [3s]
Comparing 'regtest_correlation.Rout' to 'regtest_correlation.Rout.save' ... OK
Running 'regtest_distribution.R' [14s]
Comparing 'regtest_distribution.Rout' to 'regtest_distribution.Rout.save' ...2193c2193
< [1] 0.0019531 0.0039062 0.0058594 0.0078125 0.0097656 0.0117188 0.0136719
---
> [1] 0.0019531 0.0039063 0.0058594 0.0078125 0.0097656 0.0117188 0.0136719
2265,2266c2265,2266
< [50] 0.0039062 0.0019531 0.0019531 0.0019531 0.0019531 0.0019531 0.0019531
< [57] 0.0019531 0.0019531 0.0019531 0.0019531 0.0019531 0.0039062 0.0019531
---
> [50] 0.0039063 0.0019531 0.0019531 0.0019531 0.0019531 0.0019531 0.0019531
> [57] 0.0019531 0.0019531 0.0019531 0.0019531 0.0019531 0.0039063 0.0019531
2268c2268
< [71] 0.0019531 0.0019531 0.0019531 0.0039062 0.0019531 0.0019531 0.0019531
---
> [71] 0.0019531 0.0019531 0.0019531 0.0039063 0.0019531 0.0019531 0.0019531
2270c2270
< [85] 0.0019531 0.0039062 0.0019531 0.0019531 0.0019531 0.0019531 0.0019531
---
> [85] 0.0019531 0.0039063 0.0019531 0.0019531 0.0019531 0.0019531 0.0019531
2272,2278c2272,2278
< [99] 0.0019531 0.0019531 0.0019531 0.0019531 0.0019531 0.0039062 0.0039062
< [106] 0.0019531 0.0019531 0.0019531 0.0019531 0.0039062 0.0019531 0.0039062
< [113] 0.0019531 0.0019531 0.0039062 0.0019531 0.0019531 0.0019531 0.0019531
< [120] 0.0019531 0.0019531 0.0019531 0.0039062 0.0019531 0.0019531 0.0039062
< [127] 0.0019531 0.0019531 0.0019531 0.0039062 0.0019531 0.0019531 0.0019531
< [134] 0.0019531 0.0019531 0.0039062 0.0019531 0.0019531 0.0019531 0.0019531
< [141] 0.0039062 0.0039062 0.0019531 0.0039062 0.0019531 0.0019531 0.0019531
---
> [99] 0.0019531 0.0019531 0.0019531 0.0019531 0.0019531 0.0039063 0.0039063
> [106] 0.0019531 0.0019531 0.0019531 0.0019531 0.0039063 0.0019531 0.0039063
> [113] 0.0019531 0.0019531 0.0039063 0.0019531 0.0019531 0.0019531 0.0019531
> [120] 0.0019531 0.0019531 0.0019531 0.0039063 0.0019531 0.0019531 0.0039063
> [127] 0.0019531 0.0019531 0.0019531 0.0039063 0.0019531 0.0019531 0.0019531
> [134] 0.0019531 0.0019531 0.0039063 0.0019531 0.0019531 0.0019531 0.0019531
> [141] 0.0039063 0.0039063 0.0019531 0.0039063 0.0019531 0.0019531 0.0019531
2281,2282c2281,2282
< [162] 0.0019531 0.0039062 0.0019531 0.0019531 0.0019531 0.0019531 0.0019531
< [169] 0.0019531 0.0019531 0.0039062 0.0019531 0.0019531 0.0019531 0.0019531
---
> [162] 0.0019531 0.0039063 0.0019531 0.0019531 0.0019531 0.0019531 0.0019531
> [169] 0.0019531 0.0019531 0.0039063 0.0019531 0.0019531 0.0019531 0.0019531
2284c2284
< [183] 0.0019531 0.0019531 0.0019531 0.0039062 0.0019531 0.0019531 0.0019531
---
> [183] 0.0019531 0.0019531 0.0019531 0.0039063 0.0019531 0.0019531 0.0019531
2286,2293c2286,2293
< [197] 0.0039062 0.0039062 0.0039062 0.0019531 0.0039062 0.0019531 0.0039062
< [204] 0.0039062 0.0019531 0.0019531 0.0039062 0.0019531 0.0019531 0.0039062
< [211] 0.0019531 0.0019531 0.0039062 0.0019531 0.0019531 0.0019531 0.0039062
< [218] 0.0019531 0.0039062 0.0019531 0.0039062 0.0019531 0.0039062 0.0019531
< [225] 0.0019531 0.0039062 0.0019531 0.0039062 0.0019531 0.0039062 0.0019531
< [232] 0.0039062 0.0019531 0.0019531 0.0019531 0.0039062 0.0019531 0.0019531
< [239] 0.0039062 0.0019531 0.0019531 0.0039062 0.0019531 0.0019531 0.0039062
< [246] 0.0039062 0.0019531 0.0039062 0.0019531 0.0039062 0.0039062 0.0039062
---
> [197] 0.0039063 0.0039063 0.0039063 0.0019531 0.0039063 0.0019531 0.0039063
> [204] 0.0039063 0.0019531 0.0019531 0.0039063 0.0019531 0.0019531 0.0039063
> [211] 0.0019531 0.0019531 0.0039063 0.0019531 0.0019531 0.0019531 0.0039063
> [218] 0.0019531 0.0039063 0.0019531 0.0039063 0.0019531 0.0039063 0.0019531
> [225] 0.0019531 0.0039063 0.0019531 0.0039063 0.0019531 0.0039063 0.0019531
> [232] 0.0039063 0.0019531 0.0019531 0.0019531 0.0039063 0.0019531 0.0019531
> [239] 0.0039063 0.0019531 0.0019531 0.0039063 0.0019531 0.0019531 0.0039063
> [246] 0.0039063 0.0019531 0.0039063 0.0019531 0.0039063 0.0039063 0.0039063
2295c2295
< [260] 0.0019531 0.0019531 0.0019531 0.0039062 0.0019531 0.0019531 0.0019531
---
> [260] 0.0019531 0.0019531 0.0019531 0.0039063 0.0019531 0.0019531 0.0019531
2297,2298c2297,2298
< [274] 0.0019531 0.0019531 0.0019531 0.0019531 0.0039062 0.0019531 0.0019531
< [281] 0.0019531 0.0019531 0.0019531 0.0019531 0.0019531 0.0039062 0.0019531
---
> [274] 0.0019531 0.0019531 0.0019531 0.0019531 0.0039063 0.0019531 0.0019531
> [281] 0.0019531 0.0019531 0.0019531 0.0019531 0.0019531 0.0039063 0.0019531
2301,2307c2301,2307
< [302] 0.0019531 0.0019531 0.0019531 0.0039062 0.0019531 0.0039062 0.0039062
< [309] 0.0019531 0.0019531 0.0019531 0.0019531 0.0039062 0.0019531 0.0019531
< [316] 0.0019531 0.0019531 0.0019531 0.0039062 0.0019531 0.0019531 0.0019531
< [323] 0.0039062 0.0019531 0.0019531 0.0039062 0.0019531 0.0019531 0.0019531
< [330] 0.0019531 0.0019531 0.0019531 0.0019531 0.0039062 0.0019531 0.0019531
< [337] 0.0039062 0.0019531 0.0039062 0.0019531 0.0019531 0.0019531 0.0019531
< [344] 0.0039062 0.0039062 0.0019531 0.0019531 0.0019531 0.0019531 0.0019531
---
> [302] 0.0019531 0.0019531 0.0019531 0.0039063 0.0019531 0.0039063 0.0039063
> [309] 0.0019531 0.0019531 0.0019531 0.0019531 0.0039063 0.0019531 0.0019531
> [316] 0.0019531 0.0019531 0.0019531 0.0039063 0.0019531 0.0019531 0.0019531
> [323] 0.0039063 0.0019531 0.0019531 0.0039063 0.0019531 0.0019531 0.0019531
> [330] 0.0019531 0.0019531 0.0019531 0.0019531 0.0039063 0.0019531 0.0019531
> [337] 0.0039063 0.0019531 0.0039063 0.0019531 0.0019531 0.0019531 0.0019531
> [344] 0.0039063 0.0039063 0.0019531 0.0019531 0.0019531 0.0019531 0.0019531
2309c2309
< [358] 0.0019531 0.0019531 0.0019531 0.0019531 0.0019531 0.0039062 0.0019531
---
> [358] 0.0019531 0.0019531 0.0019531 0.0019531 0.0019531 0.0039063 0.0019531
2311c2311
< [372] 0.0019531 0.0019531 0.0019531 0.0039062 0.0019531 0.0019531 0.0019531
---
> [372] 0.0019531 0.0019531 0.0019531 0.0039063 0.0019531 0.0019531 0.0019531
2313,2314c2313,2314
< [386] 0.0019531 0.0039062 0.0019531 0.0019531 0.0019531 0.0019531 0.0019531
< [393] 0.0019531 0.0019531 0.0019531 0.0019531 0.0019531 0.0019531 0.0039062
---
> [386] 0.0019531 0.0039063 0.0019531 0.0019531 0.0019531 0.0019531 0.0019531
> [393] 0.0019531 0.0019531 0.0019531 0.0019531 0.0019531 0.0019531 0.0039063
2352c2352
< [1] 0.0019531 0.0039062 0.0058594 0.0078125 0.0097656 0.0117188 0.0136719
---
> [1] 0.0019531 0.0039063 0.0058594 0.0078125 0.0097656 0.0117188 0.0136719
2424,2425c2424,2425
< [50] 0.0039062 0.0019531 0.0019531 0.0019531 0.0019531 0.0019531 0.0019531
< [57] 0.0019531 0.0019531 0.0019531 0.0019531 0.0019531 0.0039062 0.0019531
---
> [50] 0.0039063 0.0019531 0.0019531 0.0019531 0.0019531 0.0019531 0.0019531
> [57] 0.0019531 0.0019531 0.0019531 0.0019531 0.0019531 0.0039063 0.0019531
2427c2427
< [71] 0.0019531 0.0019531 0.0019531 0.0039062 0.0019531 0.0019531 0.0019531
---
> [71] 0.0019531 0.0019531 0.0019531 0.0039063 0.0019531 0.0019531 0.0019531
2429c2429
< [85] 0.0019531 0.0039062 0.0019531 0.0019531 0.0019531 0.0019531 0.0019531
---
> [85] 0.0019531 0.0039063 0.0019531 0.0019531 0.0019531 0.0019531 0.0019531
2431,2437c2431,2437
< [99] 0.0019531 0.0019531 0.0019531 0.0019531 0.0019531 0.0039062 0.0039062
< [106] 0.0019531 0.0019531 0.0019531 0.0019531 0.0039062 0.0019531 0.0039062
< [113] 0.0019531 0.0019531 0.0039062 0.0019531 0.0019531 0.0019531 0.0019531
< [120] 0.0019531 0.0019531 0.0019531 0.0039062 0.0019531 0.0019531 0.0039062
< [127] 0.0019531 0.0019531 0.0019531 0.0039062 0.0019531 0.0019531 0.0019531
< [134] 0.0019531 0.0019531 0.0039062 0.0019531 0.0019531 0.0019531 0.0019531
< [141] 0.0039062 0.0039062 0.0019531 0.0039062 0.0019531 0.0019531 0.0019531
---
> [99] 0.0019531 0.0019531 0.0019531 0.0019531 0.0019531 0.0039063 0.0039063
> [106] 0.0019531 0.0019531 0.0019531 0.0019531 0.0039063 0.0019531 0.0039063
> [113] 0.0019531 0.0019531 0.0039063 0.0019531 0.0019531 0.0019531 0.0019531
> [120] 0.0019531 0.0019531 0.0019531 0.0039063 0.0019531 0.0019531 0.0039063
> [127] 0.0019531 0.0019531 0.0019531 0.0039063 0.0019531 0.0019531 0.0019531
> [134] 0.0019531 0.0019531 0.0039063 0.0019531 0.0019531 0.0019531 0.0019531
> [141] 0.0039063 0.0039063 0.0019531 0.0039063 0.0019531 0.0019531 0.0019531
2440,2441c2440,2441
< [162] 0.0019531 0.0039062 0.0019531 0.0019531 0.0019531 0.0019531 0.0019531
< [169] 0.0019531 0.0019531 0.0039062 0.0019531 0.0019531 0.0019531 0.0019531
---
> [162] 0.0019531 0.0039063 0.0019531 0.0019531 0.0019531 0.0019531 0.0019531
> [169] 0.0019531 0.0019531 0.0039063 0.0019531 0.0019531 0.0019531 0.0019531
2443c2443
< [183] 0.0019531 0.0019531 0.0019531 0.0039062 0.0019531 0.0019531 0.0019531
---
> [183] 0.0019531 0.0019531 0.0019531 0.0039063 0.0019531 0.0019531 0.0019531
2445,2452c2445,2452
< [197] 0.0039062 0.0039062 0.0039062 0.0019531 0.0039062 0.0019531 0.0039062
< [204] 0.0039062 0.0019531 0.0019531 0.0039062 0.0019531 0.0019531 0.0039062
< [211] 0.0019531 0.0019531 0.0039062 0.0019531 0.0019531 0.0019531 0.0039062
< [218] 0.0019531 0.0039062 0.0019531 0.0039062 0.0019531 0.0039062 0.0019531
< [225] 0.0019531 0.0039062 0.0019531 0.0039062 0.0019531 0.0039062 0.0019531
< [232] 0.0039062 0.0019531 0.0019531 0.0019531 0.0039062 0.0019531 0.0019531
< [239] 0.0039062 0.0019531 0.0019531 0.0039062 0.0019531 0.0019531 0.0039062
< [246] 0.0039062 0.0019531 0.0039062 0.0019531 0.0039062 0.0039062 0.0039062
---
> [197] 0.0039063 0.0039063 0.0039063 0.0019531 0.0039063 0.0019531 0.0039063
> [204] 0.0039063 0.0019531 0.0019531 0.0039063 0.0019531 0.0019531 0.0039063
> [211] 0.0019531 0.0019531 0.0039063 0.0019531 0.0019531 0.0019531 0.0039063
> [218] 0.0019531 0.0039063 0.0019531 0.0039063 0.0019531 0.0039063 0.0019531
> [225] 0.0019531 0.0039063 0.0019531 0.0039063 0.0019531 0.0039063 0.0019531
> [232] 0.0039063 0.0019531 0.0019531 0.0019531 0.0039063 0.0019531 0.0019531
> [239] 0.0039063 0.0019531 0.0019531 0.0039063 0.0019531 0.0019531 0.0039063
> [246] 0.0039063 0.0019531 0.0039063 0.0019531 0.0039063 0.0039063 0.0039063
2454c2454
< [260] 0.0019531 0.0019531 0.0019531 0.0039062 0.0019531 0.0019531 0.0019531
---
> [260] 0.0019531 0.0019531 0.0019531 0.0039063 0.0019531 0.0019531 0.0019531
2456,2457c2456,2457
< [274] 0.0019531 0.0019531 0.0019531 0.0019531 0.0039062 0.0019531 0.0019531
< [281] 0.0019531 0.0019531 0.0019531 0.0019531 0.0019531 0.0039062 0.0019531
---
> [274] 0.0019531 0.0019531 0.0019531 0.0019531 0.0039063 0.0019531 0.0019531
> [281] 0.0019531 0.0019531 0.0019531 0.0019531 0.0019531 0.0039063 0.0019531
2460,2466c2460,2466
< [302] 0.0019531 0.0019531 0.0019531 0.0039062 0.0019531 0.0039062 0.0039062
< [309] 0.0019531 0.0019531 0.0019531 0.0019531 0.0039062 0.0019531 0.0019531
< [316] 0.0019531 0.0019531 0.0019531 0.0039062 0.0019531 0.0019531 0.0019531
< [323] 0.0039062 0.0019531 0.0019531 0.0039062 0.0019531 0.0019531 0.0019531
< [330] 0.0019531 0.0019531 0.0019531 0.0019531 0.0039062 0.0019531 0.0019531
< [337] 0.0039062 0.0019531 0.0039062 0.0019531 0.0019531 0.0019531 0.0019531
< [344] 0.0039062 0.0039062 0.0019531 0.0019531 0.0019531 0.0019531 0.0019531
---
> [302] 0.0019531 0.0019531 0.0019531 0.0039063 0.0019531 0.0039063 0.0039063
> [309] 0.0019531 0.0019531 0.0019531 0.0019531 0.0039063 0.0019531 0.0019531
> [316] 0.0019531 0.0019531 0.0019531 0.0039063 0.0019531 0.0019531 0.0019531
> [323] 0.0039063 0.0019531 0.0019531 0.0039063 0.0019531 0.0019531 0.0019531
> [330] 0.0019531 0.0019531 0.0019531 0.0019531 0.0039063 0.0019531 0.0019531
> [337] 0.0039063 0.0019531 0.0039063 0.0019531 0.0019531 0.0019531 0.0019531
> [344] 0.0039063 0.0039063 0.0019531 0.0019531 0.0019531 0.0019531 0.0019531
2468c2468
< [358] 0.0019531 0.0019531 0.0019531 0.0019531 0.0019531 0.0039062 0.0019531
---
> [358] 0.0019531 0.0019531 0.0019531 0.0019531 0.0019531 0.0039063 0.0019531
2470c2470
< [372] 0.0019531 0.0019531 0.0019531 0.0039062 0.0019531 0.0019531 0.0019531
---
> [372] 0.0019531 0.0019531 0.0019531 0.0039063 0.0019531 0.0019531 0.0019531
2472,2473c2472,2473
< [386] 0.0019531 0.0039062 0.0019531 0.0019531 0.0019531 0.0019531 0.0019531
< [393] 0.0019531 0.0019531 0.0019531 0.0019531 0.0019531 0.0019531 0.0039062
---
> [386] 0.0019531 0.0039063 0.0019531 0.0019531 0.0019531 0.0019531 0.0019531
> [393] 0.0019531 0.0019531 0.0019531 0.0019531 0.0019531 0.0019531 0.0039063
Running 'regtest_helpers.R' [4s]
Comparing 'regtest_helpers.Rout' to 'regtest_helpers.Rout.save' ... OK
Running 'regtest_midpvalue.R' [5s]
Comparing 'regtest_midpvalue.Rout' to 'regtest_midpvalue.Rout.save' ... OK
Running 'regtest_names.R' [7s]
Comparing 'regtest_names.Rout' to 'regtest_names.Rout.save' ... OK
Running 'regtest_size.R' [4s]
Comparing 'regtest_size.Rout' to 'regtest_size.Rout.save' ... OK
Running 'regtest_trafo.R' [3s]
Comparing 'regtest_trafo.Rout' to 'regtest_trafo.Rout.save' ...35c35
< [1] -1.067571e+00 -5.659488e-01 NA -6.938894e-17 -6.938894e-17
---
> [1] -1.067571e+00 -5.659488e-01 NA -8.326673e-17 -8.326673e-17
38c38
< [1] -1.067571e+00 -5.659488e-01 -6.938894e-17 -6.938894e-17 5.659488e-01
---
> [1] -1.067571e+00 -5.659488e-01 -8.326673e-17 -8.326673e-17 5.659488e-01
- running tests for arch 'x64' ... [81s] OK
Running 'bugfixes.R' [7s]
Comparing 'bugfixes.Rout' to 'bugfixes.Rout.save' ... OK
Running 'comparisons.R' [6s]
Comparing 'comparisons.Rout' to 'comparisons.Rout.save' ... OK
Running 'regtest_2sample.R' [8s]
Comparing 'regtest_2sample.Rout' to 'regtest_2sample.Rout.save' ... OK
Running 'regtest_Ksample.R' [5s]
Comparing 'regtest_Ksample.Rout' to 'regtest_Ksample.Rout.save' ... OK
Running 'regtest_MTP.R' [7s]
Comparing 'regtest_MTP.Rout' to 'regtest_MTP.Rout.save' ... OK
Running 'regtest_contingency.R' [6s]
Comparing 'regtest_contingency.Rout' to 'regtest_contingency.Rout.save' ... OK
Running 'regtest_correlation.R' [4s]
Comparing 'regtest_correlation.Rout' to 'regtest_correlation.Rout.save' ... OK
Running 'regtest_distribution.R' [14s]
Comparing 'regtest_distribution.Rout' to 'regtest_distribution.Rout.save' ...2193c2193
< [1] 0.0019531 0.0039062 0.0058594 0.0078125 0.0097656 0.0117188 0.0136719
---
> [1] 0.0019531 0.0039063 0.0058594 0.0078125 0.0097656 0.0117188 0.0136719
2265,2266c2265,2266
< [50] 0.0039062 0.0019531 0.0019531 0.0019531 0.0019531 0.0019531 0.0019531
< [57] 0.0019531 0.0019531 0.0019531 0.0019531 0.0019531 0.0039062 0.0019531
---
> [50] 0.0039063 0.0019531 0.0019531 0.0019531 0.0019531 0.0019531 0.0019531
> [57] 0.0019531 0.0019531 0.0019531 0.0019531 0.0019531 0.0039063 0.0019531
2268c2268
< [71] 0.0019531 0.0019531 0.0019531 0.0039062 0.0019531 0.0019531 0.0019531
---
> [71] 0.0019531 0.0019531 0.0019531 0.0039063 0.0019531 0.0019531 0.0019531
2270c2270
< [85] 0.0019531 0.0039062 0.0019531 0.0019531 0.0019531 0.0019531 0.0019531
---
> [85] 0.0019531 0.0039063 0.0019531 0.0019531 0.0019531 0.0019531 0.0019531
2272,2278c2272,2278
< [99] 0.0019531 0.0019531 0.0019531 0.0019531 0.0019531 0.0039062 0.0039062
< [106] 0.0019531 0.0019531 0.0019531 0.0019531 0.0039062 0.0019531 0.0039062
< [113] 0.0019531 0.0019531 0.0039062 0.0019531 0.0019531 0.0019531 0.0019531
< [120] 0.0019531 0.0019531 0.0019531 0.0039062 0.0019531 0.0019531 0.0039062
< [127] 0.0019531 0.0019531 0.0019531 0.0039062 0.0019531 0.0019531 0.0019531
< [134] 0.0019531 0.0019531 0.0039062 0.0019531 0.0019531 0.0019531 0.0019531
< [141] 0.0039062 0.0039062 0.0019531 0.0039062 0.0019531 0.0019531 0.0019531
---
> [99] 0.0019531 0.0019531 0.0019531 0.0019531 0.0019531 0.0039063 0.0039063
> [106] 0.0019531 0.0019531 0.0019531 0.0019531 0.0039063 0.0019531 0.0039063
> [113] 0.0019531 0.0019531 0.0039063 0.0019531 0.0019531 0.0019531 0.0019531
> [120] 0.0019531 0.0019531 0.0019531 0.0039063 0.0019531 0.0019531 0.0039063
> [127] 0.0019531 0.0019531 0.0019531 0.0039063 0.0019531 0.0019531 0.0019531
> [134] 0.0019531 0.0019531 0.0039063 0.0019531 0.0019531 0.0019531 0.0019531
> [141] 0.0039063 0.0039063 0.0019531 0.0039063 0.0019531 0.0019531 0.0019531
2281,2282c2281,2282
< [162] 0.0019531 0.0039062 0.0019531 0.0019531 0.0019531 0.0019531 0.0019531
< [169] 0.0019531 0.0019531 0.0039062 0.0019531 0.0019531 0.0019531 0.0019531
---
> [162] 0.0019531 0.0039063 0.0019531 0.0019531 0.0019531 0.0019531 0.0019531
> [169] 0.0019531 0.0019531 0.0039063 0.0019531 0.0019531 0.0019531 0.0019531
2284c2284
< [183] 0.0019531 0.0019531 0.0019531 0.0039062 0.0019531 0.0019531 0.0019531
---
> [183] 0.0019531 0.0019531 0.0019531 0.0039063 0.0019531 0.0019531 0.0019531
2286,2293c2286,2293
< [197] 0.0039062 0.0039062 0.0039062 0.0019531 0.0039062 0.0019531 0.0039062
< [204] 0.0039062 0.0019531 0.0019531 0.0039062 0.0019531 0.0019531 0.0039062
< [211] 0.0019531 0.0019531 0.0039062 0.0019531 0.0019531 0.0019531 0.0039062
< [218] 0.0019531 0.0039062 0.0019531 0.0039062 0.0019531 0.0039062 0.0019531
< [225] 0.0019531 0.0039062 0.0019531 0.0039062 0.0019531 0.0039062 0.0019531
< [232] 0.0039062 0.0019531 0.0019531 0.0019531 0.0039062 0.0019531 0.0019531
< [239] 0.0039062 0.0019531 0.0019531 0.0039062 0.0019531 0.0019531 0.0039062
< [246] 0.0039062 0.0019531 0.0039062 0.0019531 0.0039062 0.0039062 0.0039062
---
> [197] 0.0039063 0.0039063 0.0039063 0.0019531 0.0039063 0.0019531 0.0039063
> [204] 0.0039063 0.0019531 0.0019531 0.0039063 0.0019531 0.0019531 0.0039063
> [211] 0.0019531 0.0019531 0.0039063 0.0019531 0.0019531 0.0019531 0.0039063
> [218] 0.0019531 0.0039063 0.0019531 0.0039063 0.0019531 0.0039063 0.0019531
> [225] 0.0019531 0.0039063 0.0019531 0.0039063 0.0019531 0.0039063 0.0019531
> [232] 0.0039063 0.0019531 0.0019531 0.0019531 0.0039063 0.0019531 0.0019531
> [239] 0.0039063 0.0019531 0.0019531 0.0039063 0.0019531 0.0019531 0.0039063
> [246] 0.0039063 0.0019531 0.0039063 0.0019531 0.0039063 0.0039063 0.0039063
2295c2295
< [260] 0.0019531 0.0019531 0.0019531 0.0039062 0.0019531 0.0019531 0.0019531
---
> [260] 0.0019531 0.0019531 0.0019531 0.0039063 0.0019531 0.0019531 0.0019531
2297,2298c2297,2298
< [274] 0.0019531 0.0019531 0.0019531 0.0019531 0.0039062 0.0019531 0.0019531
< [281] 0.0019531 0.0019531 0.0019531 0.0019531 0.0019531 0.0039062 0.0019531
---
> [274] 0.0019531 0.0019531 0.0019531 0.0019531 0.0039063 0.0019531 0.0019531
> [281] 0.0019531 0.0019531 0.0019531 0.0019531 0.0019531 0.0039063 0.0019531
2301,2307c2301,2307
< [302] 0.0019531 0.0019531 0.0019531 0.0039062 0.0019531 0.0039062 0.0039062
< [309] 0.0019531 0.0019531 0.0019531 0.0019531 0.0039062 0.0019531 0.0019531
< [316] 0.0019531 0.0019531 0.0019531 0.0039062 0.0019531 0.0019531 0.0019531
< [323] 0.0039062 0.0019531 0.0019531 0.0039062 0.0019531 0.0019531 0.0019531
< [330] 0.0019531 0.0019531 0.0019531 0.0019531 0.0039062 0.0019531 0.0019531
< [337] 0.0039062 0.0019531 0.0039062 0.0019531 0.0019531 0.0019531 0.0019531
< [344] 0.0039062 0.0039062 0.0019531 0.0019531 0.0019531 0.0019531 0.0019531
---
> [302] 0.0019531 0.0019531 0.0019531 0.0039063 0.0019531 0.0039063 0.0039063
> [309] 0.0019531 0.0019531 0.0019531 0.0019531 0.0039063 0.0019531 0.0019531
> [316] 0.0019531 0.0019531 0.0019531 0.0039063 0.0019531 0.0019531 0.0019531
> [323] 0.0039063 0.0019531 0.0019531 0.0039063 0.0019531 0.0019531 0.0019531
> [330] 0.0019531 0.0019531 0.0019531 0.0019531 0.0039063 0.0019531 0.0019531
> [337] 0.0039063 0.0019531 0.0039063 0.0019531 0.0019531 0.0019531 0.0019531
> [344] 0.0039063 0.0039063 0.0019531 0.0019531 0.0019531 0.0019531 0.0019531
2309c2309
< [358] 0.0019531 0.0019531 0.0019531 0.0019531 0.0019531 0.0039062 0.0019531
---
> [358] 0.0019531 0.0019531 0.0019531 0.0019531 0.0019531 0.0039063 0.0019531
2311c2311
< [372] 0.0019531 0.0019531 0.0019531 0.0039062 0.0019531 0.0019531 0.0019531
---
> [372] 0.0019531 0.0019531 0.0019531 0.0039063 0.0019531 0.0019531 0.0019531
2313,2314c2313,2314
< [386] 0.0019531 0.0039062 0.0019531 0.0019531 0.0019531 0.0019531 0.0019531
< [393] 0.0019531 0.0019531 0.0019531 0.0019531 0.0019531 0.0019531 0.0039062
---
> [386] 0.0019531 0.0039063 0.0019531 0.0019531 0.0019531 0.0019531 0.0019531
> [393] 0.0019531 0.0019531 0.0019531 0.0019531 0.0019531 0.0019531 0.0039063
2352c2352
< [1] 0.0019531 0.0039062 0.0058594 0.0078125 0.0097656 0.0117188 0.0136719
---
> [1] 0.0019531 0.0039063 0.0058594 0.0078125 0.0097656 0.0117188 0.0136719
2424,2425c2424,2425
< [50] 0.0039062 0.0019531 0.0019531 0.0019531 0.0019531 0.0019531 0.0019531
< [57] 0.0019531 0.0019531 0.0019531 0.0019531 0.0019531 0.0039062 0.0019531
---
> [50] 0.0039063 0.0019531 0.0019531 0.0019531 0.0019531 0.0019531 0.0019531
> [57] 0.0019531 0.0019531 0.0019531 0.0019531 0.0019531 0.0039063 0.0019531
2427c2427
< [71] 0.0019531 0.0019531 0.0019531 0.0039062 0.0019531 0.0019531 0.0019531
---
> [71] 0.0019531 0.0019531 0.0019531 0.0039063 0.0019531 0.0019531 0.0019531
2429c2429
< [85] 0.0019531 0.0039062 0.0019531 0.0019531 0.0019531 0.0019531 0.0019531
---
> [85] 0.0019531 0.0039063 0.0019531 0.0019531 0.0019531 0.0019531 0.0019531
2431,2437c2431,2437
< [99] 0.0019531 0.0019531 0.0019531 0.0019531 0.0019531 0.0039062 0.0039062
< [106] 0.0019531 0.0019531 0.0019531 0.0019531 0.0039062 0.0019531 0.0039062
< [113] 0.0019531 0.0019531 0.0039062 0.0019531 0.0019531 0.0019531 0.0019531
< [120] 0.0019531 0.0019531 0.0019531 0.0039062 0.0019531 0.0019531 0.0039062
< [127] 0.0019531 0.0019531 0.0019531 0.0039062 0.0019531 0.0019531 0.0019531
< [134] 0.0019531 0.0019531 0.0039062 0.0019531 0.0019531 0.0019531 0.0019531
< [141] 0.0039062 0.0039062 0.0019531 0.0039062 0.0019531 0.0019531 0.0019531
---
> [99] 0.0019531 0.0019531 0.0019531 0.0019531 0.0019531 0.0039063 0.0039063
> [106] 0.0019531 0.0019531 0.0019531 0.0019531 0.0039063 0.0019531 0.0039063
> [113] 0.0019531 0.0019531 0.0039063 0.0019531 0.0019531 0.0019531 0.0019531
> [120] 0.0019531 0.0019531 0.0019531 0.0039063 0.0019531 0.0019531 0.0039063
> [127] 0.0019531 0.0019531 0.0019531 0.0039063 0.0019531 0.0019531 0.0019531
> [134] 0.0019531 0.0019531 0.0039063 0.0019531 0.0019531 0.0019531 0.0019531
> [141] 0.0039063 0.0039063 0.0019531 0.0039063 0.0019531 0.0019531 0.0019531
2440,2441c2440,2441
< [162] 0.0019531 0.0039062 0.0019531 0.0019531 0.0019531 0.0019531 0.0019531
< [169] 0.0019531 0.0019531 0.0039062 0.0019531 0.0019531 0.0019531 0.0019531
---
> [162] 0.0019531 0.0039063 0.0019531 0.0019531 0.0019531 0.0019531 0.0019531
> [169] 0.0019531 0.0019531 0.0039063 0.0019531 0.0019531 0.0019531 0.0019531
2443c2443
< [183] 0.0019531 0.0019531 0.0019531 0.0039062 0.0019531 0.0019531 0.0019531
---
> [183] 0.0019531 0.0019531 0.0019531 0.0039063 0.0019531 0.0019531 0.0019531
2445,2452c2445,2452
< [197] 0.0039062 0.0039062 0.0039062 0.0019531 0.0039062 0.0019531 0.0039062
< [204] 0.0039062 0.0019531 0.0019531 0.0039062 0.0019531 0.0019531 0.0039062
< [211] 0.0019531 0.0019531 0.0039062 0.0019531 0.0019531 0.0019531 0.0039062
< [218] 0.0019531 0.0039062 0.0019531 0.0039062 0.0019531 0.0039062 0.0019531
< [225] 0.0019531 0.0039062 0.0019531 0.0039062 0.0019531 0.0039062 0.0019531
< [232] 0.0039062 0.0019531 0.0019531 0.0019531 0.0039062 0.0019531 0.0019531
< [239] 0.0039062 0.0019531 0.0019531 0.0039062 0.0019531 0.0019531 0.0039062
< [246] 0.0039062 0.0019531 0.0039062 0.0019531 0.0039062 0.0039062 0.0039062
---
> [197] 0.0039063 0.0039063 0.0039063 0.0019531 0.0039063 0.0019531 0.0039063
> [204] 0.0039063 0.0019531 0.0019531 0.0039063 0.0019531 0.0019531 0.0039063
> [211] 0.0019531 0.0019531 0.0039063 0.0019531 0.0019531 0.0019531 0.0039063
> [218] 0.0019531 0.0039063 0.0019531 0.0039063 0.0019531 0.0039063 0.0019531
> [225] 0.0019531 0.0039063 0.0019531 0.0039063 0.0019531 0.0039063 0.0019531
> [232] 0.0039063 0.0019531 0.0019531 0.0019531 0.0039063 0.0019531 0.0019531
> [239] 0.0039063 0.0019531 0.0019531 0.0039063 0.0019531 0.0019531 0.0039063
> [246] 0.0039063 0.0019531 0.0039063 0.0019531 0.0039063 0.0039063 0.0039063
2454c2454
< [260] 0.0019531 0.0019531 0.0019531 0.0039062 0.0019531 0.0019531 0.0019531
---
> [260] 0.0019531 0.0019531 0.0019531 0.0039063 0.0019531 0.0019531 0.0019531
2456,2457c2456,2457
< [274] 0.0019531 0.0019531 0.0019531 0.0019531 0.0039062 0.0019531 0.0019531
< [281] 0.0019531 0.0019531 0.0019531 0.0019531 0.0019531 0.0039062 0.0019531
---
> [274] 0.0019531 0.0019531 0.0019531 0.0019531 0.0039063 0.0019531 0.0019531
> [281] 0.0019531 0.0019531 0.0019531 0.0019531 0.0019531 0.0039063 0.0019531
2460,2466c2460,2466
< [302] 0.0019531 0.0019531 0.0019531 0.0039062 0.0019531 0.0039062 0.0039062
< [309] 0.0019531 0.0019531 0.0019531 0.0019531 0.0039062 0.0019531 0.0019531
< [316] 0.0019531 0.0019531 0.0019531 0.0039062 0.0019531 0.0019531 0.0019531
< [323] 0.0039062 0.0019531 0.0019531 0.0039062 0.0019531 0.0019531 0.0019531
< [330] 0.0019531 0.0019531 0.0019531 0.0019531 0.0039062 0.0019531 0.0019531
< [337] 0.0039062 0.0019531 0.0039062 0.0019531 0.0019531 0.0019531 0.0019531
< [344] 0.0039062 0.0039062 0.0019531 0.0019531 0.0019531 0.0019531 0.0019531
---
> [302] 0.0019531 0.0019531 0.0019531 0.0039063 0.0019531 0.0039063 0.0039063
> [309] 0.0019531 0.0019531 0.0019531 0.0019531 0.0039063 0.0019531 0.0019531
> [316] 0.0019531 0.0019531 0.0019531 0.0039063 0.0019531 0.0019531 0.0019531
> [323] 0.0039063 0.0019531 0.0019531 0.0039063 0.0019531 0.0019531 0.0019531
> [330] 0.0019531 0.0019531 0.0019531 0.0019531 0.0039063 0.0019531 0.0019531
> [337] 0.0039063 0.0019531 0.0039063 0.0019531 0.0019531 0.0019531 0.0019531
> [344] 0.0039063 0.0039063 0.0019531 0.0019531 0.0019531 0.0019531 0.0019531
2468c2468
< [358] 0.0019531 0.0019531 0.0019531 0.0019531 0.0019531 0.0039062 0.0019531
---
> [358] 0.0019531 0.0019531 0.0019531 0.0019531 0.0019531 0.0039063 0.0019531
2470c2470
< [372] 0.0019531 0.0019531 0.0019531 0.0039062 0.0019531 0.0019531 0.0019531
---
> [372] 0.0019531 0.0019531 0.0019531 0.0039063 0.0019531 0.0019531 0.0019531
2472,2473c2472,2473
< [386] 0.0019531 0.0039062 0.0019531 0.0019531 0.0019531 0.0019531 0.0019531
< [393] 0.0019531 0.0019531 0.0019531 0.0019531 0.0019531 0.0019531 0.0039062
---
> [386] 0.0019531 0.0039063 0.0019531 0.0019531 0.0019531 0.0019531 0.0019531
> [393] 0.0019531 0.0019531 0.0019531 0.0019531 0.0019531 0.0019531 0.0039063
Running 'regtest_helpers.R' [4s]
Comparing 'regtest_helpers.Rout' to 'regtest_helpers.Rout.save' ... OK
Running 'regtest_midpvalue.R' [5s]
Comparing 'regtest_midpvalue.Rout' to 'regtest_midpvalue.Rout.save' ... OK
Running 'regtest_names.R' [7s]
Comparing 'regtest_names.Rout' to 'regtest_names.Rout.save' ... OK
Running 'regtest_size.R' [4s]
Comparing 'regtest_size.Rout' to 'regtest_size.Rout.save' ... OK
Running 'regtest_trafo.R' [3s]
Comparing 'regtest_trafo.Rout' to 'regtest_trafo.Rout.save' ... OK
- checking for unstated dependencies in vignettes ... OK
- checking package vignettes in 'inst/doc' ... OK
- checking running R code from vignettes ... [42s] OK
'Implementation.Rnw'... [6s] OK
'LegoCondInf.Rnw'... [7s] OK
'MAXtest.Rnw'... [23s] OK
'coin.Rnw'... [4s] OK
- checking re-building of vignette outputs ... [109s] OK
- checking PDF version of manual ... OK
- DONE
Status: OK