- using R version 4.1.3 (2022-03-10)
- using platform: x86_64-w64-mingw32 (64-bit)
- using session charset: ISO8859-1
- checking for file 'arulesSequences/DESCRIPTION' ... OK
- this is package 'arulesSequences' version '0.2-25'
- checking package namespace information ... OK
- checking package dependencies ... OK
- checking if this is a source package ... OK
- checking if there is a namespace ... OK
- checking for hidden files and directories ... OK
- checking for portable file names ... OK
- checking whether package 'arulesSequences' can be installed ... OK
- checking installed package size ... NOTE
installed size is 26.0Mb
sub-directories of 1Mb or more:
bin 22.9Mb
misc 2.1Mb
- checking package directory ... OK
- checking DESCRIPTION meta-information ... OK
- checking top-level files ... OK
- checking for left-over files ... OK
- checking index information ... OK
- checking package subdirectories ... OK
- checking R files for non-ASCII characters ... OK
- checking R files for syntax errors ... OK
- loading checks for arch 'i386'
** checking whether the package can be loaded ... OK
** checking whether the package can be loaded with stated dependencies ... OK
** checking whether the package can be unloaded cleanly ... OK
** checking whether the namespace can be loaded with stated dependencies ... OK
** checking whether the namespace can be unloaded cleanly ... OK
** checking loading without being on the library search path ... OK
** checking use of S3 registration ... OK
- loading checks for arch 'x64'
** checking whether the package can be loaded ... OK
** checking whether the package can be loaded with stated dependencies ... OK
** checking whether the package can be unloaded cleanly ... OK
** checking whether the namespace can be loaded with stated dependencies ... OK
** checking whether the namespace can be unloaded cleanly ... OK
** checking loading without being on the library search path ... OK
** checking use of S3 registration ... OK
- checking dependencies in R code ... OK
- checking S3 generic/method consistency ... OK
- checking replacement functions ... OK
- checking foreign function calls ... OK
- checking R code for possible problems ... [16s] OK
- checking Rd files ... [1s] OK
- checking Rd metadata ... OK
- checking Rd cross-references ... OK
- checking for missing documentation entries ... OK
- checking for code/documentation mismatches ... OK
- checking Rd \usage sections ... OK
- checking Rd contents ... OK
- checking for unstated dependencies in examples ... OK
- checking contents of 'data' directory ... OK
- checking data for non-ASCII characters ... OK
- checking data for ASCII and uncompressed saves ... OK
- checking line endings in C/C++/Fortran sources/headers ... OK
- checking line endings in Makefiles ... OK
- checking compilation flags in Makevars ... OK
- checking for GNU extensions in Makefiles ... OK
- checking for portable use of $(BLAS_LIBS) and $(LAPACK_LIBS) ... OK
- checking use of PKG_*FLAGS in Makefiles ... OK
- checking include directives in Makefiles ... OK
- checking pragmas in C/C++ headers and code ... OK
- checking compiled code ... OK
- checking examples ...
** running examples for arch 'i386' ... [26s] OK
** running examples for arch 'x64' ... [28s] OK
- checking for unstated dependencies in 'tests' ... OK
- checking tests ...
** running tests for arch 'i386' ... [39s] OK
Running 'Rgui.R' [4s]
Running 'arules.R' [3s]
Comparing 'arules.Rout' to 'arules.Rout.save' ...14,20d13
<
< Attaching package: 'arulesSequences'
<
< The following object is masked from 'package:arules':
<
< itemsets
<
Running 'idlists.R' [4s]
Comparing 'idlists.Rout' to 'idlists.Rout.save' ...14,20d13
<
< Attaching package: 'arulesSequences'
<
< The following object is masked from 'package:arules':
<
< itemsets
<
89,91d81
< Warning message:
< In match(x@items, table@items, nomatch = nomatch, incomparables = incomparables) :
< Item coding not compatible, recoding item matrices first.
Running 'makebin.R' [3s]
Comparing 'makebin.Rout' to 'makebin.Rout.save' ...14,20d13
<
< Attaching package: 'arulesSequences'
<
< The following object is masked from 'package:arules':
<
< itemsets
<
Running 'native.R' [3s]
Comparing 'native.Rout' to 'native.Rout.save' ...15,21d14
<
< Attaching package: 'arulesSequences'
<
< The following object is masked from 'package:arules':
<
< itemsets
<
Running 'ptree.R' [12s]
Comparing 'ptree.Rout' to 'ptree.Rout.save' ...14,20d13
<
< Attaching package: 'arulesSequences'
<
< The following object is masked from 'package:arules':
<
< itemsets
<
119,127d111
< >
< > ## IGNORE_RDIFF_END
< >
< >
< > ## IGNORE_RDIFF_END
< >
< > warnings()
< > ###
< >
Running 'similarity.R' [4s]
Comparing 'similarity.Rout' to 'similarity.Rout.save' ...12,18d11
<
< Attaching package: 'arulesSequences'
<
< The following object is masked from 'package:arules':
<
< itemsets
<
Running 'zaki.R' [5s]
Comparing 'zaki.Rout' to 'zaki.Rout.save' ...12,18d11
<
< Attaching package: 'arulesSequences'
<
< The following object is masked from 'package:arules':
<
< itemsets
<
33,35d25
< Warning message:
< In type.convert.default(X[[i]], ...) :
< 'as.is' should be specified by the caller; using TRUE
322,325d311
< Warning messages:
< 1: In match(x@items, table@items, nomatch = nomatch, incomparables = incomparables) :
< Item coding not compatible, recoding item matrices first.
< 2: In .local(x, ...) : Item coding not compatible, recoding item matrices.
477,480d462
< Warning messages:
< 1: In match(x@items, table@items, nomatch = nomatch, incomparables = incomparables) :
< Item coding not compatible, recoding item matrices first.
< 2: In .local(x, ...) : Item coding not compatible, recoding item matrices.
503,506d484
< Warning messages:
< 1: In match(x@items, table@items, nomatch = nomatch, incomparables = incomparables) :
< Item coding not compatible, recoding item matrices first.
< 2: In .local(x, ...) : Item coding not compatible, recoding item matrices.
** running tests for arch 'x64' ... [40s] OK
Running 'Rgui.R' [4s]
Running 'arules.R' [3s]
Comparing 'arules.Rout' to 'arules.Rout.save' ...14,20d13
<
< Attaching package: 'arulesSequences'
<
< The following object is masked from 'package:arules':
<
< itemsets
<
Running 'idlists.R' [4s]
Comparing 'idlists.Rout' to 'idlists.Rout.save' ...14,20d13
<
< Attaching package: 'arulesSequences'
<
< The following object is masked from 'package:arules':
<
< itemsets
<
89,91d81
< Warning message:
< In match(x@items, table@items, nomatch = nomatch, incomparables = incomparables) :
< Item coding not compatible, recoding item matrices first.
Running 'makebin.R' [3s]
Comparing 'makebin.Rout' to 'makebin.Rout.save' ...14,20d13
<
< Attaching package: 'arulesSequences'
<
< The following object is masked from 'package:arules':
<
< itemsets
<
Running 'native.R' [3s]
Comparing 'native.Rout' to 'native.Rout.save' ...15,21d14
<
< Attaching package: 'arulesSequences'
<
< The following object is masked from 'package:arules':
<
< itemsets
<
Running 'ptree.R' [13s]
Comparing 'ptree.Rout' to 'ptree.Rout.save' ...14,20d13
<
< Attaching package: 'arulesSequences'
<
< The following object is masked from 'package:arules':
<
< itemsets
<
119,127d111
< >
< > ## IGNORE_RDIFF_END
< >
< >
< > ## IGNORE_RDIFF_END
< >
< > warnings()
< > ###
< >
Running 'similarity.R' [4s]
Comparing 'similarity.Rout' to 'similarity.Rout.save' ...12,18d11
<
< Attaching package: 'arulesSequences'
<
< The following object is masked from 'package:arules':
<
< itemsets
<
Running 'zaki.R' [5s]
Comparing 'zaki.Rout' to 'zaki.Rout.save' ...12,18d11
<
< Attaching package: 'arulesSequences'
<
< The following object is masked from 'package:arules':
<
< itemsets
<
33,35d25
< Warning message:
< In type.convert.default(X[[i]], ...) :
< 'as.is' should be specified by the caller; using TRUE
322,325d311
< Warning messages:
< 1: In match(x@items, table@items, nomatch = nomatch, incomparables = incomparables) :
< Item coding not compatible, recoding item matrices first.
< 2: In .local(x, ...) : Item coding not compatible, recoding item matrices.
477,480d462
< Warning messages:
< 1: In match(x@items, table@items, nomatch = nomatch, incomparables = incomparables) :
< Item coding not compatible, recoding item matrices first.
< 2: In .local(x, ...) : Item coding not compatible, recoding item matrices.
503,506d484
< Warning messages:
< 1: In match(x@items, table@items, nomatch = nomatch, incomparables = incomparables) :
< Item coding not compatible, recoding item matrices first.
< 2: In .local(x, ...) : Item coding not compatible, recoding item matrices.
- checking PDF version of manual ... OK
- DONE
Status: 1 NOTE