- using R version 3.5.3 (2019-03-11)
- using platform: x86_64-w64-mingw32 (64-bit)
- using session charset: ISO8859-1
- checking for file 'SODC/DESCRIPTION' ... OK
- checking extension type ... Package
- this is package 'SODC' version '1.0'
- checking package namespace information ... OK
- checking package dependencies ... OK
- checking if this is a source package ... OK
- checking if there is a namespace ... OK
- checking for hidden files and directories ... OK
- checking for portable file names ... OK
- checking whether package 'SODC' can be installed ... OK
- checking installed package size ... OK
- checking package directory ... OK
- checking DESCRIPTION meta-information ... OK
- checking top-level files ... OK
- checking for left-over files ... OK
- checking index information ... OK
- checking package subdirectories ... OK
- checking R files for non-ASCII characters ... OK
- checking R files for syntax errors ... OK
- checking whether the package can be loaded ... OK
- checking whether the package can be loaded with stated dependencies ... OK
- checking whether the package can be unloaded cleanly ... OK
- checking whether the namespace can be loaded with stated dependencies ... OK
- checking whether the namespace can be unloaded cleanly ... OK
- checking loading without being on the library search path ... OK
- checking use of S3 registration ... OK
- checking dependencies in R code ... NOTE
Packages in Depends field not imported from:
'MASS' 'magic' 'ppls' 'psych'
These packages need to be imported from (in the NAMESPACE file)
for when this namespace is loaded but not attached.
- checking S3 generic/method consistency ... OK
- checking replacement functions ... OK
- checking foreign function calls ... OK
- checking R code for possible problems ... [3s] NOTE
get.hnx.B.initialW: no visible global function definition for
'normalize.vector'
get.hnx.B.initialW: no visible global function definition for 'adiag'
hclust.wrap: no visible global function definition for 'hclust'
hclust.wrap: no visible global function definition for 'dist'
hclust.wrap: no visible global function definition for 'cutree'
my.normdata.gen: no visible global function definition for 'mvrnorm'
my.normdata.gen: no visible global function definition for 'rnorm'
odc.clust: no visible binding for global variable 'kmeans'
odc.cv: no visible global function definition for 'ginv'
odc.optimallambda2: no visible global function definition for 'tr'
odc.optimallambda2: no visible global function definition for 'ginv'
odc.optimallambda2: no visible binding for global variable 'sd'
sodc.clust: no visible binding for global variable 'kmeans'
Undefined global functions or variables:
adiag cutree dist ginv hclust kmeans mvrnorm normalize.vector rnorm
sd tr
Consider adding
importFrom("stats", "cutree", "dist", "hclust", "kmeans", "rnorm",
"sd")
to your NAMESPACE file.
- checking Rd files ... OK
- checking Rd metadata ... OK
- checking Rd cross-references ... OK
- checking for missing documentation entries ... OK
- checking for code/documentation mismatches ... OK
- checking Rd \usage sections ... OK
- checking Rd contents ... OK
- checking for unstated dependencies in examples ... OK
- checking examples ... [6s] OK
- checking PDF version of manual ... OK
- DONE
Status: 2 NOTEs