- using R version 4.1.3 (2022-03-10)
- using platform: x86_64-w64-mingw32 (64-bit)
- using session charset: ISO8859-1
- checking for file 'RInside/DESCRIPTION' ... OK
- this is package 'RInside' version '0.2.18'
- checking package namespace information ... OK
- checking package dependencies ... OK
- checking if this is a source package ... OK
- checking if there is a namespace ... OK
- checking for hidden files and directories ... OK
- checking for portable file names ... OK
- checking whether package 'RInside' can be installed ... OK
- checking installed package size ... NOTE
installed size is 15.2Mb
sub-directories of 1Mb or more:
lib 6.5Mb
libs 8.1Mb
- checking package directory ... OK
- checking DESCRIPTION meta-information ... OK
- checking top-level files ... OK
- checking for left-over files ... OK
- checking index information ... OK
- checking package subdirectories ... OK
- checking R files for non-ASCII characters ... OK
- checking R files for syntax errors ... OK
- loading checks for arch 'i386'
** checking whether the package can be loaded ... OK
** checking whether the package can be loaded with stated dependencies ... OK
** checking whether the package can be unloaded cleanly ... OK
** checking whether the namespace can be loaded with stated dependencies ... OK
** checking whether the namespace can be unloaded cleanly ... OK
** checking loading without being on the library search path ... OK
** checking use of S3 registration ... OK
- loading checks for arch 'x64'
** checking whether the package can be loaded ... OK
** checking whether the package can be loaded with stated dependencies ... OK
** checking whether the package can be unloaded cleanly ... OK
** checking whether the namespace can be loaded with stated dependencies ... OK
** checking whether the namespace can be unloaded cleanly ... OK
** checking loading without being on the library search path ... OK
** checking use of S3 registration ... OK
- checking dependencies in R code ... OK
- checking S3 generic/method consistency ... OK
- checking replacement functions ... OK
- checking foreign function calls ... OK
- checking R code for possible problems ... [3s] OK
- checking Rd files ... [0s] OK
- checking Rd metadata ... OK
- checking Rd cross-references ... OK
- checking for missing documentation entries ... OK
- checking for code/documentation mismatches ... OK
- checking Rd \usage sections ... OK
- checking Rd contents ... OK
- checking for unstated dependencies in examples ... OK
- checking line endings in shell scripts ... OK
- checking line endings in C/C++/Fortran sources/headers ... OK
- checking line endings in Makefiles ... OK
- checking compilation flags in Makevars ... OK
- checking for GNU extensions in Makefiles ... OK
- checking for portable use of $(BLAS_LIBS) and $(LAPACK_LIBS) ... OK
- checking use of PKG_*FLAGS in Makefiles ... OK
- checking include directives in Makefiles ... OK
- checking pragmas in C/C++ headers and code ... OK
- checking compiled code ... NOTE
File 'RInside/libs/i386/RInside.dll':
Found 'srand', possibly from 'srand' (C)
Object: 'RInside.o'
File 'RInside/libs/x64/RInside.dll':
Found 'srand', possibly from 'srand' (C)
Object: 'RInside.o'
File 'RInside/libs/i386/libRInside.dll':
Found 'srand', possibly from 'srand' (C)
Object: 'RInside.o'
File 'RInside/libs/x64/libRInside.dll':
Found 'srand', possibly from 'srand' (C)
Object: 'RInside.o'
File 'RInside/libs/i386/RInside.dll':
Found non-API calls to R: 'R_CleanTempDir', 'R_DefParams',
'R_ReplDLLinit', 'R_RunExitFinalizers', 'R_SetParams', 'R_TempDir',
'Rf_endEmbeddedR', 'Rf_initEmbeddedR', 'getRUser', 'get_R_HOME',
'run_Rmainloop'
File 'RInside/libs/x64/RInside.dll':
Found non-API calls to R: 'R_CleanTempDir', 'R_DefParams',
'R_ReplDLLinit', 'R_RunExitFinalizers', 'R_SetParams', 'R_TempDir',
'Rf_endEmbeddedR', 'Rf_initEmbeddedR', 'getRUser', 'get_R_HOME',
'run_Rmainloop'
File 'RInside/libs/i386/libRInside.dll':
Found non-API calls to R: 'R_CleanTempDir', 'R_DefParams',
'R_ReplDLLinit', 'R_RunExitFinalizers', 'R_SetParams', 'R_TempDir',
'Rf_endEmbeddedR', 'Rf_initEmbeddedR', 'getRUser', 'get_R_HOME',
'run_Rmainloop'
File 'RInside/libs/x64/libRInside.dll':
Found non-API calls to R: 'R_CleanTempDir', 'R_DefParams',
'R_ReplDLLinit', 'R_RunExitFinalizers', 'R_SetParams', 'R_TempDir',
'Rf_endEmbeddedR', 'Rf_initEmbeddedR', 'getRUser', 'get_R_HOME',
'run_Rmainloop'
Compiled code should not call entry points which might terminate R nor
write to stdout/stderr instead of to the console, nor use Fortran I/O
nor system RNGs.
Compiled code should not call non-API entry points in R.
See 'Writing portable packages' in the 'Writing R Extensions' manual.
- checking examples ... NONE
- checking PDF version of manual ... OK
- DONE
Status: 2 NOTEs