- using R version 3.6.3 (2020-02-29)
- using platform: x86_64-w64-mingw32 (64-bit)
- using session charset: ISO8859-1
- checking for file 'DeducerPlugInScaling/DESCRIPTION' ... OK
- this is package 'DeducerPlugInScaling' version '0.1-0'
- checking package namespace information ... OK
- checking package dependencies ... NOTE
Depends: includes the non-default packages:
'Deducer', 'psych', 'GPArotation', 'mvnormtest', 'irr', 'klaR'
Adding so many packages to the search path is excessive and importing
selectively is preferable.
- checking if this is a source package ... OK
- checking if there is a namespace ... OK
- checking for hidden files and directories ... OK
- checking for portable file names ... OK
- checking whether package 'DeducerPlugInScaling' can be installed ... OK
- checking installed package size ... OK
- checking package directory ... OK
- checking DESCRIPTION meta-information ... OK
- checking top-level files ... OK
- checking for left-over files ... OK
- checking index information ... OK
- checking package subdirectories ... OK
- checking R files for non-ASCII characters ... OK
- checking R files for syntax errors ... OK
- checking whether the package can be loaded ... OK
- checking whether the package can be loaded with stated dependencies ... OK
- checking whether the package can be unloaded cleanly ... OK
- checking whether the namespace can be loaded with stated dependencies ... OK
- checking whether the namespace can be unloaded cleanly ... OK
- checking loading without being on the library search path ... OK
- checking use of S3 registration ... OK
- checking dependencies in R code ... NOTE
'library' or 'require' call to 'klaR' which was already attached by Depends.
Please remove these calls from your code.
- checking S3 generic/method consistency ... OK
- checking replacement functions ... OK
- checking foreign function calls ... OK
- checking R code for possible problems ... [14s] NOTE
.makeICCDialog: no visible global function definition for 'J'
.makeICCDialog: no visible global function definition for 'new'
.makeICCDialog: no visible global function definition for '.jnull'
.makeNewFactorAnalysisDialog: no visible global function definition for
'new'
.makeNewFactorAnalysisDialog: no visible global function definition for
'J'
.makeNewFactorAnalysisDialog: no visible global function definition for
'toJava'
.makeNewLDADialog: no visible global function definition for 'new'
.makeNewLDADialog: no visible global function definition for 'J'
.makeNewLDADialog : linkSubDialog: no visible global function
definition for 'new'
.makeNewLDADialog : linkSubDialog: no visible global function
definition for 'toJava'
.makeNewLDADialog: no visible global function definition for 'toJava'
.makeNewReliabilityDialog: no visible global function definition for
'new'
.makeNewReliabilityDialog: no visible global function definition for
'toJava'
.onLoad: no visible global function definition for '.jnull'
.onLoad: no visible global function definition for 'winMenuAdd'
.onLoad: no visible global function definition for 'winMenuAddItem'
.onLoad: no visible global function definition for 'jgr.getMenuNames'
.onLoad: no visible global function definition for 'jgr.insertMenu'
.onLoad: no visible global function definition for 'jgr.addMenu'
.onLoad: no visible global function definition for 'jgr.addMenuItem'
Undefined global functions or variables:
.jnull J jgr.addMenu jgr.addMenuItem jgr.getMenuNames jgr.insertMenu
new toJava winMenuAdd winMenuAddItem
Consider adding
importFrom("methods", "new")
importFrom("utils", "winMenuAdd", "winMenuAddItem")
to your NAMESPACE file (and ensure that your DESCRIPTION Imports field
contains 'methods').
- checking Rd files ... OK
- checking Rd metadata ... OK
- checking Rd cross-references ... OK
- checking for missing documentation entries ... OK
- checking for code/documentation mismatches ... OK
- checking Rd \usage sections ... OK
- checking Rd contents ... OK
- checking for unstated dependencies in examples ... OK
- checking examples ... NONE
- checking PDF version of manual ... OK
- DONE
Status: 3 NOTEs