- using R version 3.4.4 (2018-03-15)
- using platform: x86_64-w64-mingw32 (64-bit)
- using session charset: ISO8859-1
- checking for file 'AER/DESCRIPTION' ... OK
- this is package 'AER' version '1.2-6'
- checking package namespace information ... OK
- checking package dependencies ... OK
- checking if this is a source package ... OK
- checking if there is a namespace ... OK
- checking for hidden files and directories ... OK
- checking for portable file names ... OK
- checking whether package 'AER' can be installed ... OK
- checking installed package size ... OK
- checking package directory ... OK
- checking 'build' directory ... OK
- checking DESCRIPTION meta-information ... OK
- checking top-level files ... OK
- checking for left-over files ... OK
- checking index information ... OK
- checking package subdirectories ... OK
- checking R files for non-ASCII characters ... OK
- checking R files for syntax errors ... OK
- checking whether the package can be loaded ... OK
- checking whether the package can be loaded with stated dependencies ... OK
- checking whether the package can be unloaded cleanly ... OK
- checking whether the namespace can be loaded with stated dependencies ... OK
- checking whether the namespace can be unloaded cleanly ... OK
- checking loading without being on the library search path ... OK
- checking use of S3 registration ... OK
- checking dependencies in R code ... OK
- checking S3 generic/method consistency ... OK
- checking replacement functions ... OK
- checking foreign function calls ... OK
- checking R code for possible problems ... [13s] OK
- checking Rd files ... OK
- checking Rd metadata ... OK
- checking Rd cross-references ... OK
- checking for missing documentation entries ... OK
- checking for code/documentation mismatches ... OK
- checking Rd \usage sections ... OK
- checking Rd contents ... OK
- checking for unstated dependencies in examples ... OK
- checking contents of 'data' directory ... OK
- checking data for non-ASCII characters ... OK
- checking data for ASCII and uncompressed saves ... OK
- checking sizes of PDF files under 'inst/doc' ... OK
- checking installed files from 'inst/doc' ... OK
- checking files in 'vignettes' ... OK
- checking examples ... [148s] OK
- checking for unstated dependencies in 'tests' ... OK
- checking tests ... [128s] OK
Running 'Ch-Basics.R' [4s]
Comparing 'Ch-Basics.Rout' to 'Ch-Basics.Rout.save' ... OK
Running 'Ch-Intro.R' [6s]
Comparing 'Ch-Intro.Rout' to 'Ch-Intro.Rout.save' ... OK
Running 'Ch-LinearRegression.R' [15s]
Comparing 'Ch-LinearRegression.Rout' to 'Ch-LinearRegression.Rout.save' ...806,808c806,808
< Estimate Std. Error z-value Pr(>|z|)
< (Intercept) -109.9766 61.7014 -1.78 0.075
< value 0.1043 0.0150 6.95 3.6e-12
---
> Estimate Std. Error t-value Pr(>|t|)
> (Intercept) -109.9766 61.7014 -1.78 0.08
> value 0.1043 0.0150 6.95 3.8e-09
815c815
< Chisq: 383.089 on 2 DF, p-value: <2e-16
---
> F-statistic: 191.545 on 2 and 57 DF, p-value: <2e-16
858,860d857
< Warning messages:
< 1: use of 'dynformula' is deprecated, use a multi-part formula instead
< 2: use of 'dynformula' is deprecated, use a multi-part formula instead
Running 'Ch-Microeconometrics.R' [8s]
Comparing 'Ch-Microeconometrics.Rout' to 'Ch-Microeconometrics.Rout.save' ...247c247
< southernyes 3.13e+01 1.73e+07 0.00 1.000
---
> southernyes 3.33e+01 1.73e+07 0.00 1.000
Running 'Ch-Programming.R' [43s]
Comparing 'Ch-Programming.Rout' to 'Ch-Programming.Rout.save' ... OK
Running 'Ch-TimeSeries.R' [13s]
Comparing 'Ch-TimeSeries.Rout' to 'Ch-TimeSeries.Rout.save' ... OK
Running 'Ch-Validation.R' [38s]
Comparing 'Ch-Validation.Rout' to 'Ch-Validation.Rout.save' ... OK
- checking for unstated dependencies in vignettes ... OK
- checking package vignettes in 'inst/doc' ... OK
- checking re-building of vignette outputs ... [16s] OK
- checking PDF version of manual ... OK
- DONE
Status: OK