• using R version 3.6.0 beta (2019-04-15 r76395)
  • using platform: x86_64-apple-darwin15.6.0 (64-bit)
  • using session charset: UTF-8
  • checking for file ‘spatialTailDep/DESCRIPTION’ ... OK
  • this is package ‘spatialTailDep’ version ‘1.0.2’
  • checking package namespace information ... OK
  • checking package dependencies ... OK
  • checking if this is a source package ... OK
  • checking if there is a namespace ... OK
  • checking for executable files ... OK
  • checking for hidden files and directories ... OK
  • checking for portable file names ... OK
  • checking for sufficient/correct file permissions ... OK
  • checking whether package ‘spatialTailDep’ can be installed ... [7s/13s] OK
  • checking installed package size ... OK
  • checking package directory ... OK
  • checking DESCRIPTION meta-information ... OK
  • checking top-level files ... OK
  • checking for left-over files ... OK
  • checking index information ... OK
  • checking package subdirectories ... OK
  • checking R files for non-ASCII characters ... OK
  • checking R files for syntax errors ... OK
  • checking whether the package can be loaded ... OK
  • checking whether the package can be loaded with stated dependencies ... OK
  • checking whether the package can be unloaded cleanly ... OK
  • checking whether the namespace can be loaded with stated dependencies ... OK
  • checking whether the namespace can be unloaded cleanly ... OK
  • checking loading without being on the library search path ... OK
  • checking dependencies in R code ... OK
  • checking S3 generic/method consistency ... OK
  • checking replacement functions ... OK
  • checking foreign function calls ... OK
  • checking R code for possible problems ... [8s/15s] NOTE
    I2BR: no visible global function definition for ‘pnorm’
    I2SmD2: no visible global function definition for ‘pnorm’
    IBR: no visible global function definition for ‘pnorm’
    ISmD2: no visible global function definition for ‘pnorm’
    MestimatorBR: no visible global function definition for ‘optim’
    MestimatorSmith: no visible global function definition for ‘optim’
    psidotBR: no visible global function definition for ‘dnorm’
    psidotBR: no visible global function definition for ‘pnorm’
    psidotSmD2: no visible global function definition for ‘dnorm’
    psidotSmD2: no visible global function definition for ‘pnorm’
    tailBRInt: no visible global function definition for ‘pnorm’
    tailSmithInt: no visible global function definition for ‘pnorm’
    Undefined global functions or variables:
      dnorm optim pnorm
    Consider adding
      importFrom("stats", "dnorm", "optim", "pnorm")
    to your NAMESPACE file.
  • checking Rd files ... OK
  • checking Rd metadata ... OK
  • checking Rd cross-references ... OK
  • checking for missing documentation entries ... OK
  • checking for code/documentation mismatches ... OK
  • checking Rd \usage sections ... OK
  • checking Rd contents ... OK
  • checking for unstated dependencies in examples ... OK
  • checking contents of ‘data’ directory ... OK
  • checking data for non-ASCII characters ... OK
  • checking data for ASCII and uncompressed saves ... OK
  • checking line endings in C/C++/Fortran sources/headers ... OK
  • checking compiled code ... OK
  • checking examples ... [3s/6s] OK
  • checking PDF version of manual ... OK
  • DONE
    Status: 1 NOTE