• using R version 3.6.0 beta (2019-04-15 r76395)
  • using platform: x86_64-apple-darwin15.6.0 (64-bit)
  • using session charset: UTF-8
  • checking for file ‘spatial.gev.bma/DESCRIPTION’ ... OK
  • checking extension type ... Package
  • this is package ‘spatial.gev.bma’ version ‘1.0’
  • checking package namespace information ... OK
  • checking package dependencies ... OK
  • checking if this is a source package ... OK
  • checking if there is a namespace ... OK
  • checking for executable files ... OK
  • checking for hidden files and directories ... OK
  • checking for portable file names ... OK
  • checking for sufficient/correct file permissions ... OK
  • checking whether package ‘spatial.gev.bma’ can be installed ... [10s/17s] OK
  • checking installed package size ... OK
  • checking package directory ... OK
  • checking DESCRIPTION meta-information ... OK
  • checking top-level files ... OK
  • checking for left-over files ... OK
  • checking index information ... OK
  • checking package subdirectories ... OK
  • checking R files for non-ASCII characters ... OK
  • checking R files for syntax errors ... OK
  • checking whether the package can be loaded ... OK
  • checking whether the package can be loaded with stated dependencies ... OK
  • checking whether the package can be unloaded cleanly ... OK
  • checking whether the namespace can be loaded with stated dependencies ... OK
  • checking whether the namespace can be unloaded cleanly ... OK
  • checking loading without being on the library search path ... OK
  • checking dependencies in R code ... OK
  • checking S3 generic/method consistency ... OK
  • checking replacement functions ... OK
  • checking foreign function calls ... OK
  • checking R code for possible problems ... [11s/18s] NOTE
    gev.impute: no visible global function definition for ‘rnorm’
    gev.init: no visible global function definition for ‘rbinom’
    gev.init: no visible global function definition for ‘var’
    gev.init: no visible global function definition for ‘optimize’
    gev.logscore: no visible global function definition for ‘density’
    gev.logscore: no visible global function definition for ‘splinefun’
    gev.update.M: no visible global function definition for ‘runif’
    gev.update.hyper: no visible global function definition for ‘rgamma’
    gev.update.lambda: no visible global function definition for ‘rnorm’
    gev.update.lambda: no visible global function definition for ‘dgamma’
    gev.update.lambda: no visible global function definition for ‘dnorm’
    gev.update.lambda: no visible global function definition for ‘runif’
    gev.update.tau.kappa: no visible global function definition for ‘rnorm’
    gev.update.tau.kappa: no visible global function definition for ‘dnorm’
    gev.update.tau.kappa: no visible global function definition for ‘runif’
    gev.update.tau.mu: no visible global function definition for ‘rnorm’
    gev.update.tau.mu: no visible global function definition for ‘dnorm’
    gev.update.tau.mu: no visible global function definition for ‘runif’
    gev.update.tau.xi: no visible global function definition for ‘rnorm’
    gev.update.tau.xi: no visible global function definition for ‘dnorm’
    gev.update.tau.xi: no visible global function definition for ‘runif’
    gev.update.theta: no visible global function definition for ‘rnorm’
    gp.like.lambda: no visible global function definition for ‘dgamma’
    Undefined global functions or variables:
      density dgamma dnorm optimize rbinom rgamma rnorm runif splinefun var
    Consider adding
      importFrom("stats", "density", "dgamma", "dnorm", "optimize", "rbinom",
                 "rgamma", "rnorm", "runif", "splinefun", "var")
    to your NAMESPACE file.
  • checking Rd files ... OK
  • checking Rd metadata ... OK
  • checking Rd cross-references ... OK
  • checking for missing documentation entries ... OK
  • checking for code/documentation mismatches ... OK
  • checking Rd \usage sections ... OK
  • checking Rd contents ... OK
  • checking for unstated dependencies in examples ... OK
  • checking contents of ‘data’ directory ... OK
  • checking data for non-ASCII characters ... OK
  • checking data for ASCII and uncompressed saves ... OK
  • checking examples ... [4s/7s] OK
  • checking PDF version of manual ... OK
  • DONE
    Status: 1 NOTE