- using R version 3.5.0 (2018-04-23)
- using platform: x86_64-apple-darwin15.6.0 (64-bit)
- using session charset: UTF-8
- checking for file ‘randomUniformForest/DESCRIPTION’ ... OK
- checking extension type ... Package
- this is package ‘randomUniformForest’ version ‘1.1.5’
- checking package namespace information ... OK
- checking package dependencies ... OK
- checking if this is a source package ... OK
- checking if there is a namespace ... OK
- checking for executable files ... OK
- checking for hidden files and directories ... OK
- checking for portable file names ... OK
- checking for sufficient/correct file permissions ... OK
- checking whether package ‘randomUniformForest’ can be installed ... [29s/44s] OK
- checking installed package size ... OK
- checking package directory ... OK
- checking ‘build’ directory ... OK
- checking DESCRIPTION meta-information ... OK
- checking top-level files ... OK
- checking for left-over files ... OK
- checking index information ... OK
- checking package subdirectories ... OK
- checking R files for non-ASCII characters ... OK
- checking R files for syntax errors ... OK
- checking whether the package can be loaded ... OK
- checking whether the package can be loaded with stated dependencies ... OK
- checking whether the package can be unloaded cleanly ... OK
- checking whether the namespace can be loaded with stated dependencies ... OK
- checking whether the namespace can be unloaded cleanly ... OK
- checking loading without being on the library search path ... OK
- checking dependencies in R code ... OK
- checking S3 generic/method consistency ... OK
- checking replacement functions ... OK
- checking foreign function calls ... OK
- checking R code for possible problems ... [29s/44s] NOTE
HuberDist: no visible global function definition for ‘median’
MDSscale: no visible global function definition for ‘plot’
OOBquantiles : <anonymous>: no visible global function definition for
‘quantile’
OOBquantiles : <anonymous>: no visible global function definition for
‘sd’
OOBquantiles: no visible global function definition for ‘quantile’
OOBquantiles: no visible global function definition for ‘plot’
bCICore: no visible global function definition for ‘quantile’
bCICore: no visible global function definition for ‘qnorm’
bCICore: no visible global function definition for ‘sd’
clusterAnalysis: no visible global function definition for ‘aggregate’
clusterAnalysis: no visible global function definition for ‘head’
clusterAnalysis : <anonymous>: no visible global function definition
for ‘sd’
clusteringObservations: no visible global function definition for
‘plot’
gap.stats: no visible binding for global variable ‘kmeans’
generic.cv: no visible global function definition for ‘predict’
generic.cv: no visible global function definition for ‘sd’
generic.smoothing.log: no visible binding for global variable ‘median’
genericCbind: no visible global function definition for ‘na.omit’
getCorr: no visible global function definition for ‘cor’
hClust: no visible global function definition for ‘plot’
hClust: no visible global function definition for ‘abline’
importance.randomUniformForest: no visible global function definition
for ‘model.frame’
importance.randomUniformForest: no visible global function definition
for ‘model.matrix’
importance.randomUniformForest: no visible global function definition
for ‘par’
importance.randomUniformForest: no visible global function definition
for ‘barplot’
importance.randomUniformForest: no visible global function definition
for ‘heat.colors’
importance.randomUniformForest: no visible global function definition
for ‘abline’
kMeans: no visible global function definition for ‘plot’
kMeans: no visible global function definition for ‘points’
localVariableImportance: no visible global function definition for
‘predict’
model.stats: no visible global function definition for ‘graphics.off’
model.stats: no visible global function definition for ‘dev.new’
na.replace: no visible global function definition for ‘median’
optimizeFalsePositives: no visible global function definition for
‘median’
optimizeFalsePositives: no visible global function definition for
‘plot’
optimizeFalsePositives: no visible global function definition for
‘points’
optimizeFalsePositives: no visible global function definition for
‘grid’
outputPerturbationSampling: no visible global function definition for
‘sd’
outputPerturbationSampling: no visible global function definition for
‘rnorm’
partialDependenceBetweenPredictors: no visible global function
definition for ‘graphics.off’
partialDependenceBetweenPredictors: no visible global function
definition for ‘dev.new’
partialDependenceBetweenPredictors: no visible global function
definition for ‘plot’
partialDependenceBetweenPredictors : <anonymous>: no visible global
function definition for ‘quantile’
partialDependenceBetweenPredictors: no visible global function
definition for ‘par’
partialDependenceBetweenPredictors: no visible binding for global
variable ‘heat.colors’
partialDependenceOverResponses: no visible global function definition
for ‘quantile’
partialDependenceOverResponses: no visible global function definition
for ‘plot’
partialDependenceOverResponses: no visible global function definition
for ‘par’
partialDependenceOverResponses: no visible global function definition
for ‘mosaicplot’
partialDependenceOverResponses: no visible global function definition
for ‘heat.colors’
partialImportance: no visible global function definition for ‘par’
partialImportance: no visible global function definition for ‘barplot’
partialImportance: no visible global function definition for
‘heat.colors’
perspWithcol: no visible global function definition for ‘par’
perspWithcol: no visible global function definition for ‘persp’
plot.importance: no visible global function definition for
‘model.frame’
plot.importance: no visible global function definition for
‘model.matrix’
plot.importance: no visible global function definition for
‘graphics.off’
plot.importance: no visible global function definition for ‘par’
plot.importance: no visible global function definition for ‘barplot’
plot.importance: no visible global function definition for
‘heat.colors’
plot.importance: no visible global function definition for ‘abline’
plot.importance: no visible global function definition for ‘dev.new’
plot.importance: no visible global function definition for ‘mosaicplot’
plot.importance: no visible global function definition for ‘plot’
plot.randomUniformForest: no visible global function definition for
‘plot’
plot.randomUniformForest: no visible global function definition for
‘points’
plot.randomUniformForest: no visible global function definition for
‘grid’
plot.unsupervised: no visible global function definition for ‘dev.new’
plot.unsupervised: no visible global function definition for ‘dev.off’
plot.unsupervised: no visible global function definition for ‘plot’
plot.unsupervised: no visible global function definition for ‘abline’
plot.unsupervised: no visible global function definition for ‘points’
plot.unsupervised: no visible global function definition for ‘legend’
plotTree: no visible global function definition for ‘plot’
postProcessingVotes: no visible global function definition for
‘predict’
postProcessingVotes : <anonymous>: no visible global function
definition for ‘median’
postProcessingVotes: no visible global function definition for ‘lm’
predictionvsResponses: no visible global function definition for ‘lm’
predictionvsResponses: no visible global function definition for ‘plot’
predictionvsResponses: no visible global function definition for
‘abline’
predictionvsResponses: no visible global function definition for ‘grid’
print.unsupervised: no visible global function definition for ‘dist’
proximitiesMatrix: no visible global function definition for
‘memory.limit’
pseudoHuberDist: no visible global function definition for ‘median’
rUniformForest.big: no visible global function definition for ‘runif’
rUniformForest.merge: no visible global function definition for ‘runif’
rUniformForestPredict: no visible global function definition for
‘model.frame’
rUniformForestPredict: no visible global function definition for
‘model.matrix’
rUniformForestPredict: no visible global function definition for
‘quantile’
rUniformForestPredict : <anonymous>: no visible global function
definition for ‘quantile’
rUniformForestPredict : <anonymous>: no visible global function
definition for ‘sd’
rUniformForestPredict: no visible binding for global variable ‘sd’
randomCombination: no visible global function definition for ‘runif’
randomUniformForest.default: no visible global function definition for
‘runif’
randomUniformForest.formula: no visible global function definition for
‘model.frame’
randomUniformForest.formula: no visible global function definition for
‘model.matrix’
randomUniformForest.formula: no visible global function definition for
‘model.response’
rm.trees: no visible global function definition for ‘quantile’
rm.trees: no visible global function definition for ‘predict’
roc.curve: no visible global function definition for ‘par’
roc.curve: no visible global function definition for ‘plot’
roc.curve: no visible global function definition for ‘title’
roc.curve: no visible global function definition for ‘points’
roc.curve: no visible global function definition for ‘abline’
rollApplyFunction: no visible global function definition for ‘na.omit’
scale2AnyValues: no visible global function definition for ‘quantile’
simulationData: no visible binding for global variable ‘rnorm’
simulationData: no visible global function definition for ‘runif’
smoothing.log: no visible binding for global variable ‘median’
smoothing.log: no visible global function definition for ‘runif’
strength_and_correlation: no visible global function definition for
‘cor’
subEstimaterequiredSampleSize: no visible global function definition
for ‘pbinom’
summary.randomUniformForest: no visible global function definition for
‘par’
summary.randomUniformForest: no visible global function definition for
‘barplot’
summary.randomUniformForest: no visible global function definition for
‘heat.colors’
summary.randomUniformForest: no visible global function definition for
‘abline’
uniformDecisionTree: no visible global function definition for ‘runif’
unsupervised.randomUniformForest: no visible global function definition
for ‘predict’
unsupervised.randomUniformForest: no visible global function definition
for ‘quantile’
unsupervised2supervised : <anonymous>: no visible global function
definition for ‘rnorm’
unsupervised2supervised : <anonymous>: no visible global function
definition for ‘sd’
unsupervised2supervised: no visible global function definition for ‘sd’
unsupervised2supervised: no visible global function definition for
‘rnorm’
update.unsupervised: no visible global function definition for
‘predict’
weightedVoteModel: no visible global function definition for ‘lm’
which.is.duplicate: no visible global function definition for ‘na.omit’
Undefined global functions or variables:
abline aggregate barplot cor dev.new dev.off dist graphics.off grid
head heat.colors kmeans legend lm median memory.limit model.frame
model.matrix model.response mosaicplot na.omit par pbinom persp plot
points predict qnorm quantile rnorm runif sd title
Consider adding
importFrom("grDevices", "dev.new", "dev.off", "graphics.off",
"heat.colors")
importFrom("graphics", "abline", "barplot", "grid", "legend",
"mosaicplot", "par", "persp", "plot", "points", "title")
importFrom("stats", "aggregate", "cor", "dist", "kmeans", "lm",
"median", "model.frame", "model.matrix", "model.response",
"na.omit", "pbinom", "predict", "qnorm", "quantile",
"rnorm", "runif", "sd")
importFrom("utils", "head", "memory.limit")
to your NAMESPACE file.
- checking Rd files ... OK
- checking Rd metadata ... OK
- checking Rd cross-references ... OK
- checking for missing documentation entries ... OK
- checking for code/documentation mismatches ... OK
- checking Rd \usage sections ... OK
- checking Rd contents ... OK
- checking for unstated dependencies in examples ... OK
- checking contents of ‘data’ directory ... OK
- checking data for non-ASCII characters ... OK
- checking data for ASCII and uncompressed saves ... OK
- checking line endings in C/C++/Fortran sources/headers ... OK
- checking compiled code ... OK
- checking sizes of PDF files under ‘inst/doc’ ... OK
- checking installed files from ‘inst/doc’ ... OK
- checking files in ‘vignettes’ ... OK
- checking examples ... [3s/23s] OK
- checking for unstated dependencies in vignettes ... OK
- checking package vignettes in ‘inst/doc’ ... OK
- checking running R code from vignettes ... NONE
- checking re-building of vignette outputs ... [1s/1s] OK
- checking PDF version of manual ... OK
- DONE
Status: 1 NOTE