• using R version 3.6.0 beta (2019-04-15 r76395)
  • using platform: x86_64-apple-darwin15.6.0 (64-bit)
  • using session charset: UTF-8
  • checking for file ‘meaRtools/DESCRIPTION’ ... OK
  • checking extension type ... Package
  • this is package ‘meaRtools’ version ‘1.0.4’
  • checking package namespace information ... OK
  • checking package dependencies ... OK
  • checking if this is a source package ... OK
  • checking if there is a namespace ... OK
  • checking for executable files ... OK
  • checking for hidden files and directories ... OK
  • checking for portable file names ... OK
  • checking for sufficient/correct file permissions ... OK
  • checking whether package ‘meaRtools’ can be installed ...