• using R version 3.6.2 (2019-12-12)
  • using platform: x86_64-apple-darwin15.6.0 (64-bit)
  • using session charset: UTF-8
  • checking for file ‘future.apply/DESCRIPTION’ ... OK
  • this is package ‘future.apply’ version ‘1.6.0’
  • checking package namespace information ... OK
  • checking package dependencies ... OK
  • checking if this is a source package ... OK
  • checking if there is a namespace ... OK
  • checking for executable files ... OK
  • checking for hidden files and directories ... OK
  • checking for portable file names ... OK
  • checking for sufficient/correct file permissions ... OK
  • checking whether package ‘future.apply’ can be installed ... [3s/3s] OK
  • checking installed package size ... OK
  • checking package directory ... OK
  • checking ‘build’ directory ... OK
  • checking DESCRIPTION meta-information ... OK
  • checking top-level files ... OK
  • checking for left-over files ... OK
  • checking index information ... OK
  • checking package subdirectories ... OK
  • checking R files for non-ASCII characters ... OK
  • checking R files for syntax errors ... OK
  • checking whether the package can be loaded ... OK
  • checking whether the package can be loaded with stated dependencies ... OK
  • checking whether the package can be unloaded cleanly ... OK
  • checking whether the namespace can be loaded with stated dependencies ... OK
  • checking whether the namespace can be unloaded cleanly ... OK
  • checking loading without being on the library search path ... OK
  • checking dependencies in R code ... OK
  • checking S3 generic/method consistency ... OK
  • checking replacement functions ... OK
  • checking foreign function calls ... OK
  • checking R code for possible problems ... [4s/4s] OK
  • checking Rd files ... OK
  • checking Rd metadata ... OK
  • checking Rd cross-references ... OK
  • checking for missing documentation entries ... OK
  • checking for code/documentation mismatches ... OK
  • checking Rd \usage sections ... OK
  • checking Rd contents ... OK
  • checking for unstated dependencies in examples ... OK
  • checking installed files from ‘inst/doc’ ... OK
  • checking files in ‘vignettes’ ... OK
  • checking examples ... [2s/19s] OK
  • checking for unstated dependencies in ‘tests’ ... OK
  • checking tests ... [139s/408s] OK
      Running ‘fold.R’ [8s/8s]
      Running ‘future_apply.R’ [6s/19s]
      Running ‘future_by.R’ [5s/18s]
      Running ‘future_eapply.R’ [3s/16s]
      Running ‘future_lapply,RNG.R’ [35s/127s]
      Running ‘future_lapply,globals.R’ [4s/24s]
      Running ‘future_lapply.R’ [15s/28s]
      Running ‘future_mapply,globals.R’ [3s/17s]
      Running ‘future_mapply.R’ [10s/23s]
      Running ‘future_replicate.R’ [4s/17s]
      Running ‘future_sapply.R’ [30s/41s]
      Running ‘future_tapply.R’ [1s/1s]
      Running ‘future_vapply.R’ [9s/22s]
      Running ‘globals,tricky_recursive.R’ [2s/15s]
      Running ‘rng.R’ [1s/1s]
      Running ‘stdout.R’ [3s/31s]
      Running ‘utils.R’ [1s/1s]
  • checking for unstated dependencies in vignettes ... OK
  • checking package vignettes in ‘inst/doc’ ... OK
  • checking running R code from vignettes ... [1s/1s] NONE
      ‘future.apply-1-overview.md.rsp’... [1s/1s] OK
  • checking re-building of vignette outputs ... [1s/1s] OK
  • checking PDF version of manual ... OK
  • DONE
    Status: OK