- using R version 3.5.2 (2018-12-20)
- using platform: x86_64-apple-darwin15.6.0 (64-bit)
- using session charset: UTF-8
- checking for file ‘fitdistrplus/DESCRIPTION’ ... OK
- this is package ‘fitdistrplus’ version ‘1.0-14’
- package encoding: UTF-8
- checking package namespace information ... OK
- checking package dependencies ... OK
- checking if this is a source package ... OK
- checking if there is a namespace ... OK
- checking for executable files ... OK
- checking for hidden files and directories ... OK
- checking for portable file names ... OK
- checking for sufficient/correct file permissions ... OK
- checking whether package ‘fitdistrplus’ can be installed ... [10s/10s] OK
- checking installed package size ... OK
- checking package directory ... OK
- checking ‘build’ directory ... OK
- checking DESCRIPTION meta-information ... OK
- checking top-level files ... OK
- checking for left-over files ... OK
- checking index information ... OK
- checking package subdirectories ... OK
- checking R files for non-ASCII characters ... OK
- checking R files for syntax errors ... OK
- checking whether the package can be loaded ... OK
- checking whether the package can be loaded with stated dependencies ... OK
- checking whether the package can be unloaded cleanly ... OK
- checking whether the namespace can be loaded with stated dependencies ... OK
- checking whether the namespace can be unloaded cleanly ... OK
- checking loading without being on the library search path ... OK
- checking dependencies in R code ... OK
- checking S3 generic/method consistency ... OK
- checking replacement functions ... OK
- checking foreign function calls ... OK
- checking R code for possible problems ... [17s/17s] OK
- checking Rd files ... OK
- checking Rd metadata ... OK
- checking Rd cross-references ... OK
- checking for missing documentation entries ... OK
- checking for code/documentation mismatches ... OK
- checking Rd \usage sections ... OK
- checking Rd contents ... OK
- checking for unstated dependencies in examples ... OK
- checking contents of ‘data’ directory ... OK
- checking data for non-ASCII characters ... OK
- checking data for ASCII and uncompressed saves ... OK
- checking sizes of PDF files under ‘inst/doc’ ... OK
- checking installed files from ‘inst/doc’ ... OK
- checking files in ‘vignettes’ ... OK
- checking examples ... [23s/23s] OK
- checking for unstated dependencies in ‘tests’ ... OK
- checking tests ... [132s/134s] OK
Running ‘t-CIcdfplot.R’ [3s/3s]
Running ‘t-bootdist.R’ [10s/12s]
Running ‘t-bootdistcens.R’ [3s/3s]
Running ‘t-cdfcomp.R’ [3s/3s]
Running ‘t-cdfcompcens.R’ [4s/4s]
Running ‘t-cvg-algo.R’ [2s/2s]
Running ‘t-denscomp.R’ [3s/3s]
Running ‘t-descdist.R’ [2s/2s]
Running ‘t-detectbound.R’ [2s/2s]
Running ‘t-fitbench.R’ [2s/2s]
Running ‘t-fitdist-customoptim.R’ [2s/2s]
Running ‘t-fitdist.R’ [10s/10s]
Running ‘t-fitdistcens.R’ [3s/3s]
Running ‘t-getparam.R’ [2s/2s]
Running ‘t-gofstat.R’ [2s/2s]
Running ‘t-init-actuar.R’ [0s/0s]
Running ‘t-llplot.R’ [7s/7s]
Running ‘t-lnL-surf.R’ [3s/3s]
Running ‘t-logLik-vcov-coef.R’ [2s/2s]
Running ‘t-manageparam.R’ [2s/2s]
Running ‘t-mgedist.R’ [2s/2s]
Running ‘t-mledist-cens.R’ [2s/2s]
Running ‘t-mledist-nocens.R’ [7s/7s]
Running ‘t-mmedist.R’ [8s/8s]
Running ‘t-parallel.R’ [0s/0s]
Running ‘t-plotdist.R’ [2s/2s]
Running ‘t-plotdistcens.R’ [3s/3s]
Running ‘t-ppcomp.R’ [3s/3s]
Running ‘t-ppcompcens.R’ [3s/3s]
Running ‘t-prefit.R’ [2s/2s]
Running ‘t-qme-discrete.R’ [7s/7s]
Running ‘t-qmedist.R’ [5s/5s]
Running ‘t-qqcomp.R’ [5s/5s]
Running ‘t-qqcompcens.R’ [4s/4s]
Running ‘t-quantiledist.R’ [2s/2s]
Running ‘t-startfixarg-overall.R’ [3s/3s]
Running ‘t-startingvalues.R’ [2s/2s]
Running ‘t-util-testdensity.R’ [2s/2s]
Running ‘t-weird-ppcomp-cens.R’ [2s/2s]
Running ‘t-weird-qqcomp-cens.R’ [2s/2s]
- checking for unstated dependencies in vignettes ... OK
- checking package vignettes in ‘inst/doc’ ... OK
- checking running R code from vignettes ... [17s/17s] OK
- checking re-building of vignette outputs ... [64s/71s] OK
- checking PDF version of manual ... OK
- DONE
Status: OK