• using R version 3.6.0 beta (2019-04-15 r76395)
  • using platform: x86_64-apple-darwin15.6.0 (64-bit)
  • using session charset: UTF-8
  • checking for file ‘ROC632/DESCRIPTION’ ... OK
  • checking extension type ... Package
  • this is package ‘ROC632’ version ‘0.6’
  • checking package namespace information ... OK
  • checking package dependencies ... OK
  • checking if this is a source package ... OK
  • checking if there is a namespace ... OK
  • checking for executable files ... OK
  • checking for hidden files and directories ... OK
  • checking for portable file names ... OK
  • checking for sufficient/correct file permissions ... OK
  • checking whether package ‘ROC632’ can be installed ... [9s/13s] OK
  • checking installed package size ... OK
  • checking package directory ... OK
  • checking DESCRIPTION meta-information ... NOTE
    Malformed Title field: should not end in a period.
  • checking top-level files ... OK
  • checking for left-over files ... OK
  • checking index information ... OK
  • checking package subdirectories ... OK
  • checking R files for non-ASCII characters ... OK
  • checking R files for syntax errors ... OK
  • checking whether the package can be loaded ... OK
  • checking whether the package can be loaded with stated dependencies ... OK
  • checking whether the package can be unloaded cleanly ... OK
  • checking whether the namespace can be loaded with stated dependencies ... OK
  • checking whether the namespace can be unloaded cleanly ... OK
  • checking loading without being on the library search path ... OK
  • checking dependencies in R code ... NOTE
    Packages in Depends field not imported from:
      ‘penalized’ ‘splines’ ‘survival’ ‘survivalROC’
      These packages need to be imported from (in the NAMESPACE file)
      for when this namespace is loaded but not attached.
  • checking S3 generic/method consistency ... OK
  • checking replacement functions ... OK
  • checking foreign function calls ... OK
  • checking R code for possible problems ... [6s/9s] NOTE
    boot.ROC: no visible global function definition for ‘qnorm’
    boot.ROC: no visible global function definition for ‘penalized’
    boot.ROC: no visible global function definition for ‘coefficients’
    boot.ROC: no visible global function definition for ‘sd’
    boot.ROC: no visible global function definition for ‘optL1’
    boot.ROCt: no visible global function definition for ‘qnorm’
    boot.ROCt: no visible global function definition for ‘penalized’
    boot.ROCt: no visible global function definition for ‘Surv’
    boot.ROCt: no visible global function definition for ‘coefficients’
    boot.ROCt: no visible global function definition for ‘sd’
    boot.ROCt: no visible global function definition for ‘survivalROC’
    boot.ROCt: no visible global function definition for ‘optL1’
    Undefined global functions or variables:
      Surv coefficients optL1 penalized qnorm sd survivalROC
    Consider adding
      importFrom("stats", "coefficients", "qnorm", "sd")
    to your NAMESPACE file.
  • checking Rd files ... OK
  • checking Rd metadata ... OK
  • checking Rd cross-references ... OK
  • checking for missing documentation entries ... OK
  • checking for code/documentation mismatches ... OK
  • checking Rd \usage sections ... OK
  • checking Rd contents ... OK
  • checking for unstated dependencies in examples ... OK
  • checking contents of ‘data’ directory ... OK
  • checking data for non-ASCII characters ... OK
  • checking data for ASCII and uncompressed saves ... OK
  • checking examples ... [5s/8s] OK
  • checking PDF version of manual ... OK
  • DONE
    Status: 3 NOTEs