- using R version 4.2.0 (2022-04-22)
- using platform: x86_64-apple-darwin17.0 (64-bit)
- using session charset: UTF-8
- checking for file ‘vbsr/DESCRIPTION’ ... OK
- checking extension type ... Package
- this is package ‘vbsr’ version ‘0.0.5’
- checking package namespace information ... OK
- checking package dependencies ... OK
- checking if this is a source package ... OK
- checking if there is a namespace ... OK
- checking for executable files ... OK
- checking for hidden files and directories ... OK
- checking for portable file names ... OK
- checking for sufficient/correct file permissions ... OK
- checking whether package ‘vbsr’ can be installed ... [3s/3s] OK
- checking installed package size ... OK
- checking package directory ... OK
- checking ‘build’ directory ... OK
- checking DESCRIPTION meta-information ... OK
- checking top-level files ... OK
- checking for left-over files ... OK
- checking index information ... OK
- checking package subdirectories ... OK
- checking R files for non-ASCII characters ... OK
- checking R files for syntax errors ... OK
- checking whether the package can be loaded ... OK
- checking whether the package can be loaded with stated dependencies ... OK
- checking whether the package can be unloaded cleanly ... OK
- checking whether the namespace can be loaded with stated dependencies ... OK
- checking whether the namespace can be unloaded cleanly ... OK
- checking loading without being on the library search path ... OK
- checking dependencies in R code ... OK
- checking S3 generic/method consistency ... OK
- checking replacement functions ... OK
- checking foreign function calls ... OK
- checking R code for possible problems ... [2s/2s] NOTE
compute_KL : rtnorm: no visible global function definition for ‘runif’
compute_KL : rtnorm: no visible global function definition for ‘dnorm’
compute_KL: no visible global function definition for ‘qnorm’
compute_KL: no visible global function definition for ‘dnorm’
compute_KL: no visible global function definition for ‘pnorm’
compute_KL: no visible global function definition for ‘var’
compute_KL: no visible global function definition for ‘rbinom’
compute_KL: no visible global function definition for ‘rnorm’
compute_KL: no visible global function definition for ‘sd’
vbsr: no visible global function definition for ‘qchisq’
vbsr: no visible global function definition for ‘var’
vbsr: no visible global function definition for ‘pchisq’
vbsr: no visible global function definition for ‘sd’
vbsr: no visible binding for global variable ‘sd’
Undefined global functions or variables:
dnorm pchisq pnorm qchisq qnorm rbinom rnorm runif sd var
Consider adding
importFrom("stats", "dnorm", "pchisq", "pnorm", "qchisq", "qnorm",
"rbinom", "rnorm", "runif", "sd", "var")
to your NAMESPACE file.
- checking Rd files ... [0s/0s] OK
- checking Rd metadata ... OK
- checking Rd cross-references ... OK
- checking for missing documentation entries ... OK
- checking for code/documentation mismatches ... OK
- checking Rd \usage sections ... OK
- checking Rd contents ... OK
- checking for unstated dependencies in examples ... OK
- checking line endings in C/C++/Fortran sources/headers ... OK
- checking use of PKG_*FLAGS in Makefiles ... OK
- checking compiled code ... OK
- checking sizes of PDF files under ‘inst/doc’ ... OK
- checking installed files from ‘inst/doc’ ... OK
- checking files in ‘vignettes’ ... OK
- checking examples ... [2s/2s] OK
- checking for unstated dependencies in vignettes ... OK
- checking package vignettes in ‘inst/doc’ ... OK
- checking running R code from vignettes ... [1s/1s] OK
‘vbsr.rnw’... [1s/1s] OK
- checking re-building of vignette outputs ... [3s/3s] OK
- checking PDF version of manual ... OK
- DONE
Status: 1 NOTE
- using check arguments '--no-clean-on-error '