• using R version 4.2.0 beta (2022-04-07 r82126)
  • using platform: x86_64-apple-darwin17.0 (64-bit)
  • using session charset: UTF-8
  • checking for file ‘unbalanced/DESCRIPTION’ ... OK
  • checking extension type ... Package
  • this is package ‘unbalanced’ version ‘2.0’
  • checking package namespace information ... OK
  • checking package dependencies ... OK
  • checking if this is a source package ... OK
  • checking if there is a namespace ... OK
  • checking for executable files ... OK
  • checking for hidden files and directories ... OK
  • checking for portable file names ... OK
  • checking for sufficient/correct file permissions ... OK
  • checking whether package ‘unbalanced’ can be installed ... [10s/10s] OK
  • checking installed package size ... OK
  • checking package directory ... OK
  • checking DESCRIPTION meta-information ... OK
  • checking top-level files ... OK
  • checking for left-over files ... OK
  • checking index information ... OK
  • checking package subdirectories ... OK
  • checking R files for non-ASCII characters ... OK
  • checking R files for syntax errors ... OK
  • checking whether the package can be loaded ... OK
  • checking whether the package can be loaded with stated dependencies ... OK
  • checking whether the package can be unloaded cleanly ... OK
  • checking whether the namespace can be loaded with stated dependencies ... OK
  • checking whether the namespace can be unloaded cleanly ... OK
  • checking loading without being on the library search path ... OK
  • checking dependencies in R code ... OK
  • checking S3 generic/method consistency ... OK
  • checking replacement functions ... OK
  • checking foreign function calls ... OK
  • checking R code for possible problems ... [8s/8s] NOTE
    ubRacing : predCandidate: no visible global function definition for
      ‘predict’
    ubRacing : aux2.friedman.edit: no visible global function definition
      for ‘pchisq’
    ubRacing : aux2.friedman.edit: no visible global function definition
      for ‘qt’
    ubRacing : aux.friedman.edit: no visible global function definition for
      ‘wilcox.test’
    ubRacing : aux.ttest.edit: no visible global function definition for
      ‘t.test’
    ubRacing : aux.ttest.edit: no visible global function definition for
      ‘p.adjust’
    ubRacing : idFolds: no visible global function definition for
      ‘quantile’
    ubRacing: no visible binding for global variable ‘sd’
    ubSmoteExs: no visible global function definition for ‘runif’
    Undefined global functions or variables:
      p.adjust pchisq predict qt quantile runif sd t.test wilcox.test
    Consider adding
      importFrom("stats", "p.adjust", "pchisq", "predict", "qt", "quantile",
                 "runif", "sd", "t.test", "wilcox.test")
    to your NAMESPACE file.
  • checking Rd files ... [1s/1s] OK
  • checking Rd metadata ... OK
  • checking Rd cross-references ... OK
  • checking for missing documentation entries ... OK
  • checking for code/documentation mismatches ... OK
  • checking Rd \usage sections ... OK
  • checking Rd contents ... OK
  • checking for unstated dependencies in examples ... OK
  • checking contents of ‘data’ directory ... OK
  • checking data for non-ASCII characters ... OK
  • checking data for ASCII and uncompressed saves ... OK
  • checking examples ... [34s/36s] OK
  • checking PDF version of manual ... OK
  • DONE
    Status: 1 NOTE
  • using check arguments '--no-clean-on-error '