- using R version 4.2.0 (2022-04-22)
- using platform: x86_64-apple-darwin17.0 (64-bit)
- using session charset: UTF-8
- checking for file ‘sp/DESCRIPTION’ ... OK
- this is package ‘sp’ version ‘2.1-1’
- checking package namespace information ... OK
- checking package dependencies ... OK
- checking if this is a source package ... OK
- checking if there is a namespace ... OK
- checking for executable files ... OK
- checking for hidden files and directories ... OK
- checking for portable file names ... OK
- checking for sufficient/correct file permissions ... OK
- checking whether package ‘sp’ can be installed ... [12s/16s] OK
See the install log for details.
- checking installed package size ... OK
- checking package directory ... OK
- checking ‘build’ directory ... OK
- checking DESCRIPTION meta-information ... OK
- checking top-level files ... OK
- checking for left-over files ... OK
- checking index information ... OK
- checking package subdirectories ... OK
- checking R files for non-ASCII characters ... OK
- checking R files for syntax errors ... OK
- checking whether the package can be loaded ... OK
- checking whether the package can be loaded with stated dependencies ... OK
- checking whether the package can be unloaded cleanly ... OK
- checking whether the namespace can be loaded with stated dependencies ... OK
- checking whether the namespace can be unloaded cleanly ... OK
- checking loading without being on the library search path ... OK
- checking dependencies in R code ... OK
- checking S3 generic/method consistency ... OK
- checking replacement functions ... OK
- checking foreign function calls ... OK
- checking R code for possible problems ... [11s/11s] OK
- checking Rd files ... [1s/1s] OK
- checking Rd metadata ... OK
- checking Rd cross-references ... OK
- checking for missing documentation entries ... OK
- checking for code/documentation mismatches ... OK
- checking Rd \usage sections ... OK
- checking Rd contents ... OK
- checking for unstated dependencies in examples ... OK
- checking contents of ‘data’ directory ... OK
- checking data for non-ASCII characters ... OK
- checking data for ASCII and uncompressed saves ... OK
- checking line endings in C/C++/Fortran sources/headers ... OK
- checking compiled code ... OK
- checking sizes of PDF files under ‘inst/doc’ ... OK
- checking installed files from ‘inst/doc’ ... OK
- checking files in ‘vignettes’ ... OK
- checking examples ... [6s/7s] OK
- checking for unstated dependencies in ‘tests’ ... OK
- checking tests ... [17s/17s] OK
Running ‘agg.R’ [1s/1s]
Comparing ‘agg.Rout’ to ‘agg.Rout.save’ ... OK
Running ‘base.R’ [1s/1s]
Comparing ‘base.Rout’ to ‘base.Rout.save’ ... OK
Running ‘fail1.R’ [2s/2s]
Comparing ‘fail1.Rout’ to ‘fail1.Rout.save’ ...13c13
< Error in coordinates(a) <- cbind(1:10, 10:1) : object 'a' not found
---
> Error : object 'a' not found
Running ‘grid.R’ [2s/2s]
Comparing ‘grid.Rout’ to ‘grid.Rout.save’ ... OK
Running ‘over2.R’ [1s/1s]
Comparing ‘over2.Rout’ to ‘over2.Rout.save’ ... OK
Running ‘pass1.R’ [2s/2s]
Comparing ‘pass1.Rout’ to ‘pass1.Rout.save’ ... OK
Running ‘point.in.polygon.R’ [0s/0s]
Comparing ‘point.in.polygon.Rout’ to ‘point.in.polygon.Rout.save’ ... OK
Running ‘sel.R’ [1s/2s]
Comparing ‘sel.Rout’ to ‘sel.Rout.save’ ... OK
Running ‘sp1.R’ [1s/1s]
Comparing ‘sp1.Rout’ to ‘sp1.Rout.save’ ... OK
Running ‘spDists.R’ [2s/2s]
Comparing ‘spDists.Rout’ to ‘spDists.Rout.save’ ... OK
Running ‘spplot.R’ [1s/1s]
Comparing ‘spplot.Rout’ to ‘spplot.Rout.save’ ... OK
Running ‘zerodist.R’ [1s/1s]
Comparing ‘zerodist.Rout’ to ‘zerodist.Rout.save’ ... OK
- checking for unstated dependencies in vignettes ... OK
- checking package vignettes in ‘inst/doc’ ... OK
- checking running R code from vignettes ... [8s/8s] OK
‘CRS_warnings.Rmd’ using ‘UTF-8’... [0s/0s] OK
‘retiring_rgdal_geos_1.Rmd’ using ‘UTF-8’... [0s/0s] OK
‘csdacm.Rnw’... [5s/5s] OK
‘intro_sp.Rnw’... [2s/2s] OK
- checking re-building of vignette outputs ... [23s/43s] OK
- checking PDF version of manual ... OK
- DONE
Status: OK
- using check arguments '--no-clean-on-error '