• using R version 4.1.2 (2021-11-01)
  • using platform: x86_64-apple-darwin17.0 (64-bit)
  • using session charset: UTF-8
  • checking for file ‘rpart/DESCRIPTION’ ... OK
  • this is package ‘rpart’ version ‘4.1.16’
  • checking package namespace information ... OK
  • checking package dependencies ... OK
  • checking if this is a source package ... OK
  • checking if there is a namespace ... OK
  • checking for executable files ... OK
  • checking for hidden files and directories ... OK
  • checking for portable file names ... OK
  • checking for sufficient/correct file permissions ... OK
  • checking whether package ‘rpart’ can be installed ... [8s/10s] OK
  • checking installed package size ... OK
  • checking package directory ... OK
  • checking ‘build’ directory ... OK
  • checking DESCRIPTION meta-information ... OK
  • checking top-level files ... OK
  • checking for left-over files ... OK
  • checking index information ... OK
  • checking package subdirectories ... OK
  • checking R files for non-ASCII characters ... OK
  • checking R files for syntax errors ... OK
  • checking whether the package can be loaded ... OK
  • checking whether the package can be loaded with stated dependencies ... OK
  • checking whether the package can be unloaded cleanly ... OK
  • checking whether the namespace can be loaded with stated dependencies ... OK
  • checking whether the namespace can be unloaded cleanly ... OK
  • checking dependencies in R code ... OK
  • checking S3 generic/method consistency ... OK
  • checking replacement functions ... OK
  • checking foreign function calls ... OK
  • checking R code for possible problems ... [4s/4s] OK
  • checking Rd files ... [1s/1s] OK
  • checking Rd metadata ... OK
  • checking Rd cross-references ... OK
  • checking for missing documentation entries ... OK
  • checking for code/documentation mismatches ... OK
  • checking Rd \usage sections ... OK
  • checking Rd contents ... OK
  • checking for unstated dependencies in examples ... OK
  • checking contents of ‘data’ directory ... OK
  • checking data for non-ASCII characters ... OK
  • checking LazyData ... OK
  • checking data for ASCII and uncompressed saves ... OK
  • checking line endings in C/C++/Fortran sources/headers ... OK
  • checking compiled code ... OK
  • checking sizes of PDF files under ‘inst/doc’ ... OK
  • checking installed files from ‘inst/doc’ ... OK
  • checking files in ‘vignettes’ ... OK
  • checking examples ... [1s/1s] OK
  • checking differences from ‘rpart-Ex.Rout’ to ‘rpart-Ex.Rout.save’ ... OK
  • checking for unstated dependencies in ‘tests’ ... OK
  • checking tests ... [9s/9s] OK
      Running ‘backticks.R’ [0s/0s]
      Comparing ‘backticks.Rout’ to ‘backticks.Rout.save’ ... OK
      Running ‘cost.R’ [1s/1s]
      Comparing ‘cost.Rout’ to ‘cost.Rout.save’ ... OK
      Running ‘cptest.R’ [0s/0s]
      Comparing ‘cptest.Rout’ to ‘cptest.Rout.save’ ... OK
      Running ‘minus_in_formula.R’ [0s/0s]
      Comparing ‘minus_in_formula.Rout’ to ‘minus_in_formula.Rout.save’ ... OK
      Running ‘priors.R’ [0s/0s]
      Comparing ‘priors.Rout’ to ‘priors.Rout.save’ ... OK
      Running ‘rescale.R’ [1s/1s]
      Comparing ‘rescale.Rout’ to ‘rescale.Rout.save’ ... OK
      Running ‘testall.R’ [1s/1s]
      Comparing ‘testall.Rout’ to ‘testall.Rout.save’ ... OK
      Running ‘treble.R’ [1s/1s]
      Comparing ‘treble.Rout’ to ‘treble.Rout.save’ ... OK
      Running ‘treble2.R’ [0s/0s]
      Comparing ‘treble2.Rout’ to ‘treble2.Rout.save’ ... OK
      Running ‘treble3.R’ [0s/0s]
      Comparing ‘treble3.Rout’ to ‘treble3.Rout.save’ ... OK
      Running ‘treble4.R’ [0s/0s]
      Comparing ‘treble4.Rout’ to ‘treble4.Rout.save’ ... OK
      Running ‘usersplits.R’ [0s/0s]
      Comparing ‘usersplits.Rout’ to ‘usersplits.Rout.save’ ... OK
      Running ‘xpred1.R’ [0s/0s]
      Comparing ‘xpred1.Rout’ to ‘xpred1.Rout.save’ ... OK
      Running ‘xpred2.R’ [1s/1s]
      Comparing ‘xpred2.Rout’ to ‘xpred2.Rout.save’ ... OK
  • checking for unstated dependencies in vignettes ... OK
  • checking package vignettes in ‘inst/doc’ ... OK
  • checking running R code from vignettes ... [2s/2s] OK
      ‘longintro.Rnw’... [1s/2s] OK
      ‘usercode.Rnw’... [0s/0s] OK
  • checking re-building of vignette outputs ... [10s/10s] OK
  • checking PDF version of manual ... OK
  • DONE
    Status: OK
  • using check arguments '--no-clean-on-error '