- using R version 4.2.0 (2022-04-22)
- using platform: x86_64-apple-darwin17.0 (64-bit)
- using session charset: UTF-8
- checking for file ‘rivervis/DESCRIPTION’ ... OK
- checking extension type ... Package
- this is package ‘rivervis’ version ‘0.46.0’
- package encoding: UTF-8
- checking package namespace information ... OK
- checking package dependencies ... OK
- checking if this is a source package ... OK
- checking if there is a namespace ... OK
- checking for executable files ... OK
- checking for hidden files and directories ... OK
- checking for portable file names ... OK
- checking for sufficient/correct file permissions ... OK
- checking whether package ‘rivervis’ can be installed ... [2s/2s] OK
- checking installed package size ... OK
- checking package directory ... OK
- checking DESCRIPTION meta-information ... OK
- checking top-level files ... OK
- checking for left-over files ... OK
- checking index information ... OK
- checking package subdirectories ... OK
- checking R files for non-ASCII characters ... OK
- checking R files for syntax errors ... OK
- checking whether the package can be loaded ... OK
- checking whether the package can be loaded with stated dependencies ... OK
- checking whether the package can be unloaded cleanly ... OK
- checking whether the namespace can be loaded with stated dependencies ... OK
- checking whether the namespace can be unloaded cleanly ... OK
- checking loading without being on the library search path ... OK
- checking dependencies in R code ... OK
- checking S3 generic/method consistency ... OK
- checking replacement functions ... OK
- checking foreign function calls ... OK
- checking R code for possible problems ... [3s/3s] NOTE
RiverAxisLabel: no visible global function definition for ‘text’
RiverBar: no visible global function definition for ‘points’
RiverBar: no visible global function definition for ‘rect’
RiverBar: no visible global function definition for ‘text’
RiverBlock: no visible global function definition for ‘points’
RiverBlock: no visible global function definition for ‘rect’
RiverBlock: no visible global function definition for ‘text’
RiverBlockChart: no visible global function definition for ‘par’
RiverBlockChart: no visible global function definition for ‘plot.new’
RiverBlockChart: no visible global function definition for ‘rect’
RiverBlockChart: no visible global function definition for ‘text’
RiverDirection: no visible global function definition for ‘locator’
RiverDirection: no visible global function definition for ‘arrows’
RiverDirection: no visible global function definition for ‘text’
RiverDraw: no visible global function definition for ‘par’
RiverDraw: no visible global function definition for ‘plot.new’
RiverDraw: no visible global function definition for ‘rect’
RiverDraw: no visible global function definition for ‘segments’
RiverDraw: no visible global function definition for ‘points’
RiverFrame: no visible global function definition for ‘rect’
RiverFrame: no visible global function definition for ‘segments’
RiverFrame: no visible global function definition for ‘points’
RiverLabel: no visible global function definition for ‘text’
RiverMap: no visible global function definition for ‘par’
RiverMap: no visible global function definition for ‘plot.new’
RiverMap: no visible global function definition for ‘rect’
RiverMap: no visible global function definition for ‘segments’
RiverMap: no visible global function definition for ‘points’
RiverPoint: no visible global function definition for ‘points’
RiverPoint: no visible global function definition for ‘text’
RiverReach: no visible global function definition for ‘rect’
RiverReach: no visible global function definition for ‘segments’
RiverReach: no visible global function definition for ‘points’
RiverScale: no visible global function definition for ‘locator’
RiverScale: no visible global function definition for ‘segments’
RiverScale: no visible global function definition for ‘text’
RiverSite: no visible global function definition for ‘points’
RiverSite: no visible global function definition for ‘text’
RiverTM: no visible global function definition for ‘segments’
RiverTM: no visible global function definition for ‘text’
Undefined global functions or variables:
arrows locator par plot.new points rect segments text
Consider adding
importFrom("graphics", "arrows", "locator", "par", "plot.new",
"points", "rect", "segments", "text")
to your NAMESPACE file.
- checking Rd files ... [0s/0s] OK
- checking Rd metadata ... OK
- checking Rd cross-references ... OK
- checking for missing documentation entries ... OK
- checking for code/documentation mismatches ... OK
- checking Rd \usage sections ... OK
- checking Rd contents ... OK
- checking for unstated dependencies in examples ... OK
- checking contents of ‘data’ directory ... OK
- checking data for non-ASCII characters ... OK
- checking data for ASCII and uncompressed saves ... OK
- checking examples ... [1s/1s] OK
- checking PDF version of manual ... OK
- DONE
Status: 1 NOTE
- using check arguments '--no-clean-on-error '