- using R version 4.2.0 (2022-04-22)
- using platform: x86_64-apple-darwin17.0 (64-bit)
- using session charset: UTF-8
- checking for file ‘rbefdata/DESCRIPTION’ ... OK
- this is package ‘rbefdata’ version ‘0.3.5’
- checking package namespace information ... OK
- checking package dependencies ... OK
- checking if this is a source package ... OK
- checking if there is a namespace ... OK
- checking for executable files ... OK
- checking for hidden files and directories ... OK
- checking for portable file names ... OK
- checking for sufficient/correct file permissions ... OK
- checking whether package ‘rbefdata’ can be installed ... [3s/3s] OK
See the install log for details.
- checking installed package size ... OK
- checking package directory ... OK
- checking DESCRIPTION meta-information ... OK
- checking top-level files ... OK
- checking for left-over files ... OK
- checking index information ... OK
- checking package subdirectories ... OK
- checking R files for non-ASCII characters ... OK
- checking R files for syntax errors ... OK
- checking whether the package can be loaded ... OK
- checking whether the package can be loaded with stated dependencies ... OK
- checking whether the package can be unloaded cleanly ... OK
- checking whether the namespace can be loaded with stated dependencies ... OK
- checking whether the namespace can be unloaded cleanly ... OK
- checking loading without being on the library search path ... OK
- checking dependencies in R code ... OK
- checking S3 generic/method consistency ... OK
- checking replacement functions ... OK
- checking foreign function calls ... OK
- checking R code for possible problems ... [3s/3s] NOTE
bef.get.attachments: no visible global function definition for
‘read.csv’
bef.get.attachments: no visible global function definition for
‘flush.console’
bef.get.attachments_for: no visible global function definition for
‘read.csv’
bef.get.attachments_for: no visible global function definition for
‘flush.console’
bef.get.categories_for: no visible binding for global variable ‘id’
bef.get.categories_for: no visible global function definition for
‘read.csv’
bef.get.dataset: no visible global function definition for ‘read.csv’
bef.get.dataset_by: no visible global function definition for
‘read.csv’
bef.get.datasets.for_keyword : <anonymous>: no visible global function
definition for ‘read.csv’
bef.get.datasets.for_proposal: no visible global function definition
for ‘read.csv’
bef.goto.dataset_page: no visible global function definition for
‘browseURL’
bef.goto.proposal_page: no visible global function definition for
‘browseURL’
bef.portal.get.attachments: no visible global function definition for
‘read.csv’
bef.portal.get.attachments: no visible global function definition for
‘flush.console’
bef.portal.get.attachments_for: no visible global function definition
for ‘read.csv’
bef.portal.get.attachments_for: no visible global function definition
for ‘flush.console’
bef.portal.get.categories_for: no visible binding for global variable
‘id’
bef.portal.get.categories_for: no visible global function definition
for ‘read.csv’
bef.portal.get.dataset: no visible global function definition for
‘read.csv’
bef.portal.get.dataset_by: no visible global function definition for
‘read.csv’
bef.portal.get.datasets.for_keyword : <anonymous>: no visible global
function definition for ‘read.csv’
bef.portal.get.datasets.for_proposal: no visible global function
definition for ‘read.csv’
upload_file: no visible global function definition for ‘write.csv’
Undefined global functions or variables:
browseURL flush.console id read.csv write.csv
Consider adding
importFrom("utils", "browseURL", "flush.console", "read.csv",
"write.csv")
to your NAMESPACE file.
- checking Rd files ... [0s/0s] OK
- checking Rd metadata ... OK
- checking Rd cross-references ... OK
- checking for missing documentation entries ... OK
- checking for code/documentation mismatches ... OK
- checking Rd \usage sections ... OK
- checking Rd contents ... OK
- checking for unstated dependencies in examples ... OK
- checking examples ... [1s/1s] OK
- checking for unstated dependencies in ‘tests’ ... OK
- checking tests ... [1s/1s] OK
Running ‘run-all.R’ [0s/0s]
- checking PDF version of manual ... OK
- DONE
Status: 1 NOTE
- using check arguments '--no-clean-on-error '