• using R version 4.4.0 (2024-04-24)
  • using platform: x86_64-apple-darwin20
  • R was compiled by     Apple clang version 14.0.0 (clang-1400.0.29.202)     GNU Fortran (GCC) 12.2.0
  • running under: macOS Ventura 13.3.1
  • using session charset: UTF-8
  • checking for file ‘profExtrema/DESCRIPTION’ ... OK
  • checking extension type ... Package
  • this is package ‘profExtrema’ version ‘0.2.1’
  • package encoding: UTF-8
  • checking package namespace information ... OK
  • checking package dependencies ... OK
  • checking if this is a source package ... OK
  • checking if there is a namespace ... OK
  • checking for executable files ... OK
  • checking for hidden files and directories ... OK
  • checking for portable file names ... OK
  • checking for sufficient/correct file permissions ... OK
  • checking whether package ‘profExtrema’ can be installed ... [9s/15s] OK See the install log for details.
  • checking installed package size ... OK
  • checking package directory ... OK
  • checking DESCRIPTION meta-information ... OK
  • checking top-level files ... OK
  • checking for left-over files ... OK
  • checking index information ... OK
  • checking package subdirectories ... OK
  • checking code files for non-ASCII characters ... OK
  • checking R files for syntax errors ... OK
  • checking whether the package can be loaded ... [2s/2s] OK
  • checking whether the package can be loaded with stated dependencies ... [2s/2s] OK
  • checking whether the package can be unloaded cleanly ... [2s/2s] OK
  • checking whether the namespace can be loaded with stated dependencies ... [2s/2s] OK
  • checking whether the namespace can be unloaded cleanly ... [2s/2s] OK
  • checking loading without being on the library search path ... [2s/2s] OK
  • checking dependencies in R code ... OK
  • checking S3 generic/method consistency ... OK
  • checking replacement functions ... OK
  • checking foreign function calls ... OK
  • checking R code for possible problems ... [10s/13s] OK
  • checking Rd files ... [1s/1s] NOTE checkRd: (-1) approxMaxMin.Rd:18: Lost braces in \itemize; meant \describe ? checkRd: (-1) approxMaxMin.Rd:19-23: Lost braces in \itemize; meant \describe ? checkRd: (-1) approxMaxMin.Rd:24: Lost braces in \itemize; meant \describe ? checkRd: (-1) approxMaxMin.Rd:25: Lost braces in \itemize; meant \describe ? checkRd: (-1) approxMaxMin.Rd:26: Lost braces in \itemize; meant \describe ? checkRd: (-1) approxMaxMin.Rd:27: Lost braces in \itemize; meant \describe ? checkRd: (-1) approxMaxMin.Rd:28: Lost braces in \itemize; meant \describe ? checkRd: (-1) approxMaxMin.Rd:29: Lost braces in \itemize; meant \describe ? checkRd: (-1) approxMaxMin.Rd:30: Lost braces in \itemize; meant \describe ? checkRd: (-1) approxMaxMin.Rd:31: Lost braces in \itemize; meant \describe ? checkRd: (-1) approxProfileExtrema.Rd:20: Lost braces in \itemize; meant \describe ? checkRd: (-1) approxProfileExtrema.Rd:21-25: Lost braces in \itemize; meant \describe ? checkRd: (-1) approxProfileExtrema.Rd:26: Lost braces in \itemize; meant \describe ? checkRd: (-1) approxProfileExtrema.Rd:27: Lost braces in \itemize; meant \describe ? checkRd: (-1) approxProfileExtrema.Rd:28: Lost braces in \itemize; meant \describe ? checkRd: (-1) approxProfileExtrema.Rd:29: Lost braces in \itemize; meant \describe ? checkRd: (-1) approxProfileExtrema.Rd:30: Lost braces in \itemize; meant \describe ? checkRd: (-1) approxProfileExtrema.Rd:31: Lost braces in \itemize; meant \describe ? checkRd: (-1) approxProfileExtrema.Rd:32: Lost braces in \itemize; meant \describe ? checkRd: (-1) bound_profiles.Rd:28: Lost braces in \itemize; \value handles \item{}{} directly checkRd: (-1) bound_profiles.Rd:29: Lost braces in \itemize; \value handles \item{}{} directly checkRd: (-1) cleanProfileResults.Rd:16: Lost braces in \itemize; \value handles \item{}{} directly checkRd: (-1) cleanProfileResults.Rd:17: Lost braces in \itemize; \value handles \item{}{} directly checkRd: (-1) cleanProfileResults.Rd:18: Lost braces in \itemize; \value handles \item{}{} directly checkRd: (-1) cleanProfileResults.Rd:19: Lost braces in \itemize; \value handles \item{}{} directly checkRd: (-1) coordProf_UQ.Rd:48: Lost braces in \itemize; \value handles \item{}{} directly checkRd: (-1) coordProf_UQ.Rd:49: Lost braces in \itemize; \value handles \item{}{} directly checkRd: (-1) coordProf_UQ.Rd:50: Lost braces in \itemize; \value handles \item{}{} directly checkRd: (-1) coordProf_UQ.Rd:52-56: Lost braces in \itemize; \value handles \item{}{} directly checkRd: (-1) coordProf_UQ.Rd:54: Lost braces in \itemize; \value handles \item{}{} directly checkRd: (-1) coordProf_UQ.Rd:55: Lost braces in \itemize; \value handles \item{}{} directly checkRd: (-1) coordProf_UQ.Rd:57: Lost braces in \itemize; \value handles \item{}{} directly checkRd: (-1) coordProf_UQ.Rd:58: Lost braces in \itemize; \value handles \item{}{} directly checkRd: (-1) coordinateProfiles.Rd:35: Lost braces in \itemize; \value handles \item{}{} directly checkRd: (-1) coordinateProfiles.Rd:36: Lost braces in \itemize; \value handles \item{}{} directly checkRd: (-1) coordinateProfiles.Rd:37: Lost braces in \itemize; \value handles \item{}{} directly checkRd: (-1) coordinateProfiles.Rd:41: Lost braces in \itemize; \value handles \item{}{} directly checkRd: (-1) coordinateProfiles.Rd:42-46: Lost braces in \itemize; \value handles \item{}{} directly checkRd: (-1) coordinateProfiles.Rd:44: Lost braces in \itemize; \value handles \item{}{} directly checkRd: (-1) coordinateProfiles.Rd:45: Lost braces in \itemize; \value handles \item{}{} directly checkRd: (-1) getAllMaxMin.Rd:19: Lost braces in \itemize; meant \describe ? checkRd: (-1) getAllMaxMin.Rd:20: Lost braces in \itemize; meant \describe ? checkRd: (-1) getAllMaxMin.Rd:21: Lost braces in \itemize; meant \describe ? checkRd: (-1) getAllMaxMin.Rd:22: Lost braces in \itemize; meant \describe ? checkRd: (-1) getAllMaxMin.Rd:23: Lost braces in \itemize; meant \describe ? checkRd: (-1) getMax.Rd:22: Lost braces in \itemize; meant \describe ? checkRd: (-1) getMax.Rd:23: Lost braces in \itemize; meant \describe ? checkRd: (-1) getMax.Rd:24: Lost braces in \itemize; meant \describe ? checkRd: (-1) getMax.Rd:25: Lost braces in \itemize; meant \describe ? checkRd: (-1) getMaxMinMC.Rd:22: Lost braces in \itemize; meant \describe ? checkRd: (-1) getMaxMinMC.Rd:23: Lost braces in \itemize; meant \describe ? checkRd: (-1) getMaxMinMC.Rd:24: Lost braces in \itemize; meant \describe ? checkRd: (-1) getMaxMinMC.Rd:25: Lost braces in \itemize; meant \describe ? checkRd: (-1) getMaxMinMC.Rd:26: Lost braces in \itemize; meant \describe ? checkRd: (-1) getMin.Rd:22: Lost braces in \itemize; meant \describe ? checkRd: (-1) getMin.Rd:23: Lost braces in \itemize; meant \describe ? checkRd: (-1) getMin.Rd:24: Lost braces in \itemize; meant \describe ? checkRd: (-1) getMin.Rd:25: Lost braces in \itemize; meant \describe ? checkRd: (-1) getProfileExtrema.Rd:20: Lost braces in \itemize; meant \describe ? checkRd: (-1) getProfileExtrema.Rd:21: Lost braces in \itemize; meant \describe ? checkRd: (-1) getProfileExtrema.Rd:22: Lost braces in \itemize; meant \describe ? checkRd: (-1) getProfileExtrema.Rd:23: Lost braces in \itemize; meant \describe ? checkRd: (-1) getProfileExtrema.Rd:24: Lost braces in \itemize; meant \describe ? checkRd: (-1) getProfileInf_optim.Rd:22: Lost braces in \itemize; meant \describe ? checkRd: (-1) getProfileInf_optim.Rd:23: Lost braces in \itemize; meant \describe ? checkRd: (-1) getProfileInf_optim.Rd:24: Lost braces in \itemize; meant \describe ? checkRd: (-1) getProfileSup_optim.Rd:22: Lost braces in \itemize; meant \describe ? checkRd: (-1) getProfileSup_optim.Rd:23: Lost braces in \itemize; meant \describe ? checkRd: (-1) getProfileSup_optim.Rd:24: Lost braces in \itemize; meant \describe ? checkRd: (-1) gradKm_dnewdata.Rd:25: Lost braces in \itemize; \value handles \item{}{} directly checkRd: (-1) gradKm_dnewdata.Rd:26: Lost braces in \itemize; \value handles \item{}{} directly checkRd: (-1) gradKm_dnewdata.Rd:27: Lost braces in \itemize; \value handles \item{}{} directly checkRd: (-1) obliqueProf_UQ.Rd:50: Lost braces in \itemize; \value handles \item{}{} directly checkRd: (-1) obliqueProf_UQ.Rd:51: Lost braces in \itemize; \value handles \item{}{} directly checkRd: (-1) obliqueProf_UQ.Rd:52: Lost braces in \itemize; \value handles \item{}{} directly checkRd: (-1) obliqueProf_UQ.Rd:54-58: Lost braces in \itemize; \value handles \item{}{} directly checkRd: (-1) obliqueProf_UQ.Rd:56: Lost braces in \itemize; \value handles \item{}{} directly checkRd: (-1) obliqueProf_UQ.Rd:57: Lost braces in \itemize; \value handles \item{}{} directly checkRd: (-1) obliqueProf_UQ.Rd:59: Lost braces in \itemize; \value handles \item{}{} directly checkRd: (-1) obliqueProf_UQ.Rd:60: Lost braces in \itemize; \value handles \item{}{} directly checkRd: (-1) obliqueProfiles.Rd:37: Lost braces in \itemize; \value handles \item{}{} directly checkRd: (-1) obliqueProfiles.Rd:38: Lost braces in \itemize; \value handles \item{}{} directly checkRd: (-1) obliqueProfiles.Rd:39: Lost braces in \itemize; \value handles \item{}{} directly checkRd: (-1) obliqueProfiles.Rd:43: Lost braces in \itemize; \value handles \item{}{} directly checkRd: (-1) obliqueProfiles.Rd:44-48: Lost braces in \itemize; \value handles \item{}{} directly checkRd: (-1) obliqueProfiles.Rd:46: Lost braces in \itemize; \value handles \item{}{} directly checkRd: (-1) obliqueProfiles.Rd:47: Lost braces in \itemize; \value handles \item{}{} directly checkRd: (-1) plot_univariate_profiles_UQ.Rd:27: Lost braces in \itemize; meant \describe ? checkRd: (-1) plot_univariate_profiles_UQ.Rd:28: Lost braces in \itemize; meant \describe ? checkRd: (-1) plot_univariate_profiles_UQ.Rd:29: Lost braces in \itemize; meant \describe ? checkRd: (-1) setPlotOptions.Rd:20: Lost braces in \itemize; \value handles \item{}{} directly checkRd: (-1) setPlotOptions.Rd:21: Lost braces in \itemize; \value handles \item{}{} directly checkRd: (-1) setPlotOptions.Rd:22: Lost braces in \itemize; \value handles \item{}{} directly checkRd: (-1) setPlotOptions.Rd:23: Lost braces in \itemize; \value handles \item{}{} directly checkRd: (-1) setPlotOptions.Rd:24: Lost braces in \itemize; \value handles \item{}{} directly checkRd: (-1) setPlotOptions.Rd:25: Lost braces in \itemize; \value handles \item{}{} directly checkRd: (-1) setPlotOptions.Rd:26: Lost braces in \itemize; \value handles \item{}{} directly checkRd: (-1) setPlotOptions.Rd:27: Lost braces in \itemize; \value handles \item{}{} directly checkRd: (-1) setPlotOptions.Rd:28: Lost braces in \itemize; \value handles \item{}{} directly checkRd: (-1) setPlotOptions.Rd:29: Lost braces in \itemize; \value handles \item{}{} directly checkRd: (-1) setPlotOptions.Rd:30: Lost braces in \itemize; \value handles \item{}{} directly checkRd: (-1) setPlotOptions.Rd:31: Lost braces in \itemize; \value handles \item{}{} directly checkRd: (-1) setPlotOptions.Rd:32: Lost braces in \itemize; \value handles \item{}{} directly checkRd: (-1) setPlotOptions.Rd:33: Lost braces in \itemize; \value handles \item{}{} directly checkRd: (-1) setPlotOptions.Rd:34-38: Lost braces     34 | \item{\code{fun_evals:}{integer denoting the level of plot for the true evaluations. \itemize{        | ^ checkRd: (-1) setPlotOptions.Rd:35: Lost braces in \itemize; \value handles \item{}{} directly checkRd: (-1) setPlotOptions.Rd:36: Lost braces in \itemize; \value handles \item{}{} directly checkRd: (-1) setPlotOptions.Rd:37: Lost braces in \itemize; \value handles \item{}{} directly checkRd: (-1) setPlotOptions.Rd:38: Lost braces in \itemize; \value handles \item{}{} directly
  • checking Rd metadata ... OK
  • checking Rd cross-references ... OK
  • checking for missing documentation entries ... OK
  • checking for code/documentation mismatches ... OK
  • checking Rd \usage sections ... OK
  • checking Rd contents ... OK
  • checking for unstated dependencies in examples ... OK
  • checking contents of ‘data’ directory ... OK
  • checking data for non-ASCII characters ... [0s/0s] OK
  • checking LazyData ... OK
  • checking data for ASCII and uncompressed saves ... OK
  • checking examples ... [9s/13s] OK
  • checking PDF version of manual ... [7s/10s] OK
  • DONE Status: 1 NOTE
  • using check arguments '--no-clean-on-error '