• using R version 4.4.0 (2024-04-24)
  • using platform: x86_64-apple-darwin20
  • R was compiled by     Apple clang version 14.0.0 (clang-1400.0.29.202)     GNU Fortran (GCC) 12.2.0
  • running under: macOS Ventura 13.3.1
  • using session charset: UTF-8
  • checking for file ‘pracma/DESCRIPTION’ ... OK
  • checking extension type ... Package
  • this is package ‘pracma’ version ‘2.4.4’
  • checking package namespace information ... OK
  • checking package dependencies ... OK
  • checking if this is a source package ... OK
  • checking if there is a namespace ... OK
  • checking for executable files ... OK
  • checking for hidden files and directories ... OK
  • checking for portable file names ... OK
  • checking for sufficient/correct file permissions ... OK
  • checking whether package ‘pracma’ can be installed ... [14s/15s] OK See the install log for details.
  • checking installed package size ... OK
  • checking package directory ... OK
  • checking DESCRIPTION meta-information ... OK
  • checking top-level files ... OK
  • checking for left-over files ... OK
  • checking index information ... OK
  • checking package subdirectories ... OK
  • checking code files for non-ASCII characters ... OK
  • checking R files for syntax errors ... OK
  • checking whether the package can be loaded ... [0s/0s] OK
  • checking whether the package can be loaded with stated dependencies ... [0s/0s] OK
  • checking whether the package can be unloaded cleanly ... [0s/0s] OK
  • checking whether the namespace can be loaded with stated dependencies ... [0s/0s] OK
  • checking whether the namespace can be unloaded cleanly ... [0s/0s] OK
  • checking loading without being on the library search path ... [0s/0s] OK
  • checking whether startup messages can be suppressed ... [0s/0s] OK
  • checking dependencies in R code ... OK
  • checking S3 generic/method consistency ... OK
  • checking replacement functions ... OK
  • checking foreign function calls ... OK
  • checking R code for possible problems ... [24s/26s] OK
  • checking Rd files ... [2s/3s] OK
  • checking Rd metadata ... OK
  • checking Rd cross-references ... OK
  • checking for missing documentation entries ... OK
  • checking for code/documentation mismatches ... OK
  • checking Rd \usage sections ... OK
  • checking Rd contents ... OK
  • checking for unstated dependencies in examples ... OK
  • checking contents of ‘data’ directory ... OK
  • checking data for non-ASCII characters ... [0s/0s] OK
  • checking LazyData ... OK
  • checking data for ASCII and uncompressed saves ... OK
  • checking examples ... [8s/8s] OK
  • checking for unstated dependencies in ‘tests’ ... OK
  • checking tests ... [18s/22s] OK   Running ‘blkdiag.R’ [0s/0s]   Running ‘ceil.R’ [0s/0s]   Running ‘chebyshev.R’ [0s/0s]   Running ‘combs.R’ [0s/0s]   Running ‘compan.R’ [0s/0s]   Running ‘cond.R’ [0s/0s]   Running ‘conv.R’ [0s/0s]   Running ‘cross.R’ [0s/0s]   Running ‘crossn.R’ [0s/0s]   Running ‘deval.R’ [0s/0s]   Running ‘diag.R’ [0s/0s]   Running ‘distmat.R’ [0s/0s]   Running ‘dot.R’ [0s/0s]   Running ‘eig.R’ [0s/0s]   Running ‘factors.R’ [0s/0s]   Running ‘find.R’ [0s/0s]   Running ‘findintervals.R’ [0s/0s]   Running ‘findpeaks.R’ [0s/0s]   Running ‘flipdim.R’ [0s/0s]   Running ‘fnorm.R’ [0s/0s]   Running ‘gamma.R’ [0s/0s]   Running ‘gradient.R’ [0s/0s]   Running ‘hadamard.R’ [0s/0s]   Running ‘hankel.R’ [0s/0s]   Running ‘hilb.R’ [0s/1s]   Running ‘horner.R’ [0s/0s]   Running ‘hypot.R’ [0s/0s]   Running ‘interp1.R’ [0s/0s]   Running ‘interp2.R’ [0s/0s]   Running ‘inv.R’ [0s/0s]   Running ‘isprime.R’ [0s/0s]   Running ‘lambertW.R’ [0s/0s]   Running ‘linspace.R’ [0s/0s]   Running ‘magic.R’ [0s/0s]   Running ‘meshgrid.R’ [0s/0s]   Running ‘mldivide.R’ [0s/0s]   Running ‘mod.R’ [0s/0s]   Running ‘mode.R’ [0s/0s]   Running ‘nextpow2.R’ [0s/0s]   Running ‘norm.R’ [0s/0s]   Running ‘nthroot.R’ [0s/0s]   Running ‘pascal.R’ [0s/0s]   Running ‘pchip.R’ [0s/0s]   Running ‘perms.R’ [0s/0s]   Running ‘piecewise.R’ [0s/0s]   Running ‘poly.R’ [0s/0s]   Running ‘polyadd.R’ [0s/0s]   Running ‘polyarea.R’ [0s/0s]   Running ‘polyder.R’ [0s/0s]   Running ‘polyfit.R’ [0s/0s]   Running ‘polyint.R’ [0s/0s]   Running ‘polymul.R’ [0s/0s]   Running ‘polyval.R’ [0s/0s]   Running ‘pow2.R’ [0s/0s]   Running ‘primes.R’ [0s/0s]   Running ‘quad.R’ [0s/0s]   Running ‘quadrature.R’ [0s/1s]   Running ‘rank.R’ [0s/0s]   Running ‘rectint.R’ [0s/0s]   Running ‘regexp.R’ [0s/0s]   Running ‘roots.R’ [0s/0s]   Running ‘size.R’ [0s/0s]   Running ‘std.R’ [0s/0s]   Running ‘strfind.R’ [0s/1s]   Running ‘strings.R’ [0s/1s]   Running ‘subspace.R’ [0s/1s]   Running ‘trace.R’ [0s/1s]   Running ‘trapz.R’ [0s/1s]   Running ‘vander.R’ [0s/1s]   Running ‘wilkinson.R’ [0s/1s]
  • checking PDF version of manual ... [15s/18s] OK
  • DONE Status: OK
  • using check arguments '--no-clean-on-error '