• using R version 3.6.0 beta (2019-04-15 r76395)
  • using platform: x86_64-apple-darwin15.6.0 (64-bit)
  • using session charset: UTF-8
  • checking for file ‘popKorn/DESCRIPTION’ ... OK
  • checking extension type ... Package
  • this is package ‘popKorn’ version ‘0.3-0’
  • checking package namespace information ... OK
  • checking package dependencies ... OK
  • checking if this is a source package ... OK
  • checking if there is a namespace ... OK
  • checking for executable files ... OK
  • checking for hidden files and directories ... OK
  • checking for portable file names ... OK
  • checking for sufficient/correct file permissions ... OK
  • checking whether package ‘popKorn’ can be installed ... [3s/5s] OK
  • checking installed package size ... OK
  • checking package directory ... OK
  • checking ‘build’ directory ... OK
  • checking DESCRIPTION meta-information ... OK
  • checking top-level files ... OK
  • checking for left-over files ... OK
  • checking index information ... OK
  • checking package subdirectories ... OK
  • checking R files for non-ASCII characters ... OK
  • checking R files for syntax errors ... OK
  • checking whether the package can be loaded ... OK
  • checking whether the package can be loaded with stated dependencies ... OK
  • checking whether the package can be unloaded cleanly ... OK
  • checking whether the namespace can be loaded with stated dependencies ... OK
  • checking whether the namespace can be unloaded cleanly ... OK
  • checking loading without being on the library search path ... OK
  • checking dependencies in R code ... OK
  • checking S3 generic/method consistency ... OK
  • checking replacement functions ... OK
  • checking foreign function calls ... OK
  • checking R code for possible problems ... [3s/6s] NOTE
    asymmetricIntervals: no visible global function definition for ‘stack’
    bonferroniIntervals: no visible global function definition for ‘stack’
    bonferroniIntervals: no visible global function definition for ‘lm’
    bonferroniIntervals: no visible global function definition for
      ‘predict’
    bootstrapIntervals: no visible global function definition for ‘stack’
    component1a: no visible global function definition for ‘pnorm’
    component1b: no visible global function definition for ‘pnorm’
    component2: no visible global function definition for ‘dgamma’
    eqnForMin: no visible global function definition for ‘pnorm’
    eqnForMin: no visible global function definition for ‘integrate’
    integrand : <anonymous>: no visible global function definition for
      ‘pnorm’
    integrand: no visible global function definition for ‘dnorm’
    integrate2: no visible global function definition for ‘integrate’
    integrate2a: no visible global function definition for ‘integrate’
    integrate2b: no visible global function definition for ‘integrate’
    integrate4a: no visible global function definition for ‘integrate’
    integrate4b: no visible global function definition for ‘integrate’
    optimalCScalar2: no visible global function definition for ‘uniroot’
    optimalLambda: no visible global function definition for ‘optimise’
    optimalLambdaC: no visible global function definition for ‘pnorm’
    Undefined global functions or variables:
      dgamma dnorm integrate lm optimise pnorm predict stack uniroot
    Consider adding
      importFrom("stats", "dgamma", "dnorm", "integrate", "lm", "optimise",
                 "pnorm", "predict", "uniroot")
      importFrom("utils", "stack")
    to your NAMESPACE file.
  • checking Rd files ... OK
  • checking Rd metadata ... OK
  • checking Rd cross-references ... OK
  • checking for missing documentation entries ... OK
  • checking for code/documentation mismatches ... OK
  • checking Rd \usage sections ... OK
  • checking Rd contents ... OK
  • checking for unstated dependencies in examples ... OK
  • checking sizes of PDF files under ‘inst/doc’ ... OK
  • checking installed files from ‘inst/doc’ ... OK
  • checking files in ‘vignettes’ ... OK
  • checking examples ... [1s/3s] OK
  • checking for unstated dependencies in vignettes ... OK
  • checking package vignettes in ‘inst/doc’ ... OK
  • checking running R code from vignettes ... [13s/29s] OK
  • checking re-building of vignette outputs ... [20s/43s] OK
  • checking PDF version of manual ... OK
  • DONE
    Status: 1 NOTE