• using R version 4.1.0 (2021-05-18)
  • using platform: x86_64-apple-darwin17.0 (64-bit)
  • using session charset: UTF-8
  • checking for file ‘orderly/DESCRIPTION’ ... OK
  • this is package ‘orderly’ version ‘1.4.3’
  • package encoding: UTF-8
  • checking package namespace information ... OK
  • checking package dependencies ... OK
  • checking if this is a source package ... OK
  • checking if there is a namespace ... OK
  • checking for executable files ... OK
  • checking for hidden files and directories ... OK
  • checking for portable file names ... OK
  • checking for sufficient/correct file permissions ... OK
  • checking whether package ‘orderly’ can be installed ... [7s/7s] OK
  • checking installed package size ... OK
  • checking package directory ... OK
  • checking ‘build’ directory ... OK
  • checking DESCRIPTION meta-information ... OK
  • checking top-level files ... OK
  • checking for left-over files ... OK
  • checking index information ... OK
  • checking package subdirectories ... OK
  • checking R files for non-ASCII characters ... OK
  • checking R files for syntax errors ... OK
  • checking whether the package can be loaded ... OK
  • checking whether the package can be loaded with stated dependencies ... OK
  • checking whether the package can be unloaded cleanly ... OK
  • checking whether the namespace can be loaded with stated dependencies ... OK
  • checking whether the namespace can be unloaded cleanly ... OK
  • checking loading without being on the library search path ... OK
  • checking dependencies in R code ... OK
  • checking S3 generic/method consistency ... OK
  • checking replacement functions ... OK
  • checking foreign function calls ... OK
  • checking R code for possible problems ... [6s/6s] OK
  • checking Rd files ... [1s/1s] OK
  • checking Rd metadata ... OK
  • checking Rd cross-references ... OK
  • checking for missing documentation entries ... OK
  • checking for code/documentation mismatches ... OK
  • checking Rd \usage sections ... OK
  • checking Rd contents ... OK
  • checking for unstated dependencies in examples ... OK
  • checking installed files from ‘inst/doc’ ... OK
  • checking files in ‘vignettes’ ... OK
  • checking examples ... [17s/17s] OK
  • checking for unstated dependencies in ‘tests’ ... OK
  • checking tests ... [168s/174s] OK
      Running ‘testthat.R’ [168s/174s]
  • checking for unstated dependencies in vignettes ... OK
  • checking package vignettes in ‘inst/doc’ ... OK
  • checking running R code from vignettes ... [2s/2s] NONE
      ‘bundles.Rmd’ using ‘UTF-8’... [0s/0s] OK
      ‘changelog.Rmd’ using ‘UTF-8’... [0s/0s] OK
      ‘orderly.Rmd’ using ‘UTF-8’... [0s/0s] OK
      ‘patterns.Rmd’ using ‘UTF-8’... [0s/0s] OK
      ‘remote.Rmd’ using ‘UTF-8’... [0s/0s] OK
  • checking re-building of vignette outputs ... [8s/9s] OK
  • checking PDF version of manual ... OK
  • DONE
    Status: OK
  • using check arguments '--no-clean-on-error '