- using R version 4.2.0 (2022-04-22)
- using platform: x86_64-apple-darwin17.0 (64-bit)
- using session charset: UTF-8
- checking for file ‘normtest/DESCRIPTION’ ... OK
- this is package ‘normtest’ version ‘1.1’
- checking package namespace information ... OK
- checking package dependencies ... OK
- checking if this is a source package ... OK
- checking if there is a namespace ... OK
- checking for executable files ... OK
- checking for hidden files and directories ... OK
- checking for portable file names ... OK
- checking for sufficient/correct file permissions ... OK
- checking whether package ‘normtest’ can be installed ... [2s/2s] OK
See the install log for details.
- checking installed package size ... OK
- checking package directory ... OK
- checking DESCRIPTION meta-information ... NOTE
Malformed Description field: should contain one or more complete sentences.
- checking top-level files ... OK
- checking for left-over files ... OK
- checking index information ... OK
- checking package subdirectories ... OK
- checking R files for non-ASCII characters ... OK
- checking R files for syntax errors ... OK
- checking whether the package can be loaded ... OK
- checking whether the package can be loaded with stated dependencies ... OK
- checking whether the package can be unloaded cleanly ... OK
- checking whether the namespace can be loaded with stated dependencies ... OK
- checking whether the namespace can be unloaded cleanly ... OK
- checking loading without being on the library search path ... OK
- checking dependencies in R code ... OK
- checking S3 generic/method consistency ... OK
- checking replacement functions ... OK
- checking foreign function calls ... OK
- checking R code for possible problems ... [2s/2s] NOTE
ajb.norm.test: no visible global function definition for ‘rnorm’
frosini.norm.test: no visible global function definition for ‘var’
frosini.norm.test: no visible global function definition for ‘pnorm’
frosini.norm.test: no visible global function definition for ‘rnorm’
geary.norm.test: no visible global function definition for ‘rnorm’
hegazy1.norm.test: no visible global function definition for ‘var’
hegazy1.norm.test: no visible global function definition for ‘qnorm’
hegazy1.norm.test: no visible global function definition for ‘rnorm’
hegazy2.norm.test: no visible global function definition for ‘var’
hegazy2.norm.test: no visible global function definition for ‘qnorm’
hegazy2.norm.test: no visible global function definition for ‘rnorm’
jb.norm.test: no visible global function definition for ‘rnorm’
kurtosis.norm.test: no visible global function definition for ‘rnorm’
skewness.norm.test: no visible global function definition for ‘rnorm’
spiegelhalter.norm.test: no visible global function definition for
‘rnorm’
wb.norm.test: no visible global function definition for ‘qnorm’
wb.norm.test: no visible global function definition for ‘var’
wb.norm.test: no visible global function definition for ‘rnorm’
Undefined global functions or variables:
pnorm qnorm rnorm var
Consider adding
importFrom("stats", "pnorm", "qnorm", "rnorm", "var")
to your NAMESPACE file.
- checking Rd files ... [0s/0s] OK
- checking Rd metadata ... OK
- checking Rd cross-references ... OK
- checking for missing documentation entries ... OK
- checking for code/documentation mismatches ... OK
- checking Rd \usage sections ... OK
- checking Rd contents ... OK
- checking for unstated dependencies in examples ... OK
- checking examples ... [2s/2s] OK
- checking PDF version of manual ... OK
- DONE
Status: 2 NOTEs
- using check arguments '--no-clean-on-error '