• using R version 4.1.2 (2021-11-01)
  • using platform: x86_64-apple-darwin17.0 (64-bit)
  • using session charset: UTF-8
  • checking for file ‘mlt/DESCRIPTION’ ... OK
  • this is package ‘mlt’ version ‘1.4-1’
  • package encoding: UTF-8
  • checking package namespace information ... OK
  • checking package dependencies ... OK
  • checking if this is a source package ... OK
  • checking if there is a namespace ... OK
  • checking for executable files ... OK
  • checking for hidden files and directories ... OK
  • checking for portable file names ... OK
  • checking for sufficient/correct file permissions ... OK
  • checking whether package ‘mlt’ can be installed ... [7s/7s] OK
  • checking installed package size ... OK
  • checking package directory ... OK
  • checking DESCRIPTION meta-information ... OK
  • checking top-level files ... OK
  • checking for left-over files ... OK
  • checking index information ... OK
  • checking package subdirectories ... OK
  • checking R files for non-ASCII characters ... OK
  • checking R files for syntax errors ... OK
  • checking whether the package can be loaded ... OK
  • checking whether the package can be loaded with stated dependencies ... OK
  • checking whether the package can be unloaded cleanly ... OK
  • checking whether the namespace can be loaded with stated dependencies ... OK
  • checking whether the namespace can be unloaded cleanly ... OK
  • checking loading without being on the library search path ... OK
  • checking dependencies in R code ... OK
  • checking S3 generic/method consistency ... OK
  • checking replacement functions ... OK
  • checking foreign function calls ... OK
  • checking R code for possible problems ... [6s/6s] OK
  • checking Rd files ... [1s/1s] OK
  • checking Rd metadata ... OK
  • checking Rd cross-references ... OK
  • checking for missing documentation entries ... OK
  • checking for code/documentation mismatches ... OK
  • checking Rd \usage sections ... OK
  • checking Rd contents ... OK
  • checking for unstated dependencies in examples ... OK
  • checking line endings in shell scripts ... OK
  • checking line endings in C/C++/Fortran sources/headers ... OK
  • checking compiled code ... OK
  • checking examples ... [3s/3s] OK
  • checking for unstated dependencies in ‘tests’ ... OK
  • checking tests ... [22s/23s] OK
      Running ‘2sample.R’ [1s/1s]
      Comparing ‘2sample.Rout’ to ‘2sample.Rout.save’ ... OK
      Running ‘Cox-Ex.R’ [3s/3s]
      Comparing ‘Cox-Ex.Rout’ to ‘Cox-Ex.Rout.save’ ... OK
      Running ‘bugfixes.R’ [2s/2s]
      Comparing ‘bugfixes.Rout’ to ‘bugfixes.Rout.save’ ...31c31
    < 1.17 1.18
    ---
    > 1.17 1.19
      Running ‘distr-Ex.R’ [1s/1s]
      Running ‘dpq-Ex.R’ [5s/5s]
      Comparing ‘dpq-Ex.Rout’ to ‘dpq-Ex.Rout.save’ ... OK
      Running ‘glm-Ex.R’ [2s/2s]
      Comparing ‘glm-Ex.Rout’ to ‘glm-Ex.Rout.save’ ... OK
      Running ‘lm-Ex.R’ [2s/2s]
      Comparing ‘lm-Ex.Rout’ to ‘lm-Ex.Rout.save’ ... OK
      Running ‘polr-Ex.R’ [1s/1s]
      Comparing ‘polr-Ex.Rout’ to ‘polr-Ex.Rout.save’ ... OK
      Running ‘predict-Ex.R’ [2s/2s]
      Comparing ‘predict-Ex.Rout’ to ‘predict-Ex.Rout.save’ ... OK
      Running ‘subset.R’ [2s/2s]
      Comparing ‘subset.Rout’ to ‘subset.Rout.save’ ... OK
      Running ‘surv-Ex.R’ [1s/1s]
      Comparing ‘surv-Ex.Rout’ to ‘surv-Ex.Rout.save’ ... OK
  • checking PDF version of manual ... OK
  • DONE
    Status: OK
  • using check arguments '--no-clean-on-error '