- using R version 4.2.0 (2022-04-22)
- using platform: x86_64-apple-darwin17.0 (64-bit)
- using session charset: UTF-8
- checking for file ‘matie/DESCRIPTION’ ... OK
- checking extension type ... Package
- this is package ‘matie’ version ‘1.2’
- checking package namespace information ... OK
- checking package dependencies ... OK
- checking if this is a source package ... OK
- checking if there is a namespace ... OK
- checking for executable files ... OK
- checking for hidden files and directories ... OK
- checking for portable file names ... OK
- checking for sufficient/correct file permissions ... OK
- checking whether package ‘matie’ can be installed ... [3s/4s] OK
See the install log for details.
- checking installed package size ... OK
- checking package directory ... OK
- checking DESCRIPTION meta-information ... OK
- checking top-level files ... OK
- checking for left-over files ... OK
- checking index information ... OK
- checking package subdirectories ... OK
- checking R files for non-ASCII characters ... OK
- checking R files for syntax errors ... OK
- checking whether the package can be loaded ... OK
- checking whether the package can be loaded with stated dependencies ... OK
- checking whether the package can be unloaded cleanly ... OK
- checking whether the namespace can be loaded with stated dependencies ... OK
- checking whether the namespace can be unloaded cleanly ... OK
- checking loading without being on the library search path ... OK
- checking dependencies in R code ... OK
- checking S3 generic/method consistency ... OK
- checking replacement functions ... OK
- checking foreign function calls ... OK
- checking R code for possible problems ... [3s/3s] NOTE
agram : textPanel: no visible global function definition for ‘text’
agram : localAxis: no visible global function definition for ‘Axis’
agram : col.corrgram: no visible global function definition for
‘colorRampPalette’
agram : panel.pts: no visible global function definition for ‘plot.xy’
agram : panel.pts: no visible global function definition for
‘xy.coords’
agram : panel.pts: no visible global function definition for ‘box’
agram : panel.pie: no visible global function definition for ‘par’
agram : panel.pie: no visible global function definition for ‘lines’
agram : panel.pie: no visible global function definition for ‘polygon’
agram: no visible global function definition for ‘par’
agram: no visible global function definition for ‘cor’
agram: no visible global function definition for ‘dist’
agram: no visible global function definition for ‘strwidth’
agram: no visible global function definition for ‘mtext’
amap: no visible global function definition for ‘colorRampPalette’
amap: no visible global function definition for ‘cor’
amap: no visible global function definition for ‘as.dist’
amap: no visible global function definition for ‘hclust’
amap: no visible global function definition for ‘as.dendrogram’
fbvs : getRsq: no visible global function definition for
‘complete.cases’
fbvs : getRsq: no visible global function definition for ‘lm’
fdg: no visible global function definition for ‘complete.cases’
fdg: no visible global function definition for ‘cor’
ma: no visible global function definition for ‘complete.cases’
ma: no visible global function definition for ‘optimize’
ma.nl: no visible global function definition for ‘complete.cases’
ma.nl: no visible global function definition for ‘lm’
ma.test : pal : knownParamP: no visible global function definition for
‘pchisq’
ma.test : pal : pValue: no visible global function definition for
‘approx’
ma.test : permECDF: no visible global function definition for ‘ecdf’
pd: no visible global function definition for ‘complete.cases’
pd: no visible global function definition for ‘contour’
sbd: no visible global function definition for ‘runif’
sbd: no visible global function definition for ‘rnorm’
shpd: no visible global function definition for ‘rnorm’
shpd: no visible global function definition for ‘addmargins’
std: no visible global function definition for ‘runif’
std: no visible global function definition for ‘rnorm’
tap: no visible global function definition for ‘complete.cases’
Undefined global functions or variables:
Axis addmargins approx as.dendrogram as.dist box colorRampPalette
complete.cases contour cor dist ecdf hclust lines lm mtext optimize
par pchisq plot.xy polygon rnorm runif strwidth text xy.coords
Consider adding
importFrom("grDevices", "colorRampPalette", "xy.coords")
importFrom("graphics", "Axis", "box", "contour", "lines", "mtext",
"par", "plot.xy", "polygon", "strwidth", "text")
importFrom("stats", "addmargins", "approx", "as.dendrogram", "as.dist",
"complete.cases", "cor", "dist", "ecdf", "hclust", "lm",
"optimize", "pchisq", "rnorm", "runif")
to your NAMESPACE file.
- checking Rd files ... [0s/0s] OK
- checking Rd metadata ... OK
- checking Rd cross-references ... OK
- checking for missing documentation entries ... OK
- checking for code/documentation mismatches ... OK
- checking Rd \usage sections ... OK
- checking Rd contents ... OK
- checking for unstated dependencies in examples ... OK
- checking contents of ‘data’ directory ... OK
- checking data for non-ASCII characters ... OK
- checking data for ASCII and uncompressed saves ... OK
- checking line endings in C/C++/Fortran sources/headers ... OK
- checking compiled code ... OK
- checking examples ... [25s/25s] OK
- checking PDF version of manual ... OK
- DONE
Status: 1 NOTE
- using check arguments '--no-clean-on-error '