- using R version 4.1.0 (2021-05-18)
- using platform: x86_64-apple-darwin17.0 (64-bit)
- using session charset: UTF-8
- checking for file ‘lwgeom/DESCRIPTION’ ... OK
- this is package ‘lwgeom’ version ‘0.2-8’
- checking package namespace information ... OK
- checking package dependencies ... OK
- checking if this is a source package ... OK
- checking if there is a namespace ... OK
- checking for executable files ... OK
- checking for hidden files and directories ... OK
- checking for portable file names ... OK
- checking for sufficient/correct file permissions ... OK
- checking whether package ‘lwgeom’ can be installed ... [49s/49s] OK
- checking installed package size ... NOTE
installed size is 87.7Mb
sub-directories of 1Mb or more:
libs 87.6Mb
- checking package directory ... OK
- checking DESCRIPTION meta-information ... OK
- checking top-level files ... OK
- checking for left-over files ... OK
- checking index information ... OK
- checking package subdirectories ... OK
- checking R files for non-ASCII characters ... OK
- checking R files for syntax errors ... OK
- checking whether the package can be loaded ... OK
- checking whether the package can be loaded with stated dependencies ... OK
- checking whether the package can be unloaded cleanly ... OK
- checking whether the namespace can be loaded with stated dependencies ... OK
- checking whether the namespace can be unloaded cleanly ... OK
- checking loading without being on the library search path ... OK
- checking dependencies in R code ... OK
- checking S3 generic/method consistency ... OK
- checking replacement functions ... OK
- checking foreign function calls ... OK
- checking R code for possible problems ... [2s/2s] OK
- checking Rd files ... [0s/0s] OK
- checking Rd metadata ... OK
- checking Rd cross-references ... OK
- checking for missing documentation entries ... OK
- checking for code/documentation mismatches ... OK
- checking Rd \usage sections ... OK
- checking Rd contents ... OK
- checking for unstated dependencies in examples ... OK
- checking line endings in shell scripts ... OK
- checking line endings in C/C++/Fortran sources/headers ... OK
- checking line endings in Makefiles ... OK
- checking compilation flags in Makevars ... OK
- checking for GNU extensions in Makefiles ... OK
- checking for portable use of $(BLAS_LIBS) and $(LAPACK_LIBS) ... OK
- checking use of PKG_*FLAGS in Makefiles ... OK
- checking compiled code ... OK
- checking examples ... [2s/2s] OK
- checking for unstated dependencies in ‘tests’ ... OK
- checking tests ... [7s/7s] OK
Running ‘azimuth.R’ [1s/1s]
Comparing ‘azimuth.Rout’ to ‘azimuth.Rout.save’ ... OK
Running ‘dist.R’ [1s/1s]
Comparing ‘dist.Rout’ to ‘dist.Rout.save’ ... OK
Running ‘geod.R’ [1s/1s]
Comparing ‘geod.Rout’ to ‘geod.Rout.save’ ... OK
Running ‘perimeter.R’ [1s/1s]
Comparing ‘perimeter.Rout’ to ‘perimeter.Rout.save’ ...9c9
< [1] 176214.9 149265.4 199586.8 375137.8 263512.6
---
> [1] 176215.7 149267.4 199588.2 375140.4 263513.1
12c12
< [1] 176214.9 149265.4 199586.8 375137.8 263512.6
---
> [1] 176215.7 149267.4 199588.2 375140.4 263513.1
Running ‘testthat.R’ [2s/2s]
Comparing ‘testthat.Rout’ to ‘testthat.Rout.save’ ...9,10c9
< • On Mac (1)
< • empty test (2)
---
> • empty test (3)
Running ‘twkb.R’ [1s/1s]
Comparing ‘twkb.Rout’ to ‘twkb.Rout.save’ ... OK
- checking PDF version of manual ... OK
- DONE
Status: 1 NOTE
- using check arguments '--no-clean-on-error '