- using R version 4.2.0 (2022-04-22)
- using platform: x86_64-apple-darwin17.0 (64-bit)
- using session charset: UTF-8
- checking for file ‘lshorth/DESCRIPTION’ ... OK
- checking extension type ... Package
- this is package ‘lshorth’ version ‘0.1-6’
- package encoding: UTF-8
- checking package namespace information ... OK
- checking package dependencies ... OK
- checking if this is a source package ... OK
- checking if there is a namespace ... OK
- checking for executable files ... OK
- checking for hidden files and directories ... OK
- checking for portable file names ... OK
- checking for sufficient/correct file permissions ... OK
- checking whether package ‘lshorth’ can be installed ... [2s/2s] OK
See the install log for details.
- checking installed package size ... OK
- checking package directory ... OK
- checking DESCRIPTION meta-information ... OK
- checking top-level files ... OK
- checking for left-over files ... OK
- checking index information ... OK
- checking package subdirectories ... OK
- checking R files for non-ASCII characters ... OK
- checking R files for syntax errors ... OK
- checking whether the package can be loaded ... OK
- checking whether the package can be loaded with stated dependencies ... OK
- checking whether the package can be unloaded cleanly ... OK
- checking whether the namespace can be loaded with stated dependencies ... OK
- checking whether the namespace can be unloaded cleanly ... OK
- checking loading without being on the library search path ... OK
- checking dependencies in R code ... OK
- checking S3 generic/method consistency ... OK
- checking replacement functions ... OK
- checking foreign function calls ... OK
- checking R code for possible problems ... [2s/2s] NOTE
legend.lshorth: no visible global function definition for ‘legend’
legend.lshorth: no visible global function definition for ‘strwidth’
legend.lshorth: no visible global function definition for ‘text’
plot.lshorth: no visible global function definition for ‘plot.new’
plot.lshorth: no visible global function definition for ‘plot.window’
plot.lshorth: no visible global function definition for ‘axis’
plot.lshorth: no visible global function definition for ‘title’
plot.lshorth: no visible global function definition for ‘box’
plot.lshorth: no visible global function definition for ‘lines’
plot.lshorth: no visible global function definition for ‘legend’
plot.lshorth: no visible global function definition for ‘strwidth’
plot.lshorth: no visible global function definition for ‘text’
Undefined global functions or variables:
axis box legend lines plot.new plot.window strwidth text title
Consider adding
importFrom("graphics", "axis", "box", "legend", "lines", "plot.new",
"plot.window", "strwidth", "text", "title")
to your NAMESPACE file.
- checking Rd files ... [0s/0s] OK
- checking Rd metadata ... OK
- checking Rd cross-references ... OK
- checking for missing documentation entries ... OK
- checking for code/documentation mismatches ... OK
- checking Rd \usage sections ... OK
- checking Rd contents ... OK
- checking for unstated dependencies in examples ... OK
- checking sizes of PDF files under ‘inst/doc’ ... OK
- checking installed files from ‘inst/doc’ ... OK
- checking examples ... [0s/0s] OK
- checking PDF version of manual ... OK
- DONE
Status: 1 NOTE
- using check arguments '--no-clean-on-error '