- using R version 4.4.0 (2024-04-24)
 
- using platform: x86_64-apple-darwin20
 
- R was compiled by
    Apple clang version 14.0.0 (clang-1400.0.29.202)
    GNU Fortran (GCC) 12.2.0
 
- running under: macOS Ventura 13.3.1
 
- using session charset: UTF-8
 
- checking for file ‘lmeresampler/DESCRIPTION’ ... OK
 
- this is package ‘lmeresampler’ version ‘0.2.4’
 
- package encoding: UTF-8
 
- checking package namespace information ... OK
 
- checking package dependencies ... OK
 
- checking if this is a source package ... OK
 
- checking if there is a namespace ... OK
 
- checking for executable files ... OK
 
- checking for hidden files and directories ... OK
 
- checking for portable file names ... OK
 
- checking for sufficient/correct file permissions ... OK
 
- checking whether package ‘lmeresampler’ can be installed ... [8s/8s] OK
See the install log for details.
 
- checking installed package size ... OK
 
- checking package directory ... OK
 
- checking ‘build’ directory ... OK
 
- checking DESCRIPTION meta-information ... OK
 
- checking top-level files ... OK
 
- checking for left-over files ... OK
 
- checking index information ... OK
 
- checking package subdirectories ... OK
 
- checking code files for non-ASCII characters ... OK
 
- checking R files for syntax errors ... OK
 
- checking whether the package can be loaded ... [2s/2s] OK
 
- checking whether the package can be loaded with stated dependencies ... [2s/2s] OK
 
- checking whether the package can be unloaded cleanly ... [2s/2s] OK
 
- checking whether the namespace can be loaded with stated dependencies ... [2s/2s] OK
 
- checking whether the namespace can be unloaded cleanly ... [2s/2s] OK
 
- checking loading without being on the library search path ... [2s/2s] OK
 
- checking dependencies in R code ... OK
 
- checking S3 generic/method consistency ... OK
 
- checking replacement functions ... OK
 
- checking foreign function calls ... OK
 
- checking R code for possible problems ... [7s/7s] OK
 
- checking Rd files ... [0s/0s] NOTE
checkRd: (-1) bootstrap_pvals.Rd:78: Lost braces; missing escapes or markup?
    78 | $(n_{extreme} + 1) / (B + 1)$.
       |     ^
 
- checking Rd metadata ... OK
 
- checking Rd cross-references ... OK
 
- checking for missing documentation entries ... OK
 
- checking for code/documentation mismatches ... OK
 
- checking Rd \usage sections ... OK
 
- checking Rd contents ... OK
 
- checking for unstated dependencies in examples ... OK
 
- checking contents of ‘data’ directory ... OK
 
- checking data for non-ASCII characters ... [0s/0s] OK
 
- checking LazyData ... OK
 
- checking data for ASCII and uncompressed saves ... OK
 
- checking installed files from ‘inst/doc’ ... OK
 
- checking files in ‘vignettes’ ... OK
 
- checking examples ... [3s/3s] OK
 
- checking for unstated dependencies in ‘tests’ ... OK
 
- checking tests ... [5s/6s] OK
  Running ‘testthat.R’ [4s/6s]
 
- checking for unstated dependencies in vignettes ... OK
 
- checking package vignettes ... OK
 
- checking re-building of vignette outputs ... [10s/12s] OK
 
- checking PDF version of manual ... [6s/7s] OK
 
- DONE
Status: 1 NOTE
 
- using check arguments '--no-clean-on-error '