- using R version 4.3.0 beta (2023-04-08 r84203)
- using platform: x86_64-apple-darwin20 (64-bit)
- R was compiled by
Apple clang version 14.0.3 (clang-1403.0.22.14.1)
GNU Fortran (GCC) 12.2.0
- running under: macOS Ventura 13.3
- using session charset: UTF-8
- checking for file ‘hyper2/DESCRIPTION’ ... OK
- checking extension type ... Package
- this is package ‘hyper2’ version ‘3.0-0’
- checking package namespace information ... OK
- checking package dependencies ... OK
- checking if this is a source package ... OK
- checking if there is a namespace ... OK
- checking for executable files ... OK
- checking for hidden files and directories ... OK
- checking for portable file names ... OK
- checking for sufficient/correct file permissions ... OK
- checking whether package ‘hyper2’ can be installed ... [22s/31s] OK
See the install log for details.
- used C compiler: ‘Apple clang version 14.0.3 (clang-1403.0.22.14.1)’
- used C++ compiler: ‘Apple clang version 14.0.3 (clang-1403.0.22.14.1)’
- used SDK: ‘MacOSX11.3.sdk’
- checking installed package size ... OK
- checking package directory ... OK
- checking ‘build’ directory ... OK
- checking DESCRIPTION meta-information ... OK
- checking top-level files ... OK
- checking for left-over files ... OK
- checking index information ... OK
- checking package subdirectories ... OK
- checking R files for non-ASCII characters ... OK
- checking R files for syntax errors ... OK
- checking whether the package can be loaded ... [2s/2s] OK
- checking whether the package can be loaded with stated dependencies ... [2s/2s] OK
- checking whether the package can be unloaded cleanly ... [2s/2s] OK
- checking whether the namespace can be loaded with stated dependencies ... [2s/2s] OK
- checking whether the namespace can be unloaded cleanly ... [2s/2s] OK
- checking loading without being on the library search path ... [2s/2s] OK
- checking dependencies in R code ... OK
- checking S3 generic/method consistency ... OK
- checking replacement functions ... OK
- checking foreign function calls ... OK
- checking R code for possible problems ... [7s/9s] OK
- checking Rd files ... [3s/3s] OK
- checking Rd metadata ... OK
- checking Rd cross-references ... OK
- checking for missing documentation entries ... OK
- checking for code/documentation mismatches ... OK
- checking Rd \usage sections ... OK
- checking Rd contents ... OK
- checking for unstated dependencies in examples ... OK
- checking contents of ‘data’ directory ... OK
- checking data for non-ASCII characters ... [2s/2s] OK
- checking LazyData ... OK
- checking data for ASCII and uncompressed saves ... OK
- checking line endings in C/C++/Fortran sources/headers ... OK
- checking compiled code ... OK
- checking sizes of PDF files under ‘inst/doc’ ... OK
- checking installed files from ‘inst/doc’ ... OK
- checking files in ‘vignettes’ ... OK
- checking examples ... [52s/73s] OK
- checking for unstated dependencies in vignettes ... OK
- checking package vignettes in ‘inst/doc’ ... OK
- checking running R code from vignettes ... [36s/49s] OK
‘hyper3.Rmd’ using ‘UTF-8’... [0s/0s] OK
‘icons.Rmd’ using ‘UTF-8’... [0s/0s] OK
‘hyper2.Rnw’... [19s/26s] OK
‘integration.Rnw’... [16s/23s] OK
- checking re-building of vignette outputs ... [208s/288s] NOTE
Error(s) in re-building vignettes:
--- re-building ‘hyper3.Rmd’ using rmarkdown
Pandoc is required to build R Markdown vignettes but not available. Please make sure it is installed.
--- finished re-building ‘hyper3.Rmd’
--- re-building ‘icons.Rmd’ using rmarkdown
Pandoc is required to build R Markdown vignettes but not available. Please make sure it is installed.
--- finished re-building ‘icons.Rmd’
--- re-building ‘hyper2.Rnw’ using Sweave
Loading required package: magrittr
Loading required package: cubature
Attaching package: ‘hyper2’
The following object is masked from ‘package:stats’:
weights
Warning in print.hyper2(res$value) : powers have nonzero sum
Warning in print.hyper2(res$value) : powers have nonzero sum
Warning in print.hyper2(res$value) : powers have nonzero sum
Warning in print.hyper2(res$value) : powers have nonzero sum
Error: processing vignette 'hyper2.Rnw' failed with diagnostics:
Running 'texi2dvi' on 'hyper2.tex' failed.
LaTeX errors:
! LaTeX Error: File `dsfont.sty' not found.
Type X to quit or <RETURN> to proceed,
or enter new name. (Default extension: sty)
! Emergency stop.
<read *>
l.10 \usepackage
{bbm}^^M
! ==> Fatal error occurred, no output PDF file produced!
--- failed re-building ‘hyper2.Rnw’
--- re-building ‘integration.Rnw’ using Sweave
Attaching package: ‘hyper2’
The following object is masked from ‘package:stats’:
weights
Warning in print.hyper2(res$value) : powers have nonzero sum
Error: processing vignette 'integration.Rnw' failed with diagnostics:
Running 'texi2dvi' on 'integration.tex' failed.
LaTeX errors:
! LaTeX Error: File `dsfont.sty' not found.
Type X to quit or <RETURN> to proceed,
or enter new name. (Default extension: sty)
! Emergency stop.
<read *>
l.4 \usepackage
{bbm}^^M
! ==> Fatal error occurred, no output PDF file produced!
--- failed re-building ‘integration.Rnw’
SUMMARY: processing the following files failed:
‘hyper2.Rnw’ ‘integration.Rnw’
Error: Vignette re-building failed.
Execution halted
- checking PDF version of manual ... [7s/9s] OK
- DONE
Status: 1 NOTE
- using check arguments '--no-clean-on-error '