- using R version 4.2.0 beta (2022-04-07 r82126)
- using platform: x86_64-apple-darwin17.0 (64-bit)
- using session charset: UTF-8
- checking for file ‘gset/DESCRIPTION’ ... OK
- checking extension type ... Package
- this is package ‘gset’ version ‘1.1.0’
- checking package namespace information ... OK
- checking package dependencies ... OK
- checking if this is a source package ... OK
- checking if there is a namespace ... OK
- checking for executable files ... OK
- checking for hidden files and directories ... OK
- checking for portable file names ... OK
- checking for sufficient/correct file permissions ... OK
- checking whether package ‘gset’ can be installed ... [10s/11s] OK
- checking installed package size ... OK
- checking package directory ... OK
- checking DESCRIPTION meta-information ... OK
- checking top-level files ... OK
- checking for left-over files ... OK
- checking index information ... OK
- checking package subdirectories ... OK
- checking R files for non-ASCII characters ... OK
- checking R files for syntax errors ... OK
- checking whether the package can be loaded ... OK
- checking whether the package can be loaded with stated dependencies ... OK
- checking whether the package can be unloaded cleanly ... OK
- checking whether the namespace can be loaded with stated dependencies ... OK
- checking whether the namespace can be unloaded cleanly ... OK
- checking loading without being on the library search path ... OK
- checking dependencies in R code ... OK
- checking S3 generic/method consistency ... OK
- checking replacement functions ... OK
- checking foreign function calls ... OK
- checking R code for possible problems ... [8s/9s] NOTE
binding: no visible global function definition for ‘rnorm’
binding: no visible binding for global variable ‘var’
binding: no visible global function definition for ‘uniroot’
equivonly: no visible global function definition for ‘rnorm’
equivonly: no visible binding for global variable ‘var’
equivonly: no visible global function definition for ‘uniroot’
figureE: no visible global function definition for ‘rgb’
figureEF: no visible global function definition for ‘rgb’
nfix : f: no visible global function definition for ‘pnorm’
nfix : f: no visible global function definition for ‘qnorm’
nfix: no visible global function definition for ‘uniroot’
nonbinding: no visible global function definition for ‘rnorm’
nonbinding: no visible binding for global variable ‘var’
nonbinding: no visible global function definition for ‘uniroot’
oc: no visible global function definition for ‘rnorm’
oc: no visible global function definition for ‘var’
Undefined global functions or variables:
pnorm qnorm rgb rnorm uniroot var
Consider adding
importFrom("grDevices", "rgb")
importFrom("stats", "pnorm", "qnorm", "rnorm", "uniroot", "var")
to your NAMESPACE file.
- checking Rd files ... [1s/1s] OK
- checking Rd metadata ... OK
- checking Rd cross-references ... OK
- checking for missing documentation entries ... OK
- checking for code/documentation mismatches ... OK
- checking Rd \usage sections ... OK
- checking Rd contents ... OK
- checking for unstated dependencies in examples ... OK
- checking examples ... [3s/3s] OK
- checking for unstated dependencies in ‘tests’ ... OK
- checking tests ... [7s/8s] OK
Running ‘eg1.R’ [3s/3s]
Running ‘eg2.R’ [3s/4s]
- checking PDF version of manual ... OK
- DONE
Status: 1 NOTE
- using check arguments '--no-clean-on-error '