• using R version 4.1.2 (2021-11-01)
  • using platform: x86_64-apple-darwin17.0 (64-bit)
  • using session charset: UTF-8
  • checking for file ‘glmm/DESCRIPTION’ ... OK
  • checking extension type ... Package
  • this is package ‘glmm’ version ‘1.4.3’
  • checking package namespace information ... OK
  • checking package dependencies ... OK
  • checking if this is a source package ... OK
  • checking if there is a namespace ... OK
  • checking for executable files ... OK
  • checking for hidden files and directories ... OK
  • checking for portable file names ... OK
  • checking for sufficient/correct file permissions ... OK
  • checking whether package ‘glmm’ can be installed ... [8s/8s] OK
  • checking installed package size ... OK
  • checking package directory ... OK
  • checking ‘build’ directory ... OK
  • checking DESCRIPTION meta-information ... OK
  • checking top-level files ... OK
  • checking for left-over files ... OK
  • checking index information ... OK
  • checking package subdirectories ... OK
  • checking R files for non-ASCII characters ... OK
  • checking R files for syntax errors ... OK
  • checking whether the package can be loaded ... OK
  • checking whether the package can be loaded with stated dependencies ... OK
  • checking whether the package can be unloaded cleanly ... OK
  • checking whether the namespace can be loaded with stated dependencies ... OK
  • checking whether the namespace can be unloaded cleanly ... OK
  • checking loading without being on the library search path ... OK
  • checking dependencies in R code ... OK
  • checking S3 generic/method consistency ... OK
  • checking replacement functions ... OK
  • checking foreign function calls ... OK
  • checking R code for possible problems ... [5s/5s] OK
  • checking Rd files ... [1s/1s] OK
  • checking Rd metadata ... OK
  • checking Rd cross-references ... OK
  • checking for missing documentation entries ... OK
  • checking for code/documentation mismatches ... OK
  • checking Rd \usage sections ... OK
  • checking Rd contents ... OK
  • checking for unstated dependencies in examples ... OK
  • checking contents of ‘data’ directory ... OK
  • checking data for non-ASCII characters ... OK
  • checking data for ASCII and uncompressed saves ... OK
  • checking line endings in C/C++/Fortran sources/headers ... OK
  • checking line endings in Makefiles ... OK
  • checking compilation flags in Makevars ... OK
  • checking for GNU extensions in Makefiles ... OK
  • checking for portable use of $(BLAS_LIBS) and $(LAPACK_LIBS) ... OK
  • checking use of PKG_*FLAGS in Makefiles ... OK
  • checking compiled code ... OK
  • checking sizes of PDF files under ‘inst/doc’ ... OK
  • checking installed files from ‘inst/doc’ ... OK
  • checking files in ‘vignettes’ ... OK
  • checking examples ... [9s/20s] OK
  • checking for unstated dependencies in ‘tests’ ... OK
  • checking tests ... [36s/55s] OK
      Running ‘BinBerTest.R’ [5s/6s]
      Comparing ‘BinBerTest.Rout’ to ‘BinBerTest.Rout.save’ ... OK
      Running ‘binomfamtest.R’ [1s/1s]
      Comparing ‘binomfamtest.Rout’ to ‘binomfamtest.Rout.save’ ... OK
      Running ‘cfamilies.R’ [1s/1s]
      Comparing ‘cfamilies.Rout’ to ‘cfamilies.Rout.save’ ... OK
      Running ‘coreTest.R’ [3s/6s]
      Comparing ‘coreTest.Rout’ to ‘coreTest.Rout.save’ ... OK
      Running ‘distRandtests.R’ [1s/1s]
      Comparing ‘distRandtests.Rout’ to ‘distRandtests.Rout.save’ ... OK
      Running ‘elTest.R’ [3s/4s]
      Comparing ‘elTest.Rout’ to ‘elTest.Rout.save’ ... OK
      Running ‘families.R’ [1s/1s]
      Comparing ‘families.Rout’ to ‘families.Rout.save’ ... OK
      Running ‘familiesFiniteDiffs.R’ [1s/1s]
      Comparing ‘familiesFiniteDiffs.Rout’ to ‘familiesFiniteDiffs.Rout.save’ ... OK
      Running ‘matvecmult.R’ [1s/1s]
      Comparing ‘matvecmult.Rout’ to ‘matvecmult.Rout.save’ ... OK
      Running ‘mcseTest.R’ [4s/6s]
      Comparing ‘mcseTest.Rout’ to ‘mcseTest.Rout.save’ ... OK
      Running ‘objfunTest.R’ [3s/5s]
      Comparing ‘objfunTest.Rout’ to ‘objfunTest.Rout.save’ ... OK
      Running ‘salamFiniteDiffs.R’ [3s/8s]
      Comparing ‘salamFiniteDiffs.Rout’ to ‘salamFiniteDiffs.Rout.save’ ... OK
      Running ‘testpiecesBH.R’ [3s/4s]
      Comparing ‘testpiecesBH.Rout’ to ‘testpiecesBH.Rout.save’ ... OK
      Running ‘testt.R’ [1s/1s]
      Comparing ‘testt.Rout’ to ‘testt.Rout.save’ ... OK
      Running ‘weightsTest.R’ [4s/7s]
      Comparing ‘weightsTest.Rout’ to ‘weightsTest.Rout.save’ ... OK
  • checking for unstated dependencies in vignettes ... OK
  • checking package vignettes in ‘inst/doc’ ... OK
  • checking running R code from vignettes ... [0s/0s] NONE
      ‘vignettes.Rnw’... [0s/0s] OK
  • checking re-building of vignette outputs ... [3s/3s] OK
  • checking PDF version of manual ... OK
  • DONE
    Status: OK
  • using check arguments '--no-clean-on-error '