• using R version 4.4.0 (2024-04-24)
  • using platform: x86_64-apple-darwin20
  • R was compiled by     Apple clang version 14.0.0 (clang-1400.0.29.202)     GNU Fortran (GCC) 12.2.0
  • running under: macOS Ventura 13.3.1
  • using session charset: UTF-8
  • checking for file ‘generalCorr/DESCRIPTION’ ... OK
  • checking extension type ... Package
  • this is package ‘generalCorr’ version ‘1.2.6’
  • package encoding: UTF-8
  • checking package namespace information ... OK
  • checking package dependencies ... OK
  • checking if this is a source package ... OK
  • checking if there is a namespace ... OK
  • checking for executable files ... OK
  • checking for hidden files and directories ... OK
  • checking for portable file names ... OK
  • checking for sufficient/correct file permissions ... OK
  • checking whether package ‘generalCorr’ can be installed ... [10s/10s] OK See the install log for details.
  • checking installed package size ... OK
  • checking package directory ... OK
  • checking ‘build’ directory ... OK
  • checking DESCRIPTION meta-information ... OK
  • checking top-level files ... OK
  • checking for left-over files ... OK
  • checking index information ... OK
  • checking package subdirectories ... OK
  • checking code files for non-ASCII characters ... OK
  • checking R files for syntax errors ... OK
  • checking whether the package can be loaded ... [2s/2s] OK
  • checking whether the package can be loaded with stated dependencies ... [2s/2s] OK
  • checking whether the package can be unloaded cleanly ... [2s/2s] OK
  • checking whether the namespace can be loaded with stated dependencies ... [2s/2s] OK
  • checking whether the namespace can be unloaded cleanly ... [2s/2s] OK
  • checking loading without being on the library search path ... [2s/3s] OK
  • checking dependencies in R code ... OK
  • checking S3 generic/method consistency ... OK
  • checking replacement functions ... OK
  • checking foreign function calls ... OK
  • checking R code for possible problems ... [11s/12s] OK
  • checking Rd files ... [2s/2s] NOTE checkRd: (-1) EuroCrime.Rd:18: Lost braces; missing escapes or markup?     18 | \item\code{Country} {Name of the European country}        | ^ checkRd: (-1) EuroCrime.Rd:19: Lost braces; missing escapes or markup?     19 | \item\code{crim} {Per capita crime rate}        | ^ checkRd: (-1) EuroCrime.Rd:20: Lost braces; missing escapes or markup?     20 | \item\code{off} {Per capita deployment of police officers}        | ^ checkRd: (-1) bootGcLC.Rd:26: Lost braces; missing escapes or markup?     26 | out {is n999 X 3 matrix for 3 outputs of GcauseX12 resampled}        | ^ checkRd: (-1) bootGcRsq.Rd:26: Lost braces; missing escapes or markup?     26 | out {is n999 X 3 matrix for 3 outputs of GcauseX12 resampled}        | ^ checkRd: (-1) bootPairs.Rd:18-22: Lost braces     18 | out {When \code{mtx} has p columns, \code{out}        | ^ checkRd: (-1) bootPairs0.Rd:18-22: Lost braces     18 | out {When \code{mtx} has p columns, \code{out}        | ^ checkRd: (-1) bootQuantile.Rd:20-28: Lost braces     20 | CI {k quantiles evaluated at probs as a matrix with k rows        | ^ checkRd: (-1) bootSign.Rd:17-25: Lost braces     17 | sgn {When \code{mtx} has p columns, \code{sgn}        | ^ checkRd: (-1) bootSignPcent.Rd:17-25: Lost braces     17 | sgn {When \code{mtx} has p columns, \code{sgn}        | ^ checkRd: (-1) bootSummary.Rd:16-21: Lost braces     16 | summ {summary output from the (n999 by p-1) matrix        | ^ checkRd: (-1) bootSummary2.Rd:16-21: Lost braces     16 | summ {a summary matrix (n999 by p-1) having usual parameters        | ^ checkRd: (-1) causeSum2Panel.Rd:94: Lost braces     94 | fminmax=function(x){min(x)==max(x)}.        | ^ checkRd: (-1) causeSum2Panel.Rd:106: Lost braces    106 | We identify degeneracy using "fminmax=function(x){min(x)==max(x)}"        | ^ checkRd: (-1) probSign.Rd:17-25: Lost braces     17 | sgn {When \code{mtx} has p columns, \code{sgn}        | ^ checkRd: (-1) somePairs.Rd:39: Lost braces; missing escapes or markup?     39 | {(typ=2)}        | ^ checkRd: (-1) somePairs.Rd:44: Lost braces; missing escapes or markup?     44 | {(typ=3)}        | ^ checkRd: (-1) somePairs2.Rd:43: Lost braces; missing escapes or markup?     43 | {(typ=2)}        | ^ checkRd: (-1) somePairs2.Rd:48: Lost braces; missing escapes or markup?     48 | {(typ=3)}        | ^
  • checking Rd metadata ... OK
  • checking Rd cross-references ... OK
  • checking for missing documentation entries ... OK
  • checking for code/documentation mismatches ... OK
  • checking Rd \usage sections ... OK
  • checking Rd contents ... OK
  • checking for unstated dependencies in examples ... OK
  • checking contents of ‘data’ directory ... OK
  • checking data for non-ASCII characters ... [0s/0s] OK
  • checking LazyData ... OK
  • checking data for ASCII and uncompressed saves ... OK
  • checking sizes of PDF files under ‘inst/doc’ ... OK
  • checking installed files from ‘inst/doc’ ... OK
  • checking files in ‘vignettes’ ... OK
  • checking examples ... [25s/26s] OK
  • checking for unstated dependencies in vignettes ... OK
  • checking package vignettes ... OK
  • checking re-building of vignette outputs ... [11s/11s] OK
  • checking PDF version of manual ... [10s/10s] OK
  • DONE Status: 1 NOTE
  • using check arguments '--no-clean-on-error '