- using R version 4.1.2 (2021-11-01)
- using platform: x86_64-apple-darwin17.0 (64-bit)
- using session charset: UTF-8
- checking for file ‘fitdistrplus/DESCRIPTION’ ... OK
- this is package ‘fitdistrplus’ version ‘1.1-8’
- package encoding: UTF-8
- checking package namespace information ... OK
- checking package dependencies ... OK
- checking if this is a source package ... OK
- checking if there is a namespace ... OK
- checking for executable files ... OK
- checking for hidden files and directories ... OK
- checking for portable file names ... OK
- checking for sufficient/correct file permissions ... OK
- checking whether package ‘fitdistrplus’ can be installed ... [8s/9s] OK
- checking installed package size ... OK
- checking package directory ... OK
- checking ‘build’ directory ... OK
- checking DESCRIPTION meta-information ... OK
- checking top-level files ... OK
- checking for left-over files ... OK
- checking index information ... OK
- checking package subdirectories ... OK
- checking R files for non-ASCII characters ... OK
- checking R files for syntax errors ... OK
- checking whether the package can be loaded ... OK
- checking whether the package can be loaded with stated dependencies ... OK
- checking whether the package can be unloaded cleanly ... OK
- checking whether the namespace can be loaded with stated dependencies ... OK
- checking whether the namespace can be unloaded cleanly ... OK
- checking loading without being on the library search path ... OK
- checking dependencies in R code ... OK
- checking S3 generic/method consistency ... OK
- checking replacement functions ... OK
- checking foreign function calls ... OK
- checking R code for possible problems ... [10s/10s] OK
- checking Rd files ... [1s/1s] OK
- checking Rd metadata ... OK
- checking Rd cross-references ... OK
- checking for missing documentation entries ... OK
- checking for code/documentation mismatches ... OK
- checking Rd \usage sections ... OK
- checking Rd contents ... OK
- checking for unstated dependencies in examples ... OK
- checking contents of ‘data’ directory ... OK
- checking data for non-ASCII characters ... OK
- checking data for ASCII and uncompressed saves ... OK
- checking sizes of PDF files under ‘inst/doc’ ... OK
- checking installed files from ‘inst/doc’ ... OK
- checking files in ‘vignettes’ ... OK
- checking examples ... [10s/11s] OK
- checking for unstated dependencies in ‘tests’ ... OK
- checking tests ... [107s/116s] OK
Running ‘t-CIcdfplot.R’ [7s/7s]
Running ‘t-Surv2fitdistcens.R’ [1s/1s]
Running ‘t-bootdist.R’ [10s/18s]
Running ‘t-bootdistcens.R’ [2s/2s]
Running ‘t-cdfcomp.R’ [2s/2s]
Running ‘t-cdfcompcens.R’ [2s/2s]
Running ‘t-cvg-algo.R’ [0s/0s]
Running ‘t-denscomp.R’ [2s/2s]
Running ‘t-descdist.R’ [1s/1s]
Running ‘t-detectbound.R’ [1s/1s]
Running ‘t-fitbench.R’ [0s/0s]
Running ‘t-fitdist-customoptim.R’ [1s/1s]
Running ‘t-fitdist.R’ [7s/7s]
Running ‘t-fitdistcens.R’ [2s/2s]
Running ‘t-gen-max-spacing-estim.R’ [1s/1s]
Running ‘t-getparam.R’ [1s/1s]
Running ‘t-gofstat.R’ [1s/1s]
Running ‘t-init-actuar.R’ [0s/0s]
Running ‘t-llplot.R’ [7s/7s]
Running ‘t-lnL-surf.R’ [1s/1s]
Running ‘t-logLik-vcov-coef.R’ [1s/1s]
Running ‘t-manageparam.R’ [1s/1s]
Running ‘t-mgedist.R’ [1s/1s]
Running ‘t-mledist-cens.R’ [1s/1s]
Running ‘t-mledist-nocens.R’ [7s/7s]
Running ‘t-mledist-paramsupport.R’ [1s/1s]
Running ‘t-mmedist.R’ [8s/8s]
Running ‘t-msedist.R’ [2s/2s]
Running ‘t-parallel.R’ [0s/0s]
Running ‘t-plotdist.R’ [1s/1s]
Running ‘t-plotdistcens.R’ [2s/2s]
Running ‘t-ppcomp.R’ [2s/2s]
Running ‘t-ppcompcens.R’ [2s/2s]
Running ‘t-prefit.R’ [1s/1s]
Running ‘t-qme-discrete.R’ [4s/4s]
Running ‘t-qmedist.R’ [3s/3s]
Running ‘t-qqcomp.R’ [3s/3s]
Running ‘t-qqcompcens.R’ [3s/3s]
Running ‘t-quantiledist.R’ [1s/1s]
Running ‘t-startfixarg-overall.R’ [2s/2s]
Running ‘t-startingvalues.R’ [1s/1s]
Running ‘t-util-npmle.R’ [1s/1s]
Running ‘t-util-npsurv-mainfunction.R’ [1s/1s]
Running ‘t-util-testdensity.R’ [1s/1s]
Running ‘t-weird-ppcomp-cens.R’ [1s/1s]
Running ‘t-weird-qqcomp-cens.R’ [1s/1s]
- checking for unstated dependencies in vignettes ... OK
- checking package vignettes in ‘inst/doc’ ... OK
- checking running R code from vignettes ... [10s/10s] OK
‘FAQ.Rmd’ using ‘UTF-8’... [0s/0s] OK
‘Optimalgo.Rmd’ using ‘UTF-8’... [0s/0s] OK
‘paper2JSS.Rnw’ using ‘UTF-8’... [9s/9s] OK
- checking re-building of vignette outputs ... [41s/46s] OK
- checking PDF version of manual ... OK
- DONE
Status: OK
- using check arguments '--no-clean-on-error '