• using R version 3.6.0 beta (2019-04-15 r76395)
  • using platform: x86_64-apple-darwin15.6.0 (64-bit)
  • using session charset: UTF-8
  • checking for file ‘factorQR/DESCRIPTION’ ... OK
  • this is package ‘factorQR’ version ‘0.1-4’
  • checking package namespace information ... OK
  • checking package dependencies ... OK
  • checking if this is a source package ... OK
  • checking if there is a namespace ... OK
  • checking for executable files ... OK
  • checking for hidden files and directories ... OK
  • checking for portable file names ... OK
  • checking for sufficient/correct file permissions ... OK
  • checking whether package ‘factorQR’ can be installed ... [8s/16s] OK
  • checking installed package size ... OK
  • checking package directory ... OK
  • checking DESCRIPTION meta-information ... OK
  • checking top-level files ... OK
  • checking for left-over files ... OK
  • checking index information ... OK
  • checking package subdirectories ... OK
  • checking R files for non-ASCII characters ... OK
  • checking R files for syntax errors ... OK
  • checking whether the package can be loaded ... OK
  • checking whether the package can be loaded with stated dependencies ... OK
  • checking whether the package can be unloaded cleanly ... OK
  • checking whether the namespace can be loaded with stated dependencies ... OK
  • checking whether the namespace can be unloaded cleanly ... OK
  • checking loading without being on the library search path ... OK
  • checking dependencies in R code ... OK
  • checking S3 generic/method consistency ... OK
  • checking replacement functions ... OK
  • checking foreign function calls ... OK
  • checking R code for possible problems ... [5s/10s] NOTE
    bayesQR : captureFormula: warning in match.call(expand = FALSE):
      partial argument match of 'expand' to 'expand.dots'
    bayesQR: warning in matrix(beta, nc = 1): partial argument match of
      'nc' to 'ncol'
    factorQR : captureFormula: warning in match.call(expand = FALSE):
      partial argument match of 'expand' to 'expand.dots'
    factorQR: warning in matrix(rnorm(nObs * nFact), nr = nObs): partial
      argument match of 'nr' to 'nrow'
    factorQR: warning in matrix(0, nr = nFact + xBetLen + numManInd, nc =
      nFact + xBetLen + numManInd): partial argument match of 'nr' to
      'nrow'
    factorQR: warning in matrix(0, nr = nFact + xBetLen + numManInd, nc =
      nFact + xBetLen + numManInd): partial argument match of 'nc' to
      'ncol'
    factorQR: warning in matrix(0, nr = nFact + xBetLen + 1, nc = nFact +
      xBetLen + 1): partial argument match of 'nr' to 'nrow'
    factorQR: warning in matrix(0, nr = nFact + xBetLen + 1, nc = nFact +
      xBetLen + 1): partial argument match of 'nc' to 'ncol'
    factorQR: warning in matrix(0, nr = xLength, nc = nFact): partial
      argument match of 'nr' to 'nrow'
    factorQR: warning in matrix(0, nr = xLength, nc = nFact): partial
      argument match of 'nc' to 'ncol'
    makeData: warning in matrix(0, nr = xLength, nc = nFact): partial
      argument match of 'nr' to 'nrow'
    makeData: warning in matrix(0, nr = xLength, nc = nFact): partial
      argument match of 'nc' to 'ncol'
    makeData: warning in matrix(rnorm(N * nFact), nc = nFact): partial
      argument match of 'nc' to 'ncol'
    makeData: warning in matrix(rnorm(N * xLength), nc = xLength): partial
      argument match of 'nc' to 'ncol'
    plot.bayesQR: warning in matrix(sampledVals, nc = 1): partial argument
      match of 'nc' to 'ncol'
    plot.factorQR: warning in matrix(sampledVals, nc = 1): partial argument
      match of 'nc' to 'ncol'
    bayesQR: no visible global function definition for ‘model.response’
    bayesQR: no visible global function definition for
      ‘model.matrix.default’
    factorQR: no visible global function definition for ‘model.response’
    factorQR: no visible global function definition for
      ‘model.matrix.default’
    factorQR: no visible binding for global variable ‘sd’
    factorQR: no visible global function definition for ‘rnorm’
    makeData : ralap: no visible global function definition for ‘runif’
    makeData: no visible global function definition for ‘rnorm’
    print.summary.bayesQR: no visible global function definition for
      ‘printCoefmat’
    print.summary.factorQR: no visible global function definition for
      ‘printCoefmat’
    summary.bayesQR: no visible binding for global variable ‘sd’
    summary.bayesQR: no visible binding for global variable ‘quantile’
    summary.factorQR: no visible binding for global variable ‘sd’
    summary.factorQR: no visible binding for global variable ‘quantile’
    Undefined global functions or variables:
      model.matrix.default model.response printCoefmat quantile rnorm runif
      sd
    Consider adding
      importFrom("stats", "model.matrix.default", "model.response",
                 "printCoefmat", "quantile", "rnorm", "runif", "sd")
    to your NAMESPACE file.
  • checking Rd files ... OK
  • checking Rd metadata ... OK
  • checking Rd cross-references ... OK
  • checking for missing documentation entries ... OK
  • checking for code/documentation mismatches ... OK
  • checking Rd \usage sections ... OK
  • checking Rd contents ... OK
  • checking for unstated dependencies in examples ... OK
  • checking line endings in C/C++/Fortran sources/headers ... OK
  • checking line endings in Makefiles ... OK
  • checking compilation flags in Makevars ... OK
  • checking for GNU extensions in Makefiles ... OK
  • checking for portable use of $(BLAS_LIBS) and $(LAPACK_LIBS) ... OK
  • checking compiled code ... OK
  • checking examples ... NONE
  • checking PDF version of manual ... OK
  • DONE
    Status: 1 NOTE