- using R version 4.2.0 (2022-04-22)
- using platform: x86_64-apple-darwin17.0 (64-bit)
- using session charset: UTF-8
- checking for file ‘exactmeta/DESCRIPTION’ ... OK
- checking extension type ... Package
- this is package ‘exactmeta’ version ‘1.0-2’
- checking package namespace information ... OK
- checking package dependencies ... OK
- checking if this is a source package ... OK
- checking if there is a namespace ... OK
- checking for executable files ... OK
- checking for hidden files and directories ... OK
- checking for portable file names ... OK
- checking for sufficient/correct file permissions ... OK
- checking whether package ‘exactmeta’ can be installed ... [2s/2s] OK
See the install log for details.
- checking installed package size ... OK
- checking package directory ... OK
- checking DESCRIPTION meta-information ... OK
- checking top-level files ... OK
- checking for left-over files ... OK
- checking index information ... OK
- checking package subdirectories ... OK
- checking R files for non-ASCII characters ... OK
- checking R files for syntax errors ... OK
- checking whether the package can be loaded ... OK
- checking whether the package can be loaded with stated dependencies ... OK
- checking whether the package can be unloaded cleanly ... OK
- checking whether the namespace can be loaded with stated dependencies ... OK
- checking whether the namespace can be unloaded cleanly ... OK
- checking loading without being on the library search path ... OK
- checking dependencies in R code ... OK
- checking S3 generic/method consistency ... OK
- checking replacement functions ... OK
- checking foreign function calls ... OK
- checking R code for possible problems ... [4s/4s] NOTE
binom.confint : eq1: no visible global function definition for ‘pbinom’
binom.confint : eq1: no visible global function definition for ‘dbinom’
binom.confint: no visible global function definition for ‘uniroot’
binom.confint : eq2: no visible global function definition for ‘pbinom’
binom.confint : eq2: no visible global function definition for ‘dbinom’
ci.RateR: no visible global function definition for ‘pbinom’
ci.RateR: no visible global function definition for ‘dbinom’
meta.RateD: no visible global function definition for ‘qnorm’
meta.RateD: no visible global function definition for ‘pchisq’
meta.RateD: no visible global function definition for ‘runif’
meta.RateD: no visible global function definition for ‘quantile’
meta.RateR: no visible global function definition for ‘qnorm’
meta.RateR: no visible global function definition for ‘pchisq’
meta.RateR: no visible global function definition for ‘runif’
meta.RateR: no visible global function definition for ‘quantile’
meta.RiskD: no visible global function definition for ‘qnorm’
meta.RiskD: no visible global function definition for ‘pchisq’
meta.RiskD: no visible global function definition for ‘runif’
meta.RiskD: no visible global function definition for ‘quantile’
meta.RiskR: no visible global function definition for ‘qnorm’
meta.RiskR: no visible global function definition for ‘pchisq’
meta.RiskR: no visible global function definition for ‘runif’
meta.RiskR: no visible global function definition for ‘quantile’
poisson.confint : f: no visible global function definition for ‘ppois’
poisson.confint : f: no visible global function definition for ‘dpois’
poisson.confint: no visible global function definition for ‘uniroot’
poisson.confint : f1: no visible global function definition for ‘ppois’
poisson.confint : f1: no visible global function definition for ‘dpois’
poisson.confint : f2: no visible global function definition for ‘ppois’
poisson.confint : f2: no visible global function definition for ‘dpois’
prateD.exact: no visible global function definition for ‘qpois’
prateD.exact: no visible global function definition for ‘dpois’
prateR.exact: no visible global function definition for ‘pbinom’
prateR.exact: no visible global function definition for ‘dbinom’
priskD.exact: no visible global function definition for ‘dbinom’
priskR.exact: no visible global function definition for ‘dbinom’
Undefined global functions or variables:
dbinom dpois pbinom pchisq ppois qnorm qpois quantile runif uniroot
Consider adding
importFrom("stats", "dbinom", "dpois", "pbinom", "pchisq", "ppois",
"qnorm", "qpois", "quantile", "runif", "uniroot")
to your NAMESPACE file.
- checking Rd files ... [0s/0s] OK
- checking Rd metadata ... OK
- checking Rd cross-references ... OK
- checking for missing documentation entries ... OK
- checking for code/documentation mismatches ... OK
- checking Rd \usage sections ... OK
- checking Rd contents ... OK
- checking for unstated dependencies in examples ... OK
- checking examples ... [2s/2s] OK
- checking PDF version of manual ... OK
- DONE
Status: 1 NOTE
- using check arguments '--no-clean-on-error '