• using R version 4.4.0 (2024-04-24)
  • using platform: x86_64-apple-darwin20
  • R was compiled by     Apple clang version 14.0.0 (clang-1400.0.29.202)     GNU Fortran (GCC) 12.2.0
  • running under: macOS Ventura 13.3.1
  • using session charset: UTF-8
  • checking for file ‘dyn.log/DESCRIPTION’ ... OK
  • checking extension type ... Package
  • this is package ‘dyn.log’ version ‘0.4.0’
  • package encoding: UTF-8
  • checking package namespace information ... OK
  • checking package dependencies ... OK
  • checking if this is a source package ... OK
  • checking if there is a namespace ... OK
  • checking for executable files ... OK
  • checking for hidden files and directories ... OK
  • checking for portable file names ... OK
  • checking for sufficient/correct file permissions ... OK
  • checking whether package ‘dyn.log’ can be installed ... [3s/3s] OK See the install log for details.
  • checking installed package size ... OK
  • checking package directory ... OK
  • checking ‘build’ directory ... OK
  • checking DESCRIPTION meta-information ... OK
  • checking top-level files ... OK
  • checking for left-over files ... OK
  • checking index information ... OK
  • checking package subdirectories ... OK
  • checking code files for non-ASCII characters ... OK
  • checking R files for syntax errors ... OK
  • checking whether the package can be loaded ... [0s/0s] OK
  • checking whether the package can be loaded with stated dependencies ... [0s/0s] OK
  • checking whether the package can be unloaded cleanly ... [0s/0s] OK
  • checking whether the namespace can be loaded with stated dependencies ... [0s/0s] OK
  • checking whether the namespace can be unloaded cleanly ... [0s/0s] OK
  • checking loading without being on the library search path ... [0s/0s] OK
  • checking whether startup messages can be suppressed ... [0s/0s] OK
  • checking dependencies in R code ... OK
  • checking S3 generic/method consistency ... OK
  • checking replacement functions ... OK
  • checking foreign function calls ... OK
  • checking R code for possible problems ... [2s/2s] OK
  • checking Rd files ... [0s/0s] NOTE checkRd: (-1) new_log_level.Rd:19: Lost braces; missing escapes or markup?     19 | \item{log_style}{is a {crayon::style()} that will colorize        | ^ checkRd: (-1) new_log_level.Rd:22: Lost braces; missing escapes or markup?     22 | \item{msg_style}{is a {crayon::style()} style that will gray scale the        | ^ checkRd: (-1) sys_context.Rd:22: Lost braces; missing escapes or markup?     22 | \item{"sysname"} : {The operating system name.}        | ^ checkRd: (-1) sys_context.Rd:23: Lost braces; missing escapes or markup?     23 | \item{"release"} : {The OS release.}        | ^ checkRd: (-1) sys_context.Rd:24: Lost braces; missing escapes or markup?     24 | \item{"version"} : {The OS version.}        | ^ checkRd: (-1) sys_context.Rd:25: Lost braces; missing escapes or markup?     25 | \item{"nodename"} : {A name by which the machine is known on the network (if any).}        | ^ checkRd: (-1) sys_context.Rd:26: Lost braces; missing escapes or markup?     26 | \item{"machine"} : {A concise description of the hardware, often the CPU type.}        | ^ checkRd: (-1) sys_context.Rd:27: Lost braces; missing escapes or markup?     27 | \item{"login"} : {The user's login name, or "unknown" if it cannot be ascertained.}        | ^ checkRd: (-1) sys_context.Rd:28: Lost braces; missing escapes or markup?     28 | \item{"user"} : {The name of the real user ID, or "unknown" if it cannot be ascertained.}        | ^ checkRd: (-1) sys_context.Rd:29: Lost braces; missing escapes or markup?     29 | \item{"r-ver"} : {R Version in (major).(minor) format.}        | ^
  • checking Rd metadata ... OK
  • checking Rd cross-references ... OK
  • checking for missing documentation entries ... OK
  • checking for code/documentation mismatches ... OK
  • checking Rd \usage sections ... OK
  • checking Rd contents ... OK
  • checking for unstated dependencies in examples ... OK
  • checking installed files from ‘inst/doc’ ... OK
  • checking files in ‘vignettes’ ... OK
  • checking examples ... [1s/1s] OK
  • checking for unstated dependencies in ‘tests’ ... OK
  • checking tests ... [3s/3s] OK   Running ‘testthat.R’ [3s/3s]
  • checking for unstated dependencies in vignettes ... OK
  • checking package vignettes ... OK
  • checking re-building of vignette outputs ... [17s/24s] OK
  • checking PDF version of manual ... [7s/7s] OK
  • DONE Status: 1 NOTE
  • using check arguments '--no-clean-on-error '