• using R version 4.4.0 (2024-04-24)
  • using platform: x86_64-apple-darwin20
  • R was compiled by     Apple clang version 14.0.0 (clang-1400.0.29.202)     GNU Fortran (GCC) 12.2.0
  • running under: macOS Ventura 13.3.1
  • using session charset: UTF-8
  • checking for file ‘discrtr/DESCRIPTION’ ... OK
  • this is package ‘discrtr’ version ‘0.0.1’
  • package encoding: UTF-8
  • checking package namespace information ... OK
  • checking package dependencies ... OK
  • checking if this is a source package ... OK
  • checking if there is a namespace ... OK
  • checking for executable files ... OK
  • checking for hidden files and directories ... OK
  • checking for portable file names ... OK
  • checking for sufficient/correct file permissions ... OK
  • checking whether package ‘discrtr’ can be installed ... [2s/2s] OK See the install log for details.
  • checking installed package size ... OK
  • checking package directory ... OK
  • checking DESCRIPTION meta-information ... OK
  • checking top-level files ... OK
  • checking for left-over files ... OK
  • checking index information ... OK
  • checking package subdirectories ... OK
  • checking code files for non-ASCII characters ... OK
  • checking R files for syntax errors ... OK
  • checking whether the package can be loaded ... [0s/0s] OK
  • checking whether the package can be loaded with stated dependencies ... [0s/0s] OK
  • checking whether the package can be unloaded cleanly ... [0s/0s] OK
  • checking whether the namespace can be loaded with stated dependencies ... [0s/0s] OK
  • checking whether the namespace can be unloaded cleanly ... [0s/0s] OK
  • checking loading without being on the library search path ... [0s/0s] OK
  • checking dependencies in R code ... OK
  • checking S3 generic/method consistency ... OK
  • checking replacement functions ... OK
  • checking foreign function calls ... OK
  • checking R code for possible problems ... [1s/1s] OK
  • checking Rd files ... [0s/0s] NOTE checkRd: (-1) mc_attitudes.Rd:52: Lost braces     52 | P\'{a}ez, A. (2013). Mapping travelers’ attitudes: does space matter?. Journal of Transport Geography, 26, 117-125. (https://doi.org/10.1016/j.jtrangeo.2012.09.002)        | ^ checkRd: (-1) mc_commute.csv.Rd:49: Lost braces     49 | Whalen, K. E., P\'{a}ez, A., & Carrasco, J. A. (2013). Mode choice of university students commuting to school and the role of active travel. Journal of Transport Geography, 31, 132-142. (https://doi.org/10.1016/j.jtrangeo.2013.06.008)        | ^ checkRd: (-1) mc_commute_long.Rd:74: Lost braces     74 | Whalen, K. E., P\'{a}ez, A., & Carrasco, J. A. (2013). Mode choice of university students commuting to school and the role of active travel. Journal of Transport Geography, 31, 132-142. (https://doi.org/10.1016/j.jtrangeo.2013.06.008)        | ^ checkRd: (-1) mc_commute_wide.Rd:87: Lost braces     87 | Whalen, K. E., P\'{a}ez, A., & Carrasco, J. A. (2013). Mode choice of university students commuting to school and the role of active travel. Journal of Transport Geography, 31, 132-142. (https://doi.org/10.1016/j.jtrangeo.2013.06.008)        | ^ checkRd: (-1) mc_modality.Rd:50: Lost braces     50 | Lavery, T., P\'{a}ez, A., & Kanaroglou, P.S. (2013). Driving out of choices: An investigation of transport modality in a university sample. Transportation Research Part A: Policy and Practice, 57:37-46 (https://doi.org/10.1016/j.tra.2013.09.010)        | ^
  • checking Rd metadata ... OK
  • checking Rd cross-references ... OK
  • checking for missing documentation entries ... OK
  • checking for code/documentation mismatches ... OK
  • checking Rd \usage sections ... OK
  • checking Rd contents ... OK
  • checking for unstated dependencies in examples ... OK
  • checking contents of ‘data’ directory ... OK
  • checking data for non-ASCII characters ... [0s/0s] OK
  • checking LazyData ... OK
  • checking data for ASCII and uncompressed saves ... OK
  • checking examples ... [1s/2s] OK
  • checking PDF version of manual ... [6s/7s] OK
  • DONE Status: 1 NOTE
  • using check arguments '--no-clean-on-error '