- using R version 4.2.0 (2022-04-22)
- using platform: x86_64-apple-darwin17.0 (64-bit)
- using session charset: UTF-8
- checking for file ‘diffdepprop/DESCRIPTION’ ... OK
- checking extension type ... Package
- this is package ‘diffdepprop’ version ‘0.1-9’
- checking package namespace information ... OK
- checking package dependencies ... OK
- checking if this is a source package ... OK
- checking if there is a namespace ... OK
- checking for executable files ... OK
- checking for hidden files and directories ... OK
- checking for portable file names ... OK
- checking for sufficient/correct file permissions ... OK
- checking whether package ‘diffdepprop’ can be installed ... [2s/2s] OK
See the install log for details.
- checking installed package size ... OK
- checking package directory ... OK
- checking DESCRIPTION meta-information ... OK
- checking top-level files ... OK
- checking for left-over files ... OK
- checking index information ... OK
- checking package subdirectories ... OK
- checking R files for non-ASCII characters ... OK
- checking R files for syntax errors ... OK
- checking whether the package can be loaded ... OK
- checking whether the package can be loaded with stated dependencies ... OK
- checking whether the package can be unloaded cleanly ... OK
- checking whether the namespace can be loaded with stated dependencies ... OK
- checking whether the namespace can be unloaded cleanly ... OK
- checking loading without being on the library search path ... OK
- checking dependencies in R code ... NOTE
Packages in Depends field not imported from:
‘PropCIs’ ‘gee’ ‘rootSolve’
These packages need to be imported from (in the NAMESPACE file)
for when this namespace is loaded but not attached.
- checking S3 generic/method consistency ... OK
- checking replacement functions ... OK
- checking foreign function calls ... OK
- checking R code for possible problems ... [3s/3s] NOTE
diffpci: no visible global function definition for ‘diffpropci.Wald.mp’
diffpci: no visible global function definition for ‘diffpropci.mp’
diffpci: no visible global function definition for ‘scoreci.mp’
exact.cond : exactci: no visible global function definition for ‘qf’
exact.midp : binom.midp : f.low: no visible global function definition
for ‘dbinom’
exact.midp : binom.midp : f.low: no visible global function definition
for ‘pbinom’
exact.midp : binom.midp : f.up: no visible global function definition
for ‘dbinom’
exact.midp : binom.midp : f.up: no visible global function definition
for ‘pbinom’
exact.midp : binom.midp : one.ci: no visible global function definition
for ‘uniroot’
np.nv: no visible global function definition for ‘qnorm’
np.t: no visible global function definition for ‘qt’
uncond: no visible global function definition for ‘qnorm’
wald.cc: no visible global function definition for ‘qnorm’
wilson: no visible global function definition for ‘qnorm’
wilson: no visible global function definition for ‘uniroot.all’
wilson.cc: no visible global function definition for ‘qnorm’
wilson.cc: no visible global function definition for ‘uniroot.all’
wilson.phi: no visible global function definition for ‘qnorm’
wilson.phi: no visible global function definition for ‘uniroot.all’
Undefined global functions or variables:
dbinom diffpropci.Wald.mp diffpropci.mp pbinom qf qnorm qt scoreci.mp
uniroot uniroot.all
Consider adding
importFrom("stats", "dbinom", "pbinom", "qf", "qnorm", "qt", "uniroot")
to your NAMESPACE file.
- checking Rd files ... [0s/0s] OK
- checking Rd metadata ... OK
- checking Rd cross-references ... OK
- checking for missing documentation entries ... OK
- checking for code/documentation mismatches ... OK
- checking Rd \usage sections ... OK
- checking Rd contents ... OK
- checking for unstated dependencies in examples ... OK
- checking examples ... [0s/0s] OK
- checking PDF version of manual ... OK
- DONE
Status: 2 NOTEs
- using check arguments '--no-clean-on-error '