• using R version 4.4.1 (2024-06-14)
  • using platform: x86_64-apple-darwin20
  • R was compiled by     Apple clang version 14.0.0 (clang-1400.0.29.202)     GNU Fortran (GCC) 12.2.0
  • running under: macOS Ventura 13.3.1
  • using session charset: UTF-8
  • checking for file ‘datapackage/DESCRIPTION’ ... OK
  • checking extension type ... Package
  • this is package ‘datapackage’ version ‘0.2.3’
  • package encoding: UTF-8
  • checking package namespace information ... OK
  • checking package dependencies ... OK
  • checking if this is a source package ... OK
  • checking if there is a namespace ... OK
  • checking for executable files ... OK
  • checking for hidden files and directories ... OK
  • checking for portable file names ... OK
  • checking for sufficient/correct file permissions ... OK
  • checking whether package ‘datapackage’ can be installed ... [3s/4s] OK See the install log for details.
  • checking installed package size ... OK
  • checking package directory ... OK
  • checking ‘build’ directory ... OK
  • checking DESCRIPTION meta-information ... OK
  • checking top-level files ... OK
  • checking for left-over files ... OK
  • checking index information ... OK
  • checking package subdirectories ... OK
  • checking code files for non-ASCII characters ... OK
  • checking R files for syntax errors ... OK
  • checking whether the package can be loaded ... [0s/0s] OK
  • checking whether the package can be loaded with stated dependencies ... [0s/0s] OK
  • checking whether the package can be unloaded cleanly ... [0s/0s] OK
  • checking whether the namespace can be loaded with stated dependencies ... [0s/0s] OK
  • checking whether the namespace can be unloaded cleanly ... [0s/0s] OK
  • checking loading without being on the library search path ... [0s/0s] OK
  • checking dependencies in R code ... OK
  • checking S3 generic/method consistency ... OK
  • checking replacement functions ... OK
  • checking foreign function calls ... OK
  • checking R code for possible problems ... [5s/5s] OK
  • checking Rd files ... [0s/0s] OK
  • checking Rd metadata ... OK
  • checking Rd cross-references ... OK
  • checking for missing documentation entries ... OK
  • checking for code/documentation mismatches ... OK
  • checking Rd \usage sections ... OK
  • checking Rd contents ... OK
  • checking for unstated dependencies in examples ... OK
  • checking installed files from ‘inst/doc’ ... OK
  • checking files in ‘vignettes’ ... OK
  • checking examples ... [0s/1s] OK
  • checking for unstated dependencies in ‘tests’ ... OK
  • checking tests ... [11s/13s] OK   Running ‘bareNumber.R’ [0s/0s]   Running ‘boolean.R’ [0s/0s]   Running ‘check_constraint.R’ [0s/0s]   Running ‘csv_read_field_order.R’ [0s/0s]   Running ‘csv_reader.R’ [0s/0s]   Running ‘csv_writer.R’ [1s/1s]   Running ‘date.R’ [0s/0s]   Running ‘datetime.R’ [0s/0s]   Running ‘dp_apply_schema_check_fields.R’ [0s/0s]   Running ‘dp_check_dataresource.R’ [0s/0s]   Running ‘dp_check_field.R’ [0s/0s]   Running ‘dp_generate_dataresource.R’ [0s/0s]   Running ‘dp_generate_fielddescriptor.R’ [0s/0s]   Running ‘dp_save_as_datapackage.R’ [0s/0s]   Running ‘dp_to_code.R’ [0s/0s]   Running ‘dp_to_factor.R’ [0s/0s]   Running ‘dp_write_data.R’ [1s/1s]   Running ‘dp_write_data2.R’ [0s/0s]   Running ‘example01.R’ [0s/0s]   Running ‘fixed_width.R’ [1s/1s]   Running ‘helpers.R’ [0s/0s]   Running ‘integer.R’ [0s/0s]   Running ‘new_dataresource.R’ [0s/0s]   Running ‘number.R’ [0s/0s]   Running ‘properties_fielddescriptor.R’ [0s/0s]   Running ‘string.R’ [0s/0s]   Running ‘time.R’ [0s/1s]   Running ‘to_json.R’ [0s/1s]   Running ‘yaml.R’ [0s/0s]   Running ‘year.R’ [0s/0s]   Running ‘yearmonth.R’ [0s/0s]
  • checking for unstated dependencies in vignettes ... OK
  • checking package vignettes ... OK
  • checking re-building of vignette outputs ... [23s/54s] OK
  • checking PDF version of manual ... [7s/7s] OK
  • DONE Status: OK
  • using check arguments '--no-clean-on-error '