• using R version 3.6.0 beta (2019-04-15 r76395)
  • using platform: x86_64-apple-darwin15.6.0 (64-bit)
  • using session charset: UTF-8
  • checking for file ‘datacheck/DESCRIPTION’ ... OK
  • checking extension type ... Package
  • this is package ‘datacheck’ version ‘1.2.2’
  • package encoding: UTF-8
  • checking package namespace information ... OK
  • checking package dependencies ... OK
  • checking if this is a source package ... OK
  • checking if there is a namespace ... OK
  • checking for executable files ... OK
  • checking for hidden files and directories ... OK
  • checking for portable file names ... OK
  • checking for sufficient/correct file permissions ... OK
  • checking whether package ‘datacheck’ can be installed ... [3s/6s] OK
  • checking installed package size ... OK
  • checking package directory ... OK
  • checking DESCRIPTION meta-information ... OK
  • checking top-level files ... OK
  • checking for left-over files ... OK
  • checking index information ... OK
  • checking package subdirectories ... OK
  • checking R files for non-ASCII characters ... OK
  • checking R files for syntax errors ... OK
  • checking whether the package can be loaded ... OK
  • checking whether the package can be loaded with stated dependencies ... OK
  • checking whether the package can be unloaded cleanly ... OK
  • checking whether the namespace can be loaded with stated dependencies ... OK
  • checking whether the namespace can be unloaded cleanly ... OK
  • checking loading without being on the library search path ... OK
  • checking dependencies in R code ... OK
  • checking S3 generic/method consistency ... OK
  • checking replacement functions ... OK
  • checking foreign function calls ... OK
  • checking R code for possible problems ... [5s/9s] NOTE
    datadict.profile: no visible global function definition for
      ‘txtProgressBar’
    datadict.profile: no visible global function definition for
      ‘setTxtProgressBar’
    datadict_profile: no visible global function definition for
      ‘txtProgressBar’
    datadict_profile: no visible global function definition for
      ‘setTxtProgressBar’
    heatmap.quality: no visible global function definition for
      ‘colorRampPalette’
    heatmap.quality: no visible global function definition for ‘heatmap’
    heatmap_quality: no visible global function definition for
      ‘colorRampPalette’
    heatmap_quality: no visible global function definition for ‘heatmap’
    is.oneOf: no visible global function definition for ‘read.csv’
    is_one_of: no visible global function definition for ‘read.csv’
    pkg.version: no visible global function definition for ‘citation’
    pkg_version: no visible global function definition for ‘citation’
    ruleCoverage: no visible global function definition for ‘dotchart’
    ruleCoverage: no visible global function definition for ‘abline’
    rule_coverage: no visible global function definition for ‘dotchart’
    rule_coverage: no visible global function definition for ‘abline’
    scoreSum: no visible global function definition for ‘plot’
    score_sum: no visible global function definition for ‘plot’
    shortSummary: no visible global function definition for ‘sd’
    short_summary: no visible global function definition for ‘sd’
    Undefined global functions or variables:
      abline citation colorRampPalette dotchart heatmap plot read.csv sd
      setTxtProgressBar txtProgressBar
    Consider adding
      importFrom("grDevices", "colorRampPalette")
      importFrom("graphics", "abline", "dotchart", "plot")
      importFrom("stats", "heatmap", "sd")
      importFrom("utils", "citation", "read.csv", "setTxtProgressBar",
                 "txtProgressBar")
    to your NAMESPACE file.
  • checking Rd files ... OK
  • checking Rd metadata ... OK
  • checking Rd cross-references ... OK
  • checking for missing documentation entries ... OK
  • checking for code/documentation mismatches ... OK
  • checking Rd \usage sections ... OK
  • checking Rd contents ... OK
  • checking for unstated dependencies in examples ... OK
  • checking sizes of PDF files under ‘inst/doc’ ... OK
  • checking installed files from ‘inst/doc’ ... OK
  • checking files in ‘vignettes’ ... NOTE
    Package has no Sweave vignette sources and no VignetteBuilder field.
  • checking examples ... [1s/2s] OK
  • checking PDF version of manual ... OK
  • DONE
    Status: 2 NOTEs