• using R version 4.1.2 (2021-11-01)
  • using platform: x86_64-apple-darwin17.0 (64-bit)
  • using session charset: UTF-8
  • checking for file ‘bdsmatrix/DESCRIPTION’ ... OK
  • this is package ‘bdsmatrix’ version ‘1.3-6’
  • checking package namespace information ... OK
  • checking package dependencies ... OK
  • checking if this is a source package ... OK
  • checking if there is a namespace ... OK
  • checking for executable files ... OK
  • checking for hidden files and directories ... OK
  • checking for portable file names ... OK
  • checking for sufficient/correct file permissions ... OK
  • checking whether package ‘bdsmatrix’ can be installed ... [8s/11s] OK
  • checking installed package size ... OK
  • checking package directory ... OK
  • checking DESCRIPTION meta-information ... OK
  • checking top-level files ... OK
  • checking for left-over files ... OK
  • checking index information ... OK
  • checking package subdirectories ... OK
  • checking R files for non-ASCII characters ... OK
  • checking R files for syntax errors ... OK
  • checking whether the package can be loaded ... OK
  • checking whether the package can be loaded with stated dependencies ... OK
  • checking whether the package can be unloaded cleanly ... OK
  • checking whether the namespace can be loaded with stated dependencies ... OK
  • checking whether the namespace can be unloaded cleanly ... OK
  • checking loading without being on the library search path ... OK
  • checking dependencies in R code ... OK
  • checking S3 generic/method consistency ... OK
  • checking replacement functions ... OK
  • checking foreign function calls ... OK
  • checking R code for possible problems ... [3s/3s] OK
  • checking Rd files ... [0s/0s] OK
  • checking Rd metadata ... OK
  • checking Rd cross-references ... OK
  • checking for missing documentation entries ... OK
  • checking for code/documentation mismatches ... OK
  • checking Rd \usage sections ... OK
  • checking Rd contents ... OK
  • checking for unstated dependencies in examples ... OK
  • checking line endings in C/C++/Fortran sources/headers ... OK
  • checking compiled code ... OK
  • checking examples ... [0s/0s] OK
  • checking for unstated dependencies in ‘tests’ ... OK
  • checking tests ... [6s/6s] OK
      Running ‘backsolvetest.R’ [0s/0s]
      Comparing ‘backsolvetest.Rout’ to ‘backsolvetest.Rout.save’ ... OK
      Running ‘bdstest.R’ [0s/0s]
      Comparing ‘bdstest.Rout’ to ‘bdstest.Rout.save’ ... OK
      Running ‘chtest.R’ [0s/1s]
      Comparing ‘chtest.Rout’ to ‘chtest.Rout.save’ ... OK
      Running ‘chtest2.R’ [0s/0s]
      Comparing ‘chtest2.Rout’ to ‘chtest2.Rout.save’ ... OK
      Running ‘corner.R’ [0s/0s]
      Comparing ‘corner.Rout’ to ‘corner.Rout.save’ ... OK
      Running ‘corner2.R’ [0s/0s]
      Comparing ‘corner2.Rout’ to ‘corner2.Rout.save’ ... OK
      Running ‘gtest.R’ [0s/0s]
      Comparing ‘gtest.Rout’ to ‘gtest.Rout.save’ ... OK
      Running ‘gtest2.R’ [0s/0s]
      Comparing ‘gtest2.Rout’ to ‘gtest2.Rout.save’ ... OK
      Running ‘matrix.R’ [0s/0s]
      Comparing ‘matrix.Rout’ to ‘matrix.Rout.save’ ... OK
      Running ‘nullr.R’ [0s/0s]
      Comparing ‘nullr.Rout’ to ‘nullr.Rout.save’ ... OK
      Running ‘reconcile.R’ [0s/0s]
      Comparing ‘reconcile.Rout’ to ‘reconcile.Rout.save’ ... OK
      Running ‘tinv.R’ [0s/0s]
      Comparing ‘tinv.Rout’ to ‘tinv.Rout.save’ ... OK
  • checking PDF version of manual ... OK
  • DONE
    Status: OK
  • using check arguments '--no-clean-on-error '